Workbook
Name Prix: Prix_CECPA!$A$2:$B$9
Name Prix_Titre: Prix_CECPA!$A$2:$B$2
Name Rend: Rendements_CECPA!$A$2:$B$9
Name Rend_Titre: Rendements_CECPA!$A$2:$B$2

Sheet GuideUtilisation
A1: OBJECTIFS
A2: Cet outil documente plusieurs types de marges bénéficiaires attendus selon la rotation employée. Cet outil se veut une aide à la décision pour le producteur agricole.
A4: DESCRIPTION DES ONGLETS
A5: Saisie | B5: Cet onglet permet de modifier les données initiales de l'entreprise agricole, notamment quant aux prix et aux rendements des différentes cultures. Le producteur peut donc inscrire ses propres prix et le rendement attendu dans les colonnes "Vos prix" et "Vos rendements". Si votre exploitation ne cultive pas cette production, ne rien inscrire dans la colonne "Vos rendements". L'outil considère des gains agronomiques liés à la diversification de la rotation et à l'ajout d'une culture de couverture. Vous pouvez inscrire les gains agronomiques attendus liés à la diversification de la rotation dans la colonne "Vos gains agronomiques". De plus, nous considérons que la culture de couverture permet de compenser pour la fertilisation azotée. Vous pouvez inscrire la compensation azotée attendue dans vos champs. Enfin, cet outil prend en compte que les gains provenant de la diversification de la rotation et de l'ajout de culture de couverture n'est pas instantanné. Ainsi, l'outil permet d'ajuster la portion des gains agronomiques attendus selon le cycle de rotation.
A6: Maïs-grain / Canola / Soya / Orge / Avoine / Blé d'automne / Blé de printemps / Sarrasin | B6: Cet onglet présente les modèles utilisés pour générer les coûts de production des cultures. L'utilisateur peut modifier les coûts pour refléter sa situation. Si un poste de dépenses ou de revenus n'est pas modifié par l'utilisateur, le modèle sélectionnera la donnée inscrite dans la région centrale ou périphérique.
A7: Gains agronomiques | B7: Cet onglet présente les différents gains agronomiques attendus lors de la diversification de la rotation et l'ajout de cultures de couverture. Ces données devront être mises à jour périodiquement.
A8: Cultures de couverture | B8: Cet onglet présente les coûts relatifs à la cultures de couverture.
A9: ASRA_Calculs | B9: Le modèle retient les données de l'ASRA pour calculer le prix minimal attendu par le producteur agricole. Les données de cet onglet devront être mis à jour annuellement.
A10: Rendements_CECPA / Prix_CECPA | B10: Le modèle retient les données initiales du CECPA quant au prix et au rendement des différentes cultures. Ces données pourraient être mises à jour périodiquement.
A11: Intermédiaire_Prod-Résultats | B11: Cet onglet lie les données inscrites par l'usager et les résultats.
A12: Résultats détaillés | B12: Cet onglet présente les résultats des marges bénéficiaires brutes, des marges monétaires et des marges nettes pour différentes rotations. Les résultats sont divisés entre ceux obtenus par le modèle (bleu) et ceux incorporant les modifications effectuées par l'usager (orange).
A13: Résultats sommaires | B13: Cet onglet présente les résultats des marges bénéficiaires brutes, des marges monétaires et des marges nettes selon les différents cycles de rotations. Les résultats sont divisés entre ceux obtenus par le modèle (bleu) et ceux incorporant les modifications effectuées par l'usager (orange). Il s'agit d'une récapitulation des résultats.
A15: LIMITES
A16: Il est à noter que cet outil est un outil d'aide à la décision et il doit être utiliser uniquement en ce sens. Avant de prendre des décisions de production, nous recommandons à ce que le producteur consulte son agronome-conseil pour prendre en compte tous les facteurs spécifiques à son entreprise agricole. Toutes décisions prises par les producteurs à l'aide de cet outil sont la responsabilité du producteur agricole et n'engage en aucun cas le groupe Concertation Grains Québec et les auteurs de l'outil.
A18: CONTACTS
A19: Marlène Thiboutot, Concertation Grains Québec.
A20: marlenethiboutot@concertationgrainsquebec.ca
A22: CONCEPTEURS
A23: Le présent outil est la propriété de Lota D. Tamini et de Philippe Leriche. Les propriétaires autorisent le groupe Concertation Grains Québec à diffuser l'outil, mais n'autorisent pas la commercialisation de celui-ci. Toutes autres diffusions ou commercialisations ne peuvent se faire sans l'autorisation écrites de ses propriétaires.

Sheet Saisies
A1: RÉGION | B1: Périphérique
A2: TYPE DE RÉGIE | B2: Conventionnelle
A4: RENDEMENT
A5: Le modèle utilise les rendements ci-dessous pour la région sélectionnée. Si les rendements présents ne reflètent pas ceux observés sur votre ferme, nous vous invitons à les indiquer dans la colonne inscrite à cet effet. Si votre exploitation ne produit pas cette culture, ne rien inscrire dans la colonne.
B6: Rendements utilisés par le modèle (t/ha)
B7: Rendements associés à la région | C7: Vos rendements
A8: Maïs-grain | B8: =Rendements_CECPA!B3 -> 7.1
A9: Canola | B9: =Rendements_CECPA!B4 -> 2.3
A10: Soya | B10: =Rendements_CECPA!B5 -> 2.7
A11: Orge | B11: =Rendements_CECPA!B6 -> 3.3
A12: Avoine | B12: =Rendements_CECPA!B7 -> 2.6
A13: Blé de printemps panifiable | B13: =Rendements_CECPA!B9 -> 3.2
A14: Blé d'automne panifiable | B14: =Rendements_CECPA!B8 -> 4
A15: Sarrasin | B15: =Rendements_CECPA!B10 -> 1.8
A17: PRIX
A18: Le modèle utilise les prix ci-dessous. Si les prix présents ne reflètent pas ceux observés sur votre ferme, nous vous invitons à les indiquer dans la colonne inscrite à cet effet. Si votre exploitation ne produit pas cette culture, ne rien inscrire dans la colonne.
B19: Prix utilisés par le modèle ($/t)
B20: Prix associés à la région | C20: Vos prix
A21: Maïs-grain | B21: =Prix_CECPA!B3 -> 341
A22: Canola | B22: =Prix_CECPA!B4 -> 681
A23: Soya | B23: =Prix_CECPA!B5 -> 580
A24: Orge | B24: =Prix_CECPA!B6 -> 275
A25: Avoine | B25: =Prix_CECPA!B7 -> 278
A26: Blé de printemps panifiable | B26: =Prix_CECPA!B9 -> 366
A27: Blé d'automne panifiable | B27: =Prix_CECPA!B8 -> 366
A28: Sarrasin | B28: =Prix_CECPA!B10 -> 459
A30: GAINS AGRONOMIQUES DE LA ROTATION ET CULTURES DE COUVERTURE
A31: Le modèle utilise les gains agronomiques1 ci-dessous. Si ces gains ne reflètent pas ceux observés sur votre ferme, nous vous invitons à les indiquer dans la colonne inscrite à cet effet. Si votre exploitation ne produit pas cette culture, ne rien inscrire dans la colonne. Si aucunes cultures de couverture ou engrais verts ne sont considérés par votre entreprise, inscrire 0 dans la case de gains azotée prévue à cet effet.
B33: Cultures de couverture
A34: Présence de cultures de couverture | B34: Oui
B37: Gains de rendement
B38: Gains de rendement | C38: Vos gains de rendement
A39: Maïs-grain | B39: =IF(B34="Oui",11%,0%) -> 0.11
A40: Canola | B40: 0
A41: Soya | B41: 0
A42: Orge | B42: =IF($B$34="Oui",11%,0%) -> 0.11
A43: Avoine | B43: =IF($B$34="Oui",11%,0%) -> 0.11
A44: Blé de printemps panifiable | B44: =IF($B$34="Oui",11%,0%) -> 0.11
A45: Blé d'automne panifiable | B45: =IF($B$34="Oui",11%,0%) -> 0.11
A46: Sarrasin | B46: 0
...

Sheet Gains agronomiques
A1: Rotation
A2: Année | B2: Lieu | C2: Rotations | D2: Résultats | E2: Sources
A3: 2015 | B3: Guelph, Ontario | C3: A. Monoculture maïs B. Maïs-Maïs-Soya-Soya C. Maïs-Maïs-Luzerne-Luzerne D. Maïs-Maïs-Soya-Blé d'automne E. Maïs-Maïs-Avoine-Orge F. Maïs-Maïs-Soya-Blé d'automne_CC de trèfle rouge dans blé d'automne G. Maïs-Maïs-Avoine_CC de trèfle rouge dans l'avoine-Orge_CC de trèfle rouge dans l'orge | D3: La rotation B n'a aucune différence significative avec la rotation A. La rotation C permet des rendements de maïs 10 % plus élevés. La rotation D n'a aucune différence significative pour le rendement du maïs que la rotation B, mais permet des rendements 14 % plus élevés pour le soya que la rotation B. Les rotations E et F n'ont aucunes différences significatives avec la rotation B. La rotation G permet des rendements de 6 % plus élevés que la rotation B. | E3: Gaudin A.C.M., Tolhurst T.N., Ker A.P., Janovicek K., Tortora C., et al. (2015). Increasing Crop Diversity Mitigates Weather Variations and Improves Yield Stability. Dans Plos One. Vol 10(2). 20 pages.
A4: 2013 | B4: Guelph, Ontario | C4: A. Monoculture maïs B. Maïs-Soya C. Maïs-Soya-Blé d'automne D. Maïs-Soya-Blé d'automne_CC de trèfle rouge dans blé d'automne | D4: La rotation B permet des rendements de maïs entre 5-27 % plus élevée que la monoculture de maïs, et de soya entre 5-17 % plus élevé que la monoculture de soya. La rotation C permet des rendements de maïs de 12 % plus élevé que la rotation B, et des gains de rendements de soya de 10 % plus élevé que la rotation B. L'ajout de trèfle rouge augmente les rendements de 5 %. | E4: Tremblay G. (2016) Bénéfices des rotations en grandes cultures. Drummondville : CÉROM. 42 pages.
A5: 2009 | B5: Pennsylvanie | C5: A. Monoculture maïs B. Maïs-Soya C. 4 X Maïs- 4 X Luzerne D. Maïs-Avoine/Blé- 2 X Trèfle Rouge / Fléole des prés | D5: La rotation C permet des rendement de maïs entre 7 et 12 % plus élevée que la monoculture de maïs.
A6: 2011 | B6: Saint-Hyacinthe et Normandin | C6: A. Monoculture maïs B. Monoculture soya C. Maïs-soya D. Maïs-soya-Blé | D6: La rotation permet des gains de rendements de maïs de 6.8 % lorsqu'il y a labour et de 7.7 % lorsqu'il y a chisel par rapport à la monoculture. La rotation permet des gains de rendement du soya de 6.3 % lorsqu'il y a labour et de 3.5 % lorsqu'il y a chisel par rapport à la monoculture.
A7: 2014 | B7: Beloeil | C7: A. Monoculture de maïs B. Maïs-Soya-Blé C. Maïs-Soya-Blé-3X Prairie D. Prairie | D7: La rotation B permet des gains de rendements du maïs-grain de 14 % par rapport à la monoculture de maïs. La rotation C permet des gains de rendements de maïs-grain de 11 % par rapport à la monoculture de maïs.
A10: Cultures de couverture
A11: Année | B11: Lieu | C11: Cultures de couverture | D11: Résultats | E11: Sources
A12: 2022 | B12: Québec | C12: A. Tous types de cultures de couverture, tout mode d'implantation B. Tous types de cultures de couverture, implantation en dérobé et intercalaire. | D12: Les cultures de couverture en A permettent une augmentation du rendement de maïs de 13 % et des céréales de 22 %. Aucun impact dans le soya. Les cultures de couverture en B permettent une augmentation du rendement de maïs de 11 % et des céréales de 11 %. Aucun impact dans le soya. | E12: Vanasse A., Thibaudeau S. & Weill A. (2022). Guide des cultures de couverture en grandes cultures. Centre de référence en agriculture et agroalimentaire au Québec (CRAAQ). 204 pages.

Sheet Maïs-grain
E1: $/ha | G1: $/ha
E2: Périphérique | G2: Vos coûts
A4: PRODUITS
A5: Vente | E5: =Saisies!B8*Saisies!B21 -> 2421.1 | G5: =IF(Saisies!C8="",Saisies!B8,Saisies!C8)*IF(Saisies!C21="",Saisies!B21,Saisies!C21) -> 2421.1 | H5: =IF(G5="","",IF(OR(G5>E5*(1+0.5),G5<E5*(1-0.5)),"La valeur saisie diffère grandement des coûts utilisés dans le modèle. Assurez-vous qu'il ne s'agit pas d'une erreur de saisie",""))
A6: Compensation d'assurance stabilisation | E6: =IF(ASRA_Calculs!B2>ASRA_Calculs!C2,(ASRA_Calculs!C2-ASRA_Calculs!B2)*ASRA_Calculs!D2,0) -> 0 | G6: =E6 -> 0 | H6: =IF(G6="","",IF(OR(G6>E6*(1+0.5),G6<E6*(1-0.5)),"La valeur saisie diffère grandement des coûts utilisés dans le modèle. Assurez-vous qu'il ne s'agit pas d'une erreur de saisie",""))
A7: Revenus de sous-produits | E7: 4.21 | H7: =IF(G7="","",IF(OR(G7>E7*(1+0.5),G7<E7*(1-0.5)),"La valeur saisie diffère grandement des coûts utilisés dans le modèle. Assurez-vous qu'il ne s'agit pas d'une erreur de saisie",""))
A8: Agri-Québec et Agri-Investissement | E8: =(E5-E16)*0.042 -> 89.2395 | G8: =(G5-G16)*0.042 -> 101.6862 | H8: =IF(G8="","",IF(OR(G8>E8*(1+0.5),G8<E8*(1-0.5)),"La valeur saisie diffère grandement des coûts utilisés dans le modèle. Assurez-vous qu'il ne s'agit pas d'une erreur de saisie",""))
A9: Autres revenus | E9: 0 | H9: =IF(G9="","",IF(OR(G9>E9*(1+0.5),G9<E9*(1-0.5)),"La valeur saisie diffère grandement des coûts utilisés dans le modèle. Assurez-vous qu'il ne s'agit pas d'une erreur de saisie",""))
A10: Autres revenus | E10: =SUM(E8:E9) -> 89.2395 | G10: =SUM(G8:G9) -> 101.6862
A12: TOTAL PRODUITS | E12: =SUM(E5:E10) -> 2603.789 | G12: =SUM(G5:G10) -> 2624.4724
A15: FRAIS VARIABLES
A16: Semences | E16: 296.35 | H16: =IF(G16="","",IF(OR(G16>E16*(1+0.5),G16<E16*(1-0.5)),"La valeur saisie diffère grandement des coûts utilisés dans le modèle. Assurez-vous qu'il ne s'agit pas d'une erreur de saisie",""))
A17: Fertilisants | E17: 399.03 | H17: =IF(G17="","",IF(OR(G17>E17*(1+0.5),G17<E17*(1-0.5)),"La valeur saisie diffère grandement des coûts utilisés dans le modèle. Assurez-vous qu'il ne s'agit pas d'une erreur de saisie",""))
A18: Chaulage | E18: 7.31 | H18: =IF(G18="","",IF(OR(G18>E18*(1+0.5),G18<E18*(1-0.5)),"La valeur saisie diffère grandement des coûts utilisés dans le modèle. Assurez-vous qu'il ne s'agit pas d'une erreur de saisie",""))
A19: Pesticides | E19: 60.69 | H19: =IF(G19="","",IF(OR(G19>E19*(1+0.5),G19<E19*(1-0.5)),"La valeur saisie diffère grandement des coûts utilisés dans le modèle. Assurez-vous qu'il ne s'agit pas d'une erreur de saisie",""))
A20: Total des intrants | E20: =SUM(E16:E19) -> 763.38 | G20: =SUM(G16:G19) -> 0
A21: Location de machineries, bâtiments | E21: 7.12 | H21: =IF(G21="","",IF(OR(G21>E21*(1+0.5),G21<E21*(1-0.5)),"La valeur saisie diffère grandement des coûts utilisés dans le modèle. Assurez-vous qu'il ne s'agit pas d'une erreur de saisie",""))
A22: Location de fonds de terre | E22: 125.6 | H22: =IF(G22="","",IF(OR(G22>E22*(1+0.5),G22<E22*(1-0.5)),"La valeur saisie diffère grandement des coûts utilisés dans le modèle. Assurez-vous qu'il ne s'agit pas d'une erreur de saisie",""))
A23: Travaux à forfait | E23: 79.93 | H23: =IF(G23="","",IF(OR(G23>E23*(1+0.5),G23<E23*(1-0.5)),"La valeur saisie diffère grandement des coûts utilisés dans le modèle. Assurez-vous qu'il ne s'agit pas d'une erreur de saisie",""))
A24: Mais-d'oeuvre additionnelle | E24: 94.32 | H24: =IF(G24="","",IF(OR(G24>E24*(1+0.5),G24<E24*(1-0.5)),"La valeur saisie diffère grandement des coûts utilisés dans le modèle. Assurez-vous qu'il ne s'agit pas d'une erreur de saisie",""))
A25: Entretien et réparation machinerie | E25: 119.87 | H25: =IF(G25="","",IF(OR(G25>E25*(1+0.5),G25<E25*(1-0.5)),"La valeur saisie diffère grandement des coûts utilisés dans le modèle. Assurez-vous qu'il ne s'agit pas d'une erreur de saisie",""))
A26: Carburants | E26: 92.68 | H26: =IF(G26="","",IF(OR(G26>E26*(1+0.5),G26<E26*(1-0.5)),"La valeur saisie diffère grandement des coûts utilisés dans le modèle. Assurez-vous qu'il ne s'agit pas d'une erreur de saisie",""))
A27: Gaz propane | D27: =240.09/7.1 -> 33.815493 | E27: =240.09 -> 240.09 | H27: =IF(G27="","",IF(OR(G27>E27*(1+0.5),G27<E27*(1-0.5)),"La valeur saisie diffère grandement des coûts utilisés dans le modèle. Assurez-vous qu'il ne s'agit pas d'une erreur de saisie",""))
A28: Total des frais de machinerie et main-d'oeuvre | E28: =SUM(E21:E27) -> 759.61 | G28: =SUM(G21:G27) -> 0
A29: Électricité | E29: 9.36 | H29: =IF(G29="","",IF(OR(G29>E29*(1+0.5),G29<E29*(1-0.5)),"La valeur saisie diffère grandement des coûts utilisés dans le modèle. Assurez-vous qu'il ne s'agit pas d'une erreur de saisie",""))
A30: Frais de mise en marché | D30: =19.61/7.1 -> 2.7619718 | E30: 19.61 | H30: =IF(G30="","",IF(OR(G30>E30*(1+0.5),G30<E30*(1-0.5)),"La valeur saisie diffère grandement des coûts utilisés dans le modèle. Assurez-vous qu'il ne s'agit pas d'une erreur de saisie",""))
A31: Intérêts sur emprunt à court terme | E31: 9.24 | H31: =IF(G31="","",IF(OR(G31>E31*(1+0.5),G31<E31*(1-0.5)),"La valeur saisie diffère grandement des coûts utilisés dans le modèle. Assurez-vous qu'il ne s'agit pas d'une erreur de saisie",""))
A32: Total des autres frais directs | E32: =SUM(E29:E31) -> 38.21 | G32: =SUM(G29:G31) -> 0
B33: Sous-total | E33: =E20+E28+E32 -> 1561.2 | G33: =G20+G28+G32 -> 0
H34: =IF(G34="","",IF(OR(G34>E34*(1+0.5),G34<E34*(1-0.5)),"La valeur saisie diffère grandement des coûts utilisés dans le modèle. Assurez-vous qu'il ne s'agit pas d'une erreur de saisie",""))
A35: Contribution d'assurance stabilisation | E35: 0 | H35: =IF(G35="","",IF(OR(G35>E35*(1+0.5),G35<E35*(1-0.5)),"La valeur saisie diffère grandement des coûts utilisés dans le modèle. Assurez-vous qu'il ne s'agit pas d'une erreur de saisie",""))
A36: Contribution aux autres programmes | E36: 8.44 | H36: =IF(G36="","",IF(OR(G36>E36*(1+0.5),G36<E36*(1-0.5)),"La valeur saisie diffère grandement des coûts utilisés dans le modèle. Assurez-vous qu'il ne s'agit pas d'une erreur de saisie",""))
A38: MARGE BÉNÉFICIAIRE APRÈS COÛTS VARIABLES (MARGE VARIABLE) | E38: =E12-(E33+SUM(E35:E36)) -> 1034.149 | G38: =G12-(G33+SUM(G35:G36)) -> 2624.4724
A40: FRAIS FIXES
A41: Entretien bâtiments et fonds de terre | E41: 29.65 | H41: =IF(G41="","",IF(OR(G41>E41*(1+0.5),G41<E41*(1-0.5)),"La valeur saisie diffère grandement des coûts utilisés dans le modèle. Assurez-vous qu'il ne s'agit pas d'une erreur de saisie",""))
A42: Assurances diverses | E42: 51.08 | H42: =IF(G42="","",IF(OR(G42>E42*(1+0.5),G42<E42*(1-0.5)),"La valeur saisie diffère grandement des coûts utilisés dans le modèle. Assurez-vous qu'il ne s'agit pas d'une erreur de saisie",""))
A43: Taxes foncières | E43: 33.29 | H43: =IF(G43="","",IF(OR(G43>E43*(1+0.5),G43<E43*(1-0.5)),"La valeur saisie diffère grandement des coûts utilisés dans le modèle. Assurez-vous qu'il ne s'agit pas d'une erreur de saisie",""))
A44: Intérêts sur emprunts à moyen et long terme | E44: 86.13 | H44: =IF(G44="","",IF(OR(G44>E44*(1+0.5),G44<E44*(1-0.5)),"La valeur saisie diffère grandement des coûts utilisés dans le modèle. Assurez-vous qu'il ne s'agit pas d'une erreur de saisie",""))
A45: Autres frais | E45: 47.46 | H45: =IF(G45="","",IF(OR(G45>E45*(1+0.5),G45<E45*(1-0.5)),"La valeur saisie diffère grandement des coûts utilisés dans le modèle. Assurez-vous qu'il ne s'agit pas d'une erreur de saisie",""))
B46: Sous-total | E46: =SUM(E41:E45) -> 247.61 | G46: =SUM(G41:G45) -> 0
...

Sheet Canola
E1: $/ha | G1: $/ha
E2: Périphérique | G2: Vos coûts
A3: PRODUITS
A4: Vente | E4: =Saisies!B9*Saisies!B22 -> 1566.3 | G4: =IF(Saisies!C9="",Saisies!B9,Saisies!C9)*IF(Saisies!C22="",Saisies!B22,Saisies!C22) -> 1566.3 | H4: =IF(G4="","",IF(OR(G4>E4*(1+0.5),G4<E4*(1-0.5)),"La valeur saisie diffère grandement des coûts utilisés dans le modèle. Assurez-vous qu'il ne s'agit pas d'une erreur de saisie",""))
A5: Compensation d'assurance stabilisation | E5: =IF(ASRA_Calculs!$B$3>ASRA_Calculs!$C$3,(ASRA_Calculs!$C$3-ASRA_Calculs!$B$3)*ASRA_Calculs!$D$3,0) -> 0 | G5: =IF(ASRA_Calculs!$B$3>ASRA_Calculs!$C$3,(ASRA_Calculs!$C$3-ASRA_Calculs!$B$3)*ASRA_Calculs!$D$3,0) -> 0 | H5: =IF(G5="","",IF(OR(G5>E5*(1+0.5),G5<E5*(1-0.5)),"La valeur saisie diffère grandement des coûts utilisés dans le modèle. Assurez-vous qu'il ne s'agit pas d'une erreur de saisie",""))
A6: Revenus de sous-produits | E6: 0 | H6: =IF(G6="","",IF(OR(G6>E6*(1+0.5),G6<E6*(1-0.5)),"La valeur saisie diffère grandement des coûts utilisés dans le modèle. Assurez-vous qu'il ne s'agit pas d'une erreur de saisie",""))
A7: Agri-Québec et Agri-Investissement | E7: =(E4-E15)*0.01 -> 13.9181 | G7: =(G4-G15)*0.01 -> 15.663
A8: Autres revenus | E8: 39.78
A9: Autres revenus | E9: =SUM(E7:E8) -> 53.6981 | G9: =SUM(G7:G8) -> 15.663
A11: TOTAL PRODUITS | E11: =SUM(E4:E9) -> 1673.6962 | G11: =SUM(G4:G9) -> 1597.626
A14: FRAIS VARIABLES
A15: Semences | E15: 174.49 | H15: =IF(G15="","",IF(OR(G15>E15*(1+0.5),G15<E15*(1-0.5)),"La valeur saisie diffère grandement des coûts utilisés dans le modèle. Assurez-vous qu'il ne s'agit pas d'une erreur de saisie",""))
A16: Fertilisants | E16: 268.87 | H16: =IF(G16="","",IF(OR(G16>E16*(1+0.5),G16<E16*(1-0.5)),"La valeur saisie diffère grandement des coûts utilisés dans le modèle. Assurez-vous qu'il ne s'agit pas d'une erreur de saisie",""))
A17: Chaulage | E17: 8.99 | H17: =IF(G17="","",IF(OR(G17>E17*(1+0.5),G17<E17*(1-0.5)),"La valeur saisie diffère grandement des coûts utilisés dans le modèle. Assurez-vous qu'il ne s'agit pas d'une erreur de saisie",""))
A18: Pesticides | E18: 70.78 | H18: =IF(G18="","",IF(OR(G18>E18*(1+0.5),G18<E18*(1-0.5)),"La valeur saisie diffère grandement des coûts utilisés dans le modèle. Assurez-vous qu'il ne s'agit pas d'une erreur de saisie",""))
A19: Total des intrants | E19: =SUM(E15:E18) -> 523.13 | G19: =SUM(G15:G18) -> 0
A20: Location de machineries, bâtiments | E20: 25.46 | H20: =IF(G20="","",IF(OR(G20>E20*(1+0.5),G20<E20*(1-0.5)),"La valeur saisie diffère grandement des coûts utilisés dans le modèle. Assurez-vous qu'il ne s'agit pas d'une erreur de saisie",""))
A21: Location de fonds de terre | E21: 47.58 | H21: =IF(G21="","",IF(OR(G21>E21*(1+0.5),G21<E21*(1-0.5)),"La valeur saisie diffère grandement des coûts utilisés dans le modèle. Assurez-vous qu'il ne s'agit pas d'une erreur de saisie",""))
A22: Travaux à forfait | E22: 20.18 | H22: =IF(G22="","",IF(OR(G22>E22*(1+0.5),G22<E22*(1-0.5)),"La valeur saisie diffère grandement des coûts utilisés dans le modèle. Assurez-vous qu'il ne s'agit pas d'une erreur de saisie",""))
A23: Mais-d'oeuvre additionnelle | E23: 38.03 | H23: =IF(G23="","",IF(OR(G23>E23*(1+0.5),G23<E23*(1-0.5)),"La valeur saisie diffère grandement des coûts utilisés dans le modèle. Assurez-vous qu'il ne s'agit pas d'une erreur de saisie",""))
A24: Entretien et réparation machinerie | E24: 71.81 | H24: =IF(G24="","",IF(OR(G24>E24*(1+0.5),G24<E24*(1-0.5)),"La valeur saisie diffère grandement des coûts utilisés dans le modèle. Assurez-vous qu'il ne s'agit pas d'une erreur de saisie",""))
A25: Carburants | E25: 62.44 | H25: =IF(G25="","",IF(OR(G25>E25*(1+0.5),G25<E25*(1-0.5)),"La valeur saisie diffère grandement des coûts utilisés dans le modèle. Assurez-vous qu'il ne s'agit pas d'une erreur de saisie",""))
A26: Gaz propane | D26: =30.13/2.3 -> 13.1 | E26: 30.13 | H26: =IF(G26="","",IF(OR(G26>E26*(1+0.5),G26<E26*(1-0.5)),"La valeur saisie diffère grandement des coûts utilisés dans le modèle. Assurez-vous qu'il ne s'agit pas d'une erreur de saisie",""))
A27: Total des frais de machinerie et main-d'oeuvre | E27: =SUM(E20:E26) -> 295.63 | G27: =SUM(G20:G26) -> 0
A28: Électricité | E28: 4.53 | H28: =IF(G28="","",IF(OR(G28>E28*(1+0.5),G28<E28*(1-0.5)),"La valeur saisie diffère grandement des coûts utilisés dans le modèle. Assurez-vous qu'il ne s'agit pas d'une erreur de saisie",""))
A29: Frais de mise en marché | D29: =33.51/2.3 -> 14.569565 | E29: 33.51 | H29: =IF(G29="","",IF(OR(G29>E29*(1+0.5),G29<E29*(1-0.5)),"La valeur saisie diffère grandement des coûts utilisés dans le modèle. Assurez-vous qu'il ne s'agit pas d'une erreur de saisie",""))
A30: Intérêts sur emprunt à court terme | E30: 18.18 | H30: =IF(G30="","",IF(OR(G30>E30*(1+0.5),G30<E30*(1-0.5)),"La valeur saisie diffère grandement des coûts utilisés dans le modèle. Assurez-vous qu'il ne s'agit pas d'une erreur de saisie",""))
A31: Total des autres frais directs | E31: =SUM(E28:E30) -> 56.22 | G31: =SUM(G28:G30) -> 0
B32: Sous-total | E32: =E19+E27+E31 -> 874.98 | G32: =G19+G27+G31 -> 0
A34: Contribution d'assurance stabilisation | E34: 10.57 | H34: =IF(G34="","",IF(OR(G34>E34*(1+0.5),G34<E34*(1-0.5)),"La valeur saisie diffère grandement des coûts utilisés dans le modèle. Assurez-vous qu'il ne s'agit pas d'une erreur de saisie",""))
A35: Contribution aux autres programmes | E35: 6.78 | H35: =IF(G35="","",IF(OR(G35>E35*(1+0.5),G35<E35*(1-0.5)),"La valeur saisie diffère grandement des coûts utilisés dans le modèle. Assurez-vous qu'il ne s'agit pas d'une erreur de saisie",""))
A37: MARGE BÉNÉFICIAIRE APRÈS COÛTS VARIABLES (MARGE VARIABLE) | E37: =E11-(E32+SUM(E34:E35)) -> 781.3662 | G37: =G11-(G32+SUM(G34:G35)) -> 1597.626
A39: FRAIS FIXES
A40: Entretien bâtiments et fonds de terre | E40: 8.71 | H40: =IF(G40="","",IF(OR(G40>E40*(1+0.5),G40<E40*(1-0.5)),"La valeur saisie diffère grandement des coûts utilisés dans le modèle. Assurez-vous qu'il ne s'agit pas d'une erreur de saisie",""))
A41: Assurances diverses | E41: 18.08 | H41: =IF(G41="","",IF(OR(G41>E41*(1+0.5),G41<E41*(1-0.5)),"La valeur saisie diffère grandement des coûts utilisés dans le modèle. Assurez-vous qu'il ne s'agit pas d'une erreur de saisie",""))
A42: Taxes foncières | E42: 10.47 | H42: =IF(G42="","",IF(OR(G42>E42*(1+0.5),G42<E42*(1-0.5)),"La valeur saisie diffère grandement des coûts utilisés dans le modèle. Assurez-vous qu'il ne s'agit pas d'une erreur de saisie",""))
A43: Intérêts sur emprunts à moyen et long terme | E43: 50.3 | H43: =IF(G43="","",IF(OR(G43>E43*(1+0.5),G43<E43*(1-0.5)),"La valeur saisie diffère grandement des coûts utilisés dans le modèle. Assurez-vous qu'il ne s'agit pas d'une erreur de saisie",""))
A44: Autres frais | E44: 30.74 | H44: =IF(G44="","",IF(OR(G44>E44*(1+0.5),G44<E44*(1-0.5)),"La valeur saisie diffère grandement des coûts utilisés dans le modèle. Assurez-vous qu'il ne s'agit pas d'une erreur de saisie",""))
B45: Sous-total | E45: =SUM(E40:E44) -> 118.3 | G45: =SUM(G40:G44) -> 0
A47: MARGE BÉNÉFICIAIRE APRÈS FRAIS MONÉTAIRES (MARGE MONÉTAIRE) | E47: =E37-E45 -> 663.0662 | G47: =G37-G45 -> 1597.626
...

Sheet Soya
E1: $/ha | G1: $/ha
E2: Périphérique | G2: Vos coûts
A3: PRODUITS
A4: Vente | E4: =Saisies!B10*Saisies!B23 -> 1566 | G4: =IF(Saisies!C10="",Saisies!B10,Saisies!C10)*IF(Saisies!C23="",Saisies!B23,Saisies!C23) -> 1566 | H4: =IF(G4="","",IF(OR(G4>E4*(1+0.5),G4<E4*(1-0.5)),"La valeur saisie diffère grandement des coûts utilisés dans le modèle. Assurez-vous qu'il ne s'agit pas d'une erreur de saisie",""))
A5: Compensation d'assurance stabilisation | E5: =IF(ASRA_Calculs!$B$4<ASRA_Calculs!$C$4,(ASRA_Calculs!$C$4-ASRA_Calculs!$B$4)*ASRA_Calculs!$D$4,0) -> 0 | G5: =IF(ASRA_Calculs!$B$4<ASRA_Calculs!$C$4,(ASRA_Calculs!$C$4-ASRA_Calculs!$B$4)*ASRA_Calculs!$D$4,0) -> 0 | H5: =IF(G5="","",IF(OR(G5>E5*(1+0.5),G5<E5*(1-0.5)),"La valeur saisie diffère grandement des coûts utilisés dans le modèle. Assurez-vous qu'il ne s'agit pas d'une erreur de saisie",""))
A6: Revenus de sous-produits | E6: 53.32 | H6: =IF(G6="","",IF(OR(G6>E6*(1+0.5),G6<E6*(1-0.5)),"La valeur saisie diffère grandement des coûts utilisés dans le modèle. Assurez-vous qu'il ne s'agit pas d'une erreur de saisie",""))
A7: Agri-Québec et Agri-Investissement | E7: =(E4-E15)*0.042 -> 57.70044 | G7: =(G4-G15)*0.042 -> 65.772 | H7: =IF(G7="","",IF(OR(G7>E7*(1+0.5),G7<E7*(1-0.5)),"La valeur saisie diffère grandement des coûts utilisés dans le modèle. Assurez-vous qu'il ne s'agit pas d'une erreur de saisie",""))
A8: Autres revenus | E8: 19.11 | H8: =IF(G8="","",IF(OR(G8>E8*(1+0.5),G8<E8*(1-0.5)),"La valeur saisie diffère grandement des coûts utilisés dans le modèle. Assurez-vous qu'il ne s'agit pas d'une erreur de saisie",""))
A9: Autres revenus | E9: =SUM(E7:E8) -> 76.81044 | G9: =SUM(G7:G8) -> 65.772
A11: TOTAL PRODUITS | E11: =SUM(E4:E9) -> 1772.9409 | G11: =SUM(G4:G9) -> 1697.544
A14: FRAIS VARIABLES
A15: Semences | E15: 192.18 | H15: =IF(G15="","",IF(OR(G15>E15*(1+0.5),G15<E15*(1-0.5)),"La valeur saisie diffère grandement des coûts utilisés dans le modèle. Assurez-vous qu'il ne s'agit pas d'une erreur de saisie",""))
A16: Fertilisants | E16: 47.68 | H16: =IF(G16="","",IF(OR(G16>E16*(1+0.5),G16<E16*(1-0.5)),"La valeur saisie diffère grandement des coûts utilisés dans le modèle. Assurez-vous qu'il ne s'agit pas d'une erreur de saisie",""))
A17: Chaulage | E17: 2.69 | H17: =IF(G17="","",IF(OR(G17>E17*(1+0.5),G17<E17*(1-0.5)),"La valeur saisie diffère grandement des coûts utilisés dans le modèle. Assurez-vous qu'il ne s'agit pas d'une erreur de saisie",""))
A18: Pesticides | E18: 93.36 | H18: =IF(G18="","",IF(OR(G18>E18*(1+0.5),G18<E18*(1-0.5)),"La valeur saisie diffère grandement des coûts utilisés dans le modèle. Assurez-vous qu'il ne s'agit pas d'une erreur de saisie",""))
A19: Total des intrants | E19: =SUM(E15:E18) -> 335.91 | G19: =SUM(G15:G18) -> 0
A20: Location de machineries, bâtiments | E20: 10.63 | H20: =IF(G20="","",IF(OR(G20>E20*(1+0.5),G20<E20*(1-0.5)),"La valeur saisie diffère grandement des coûts utilisés dans le modèle. Assurez-vous qu'il ne s'agit pas d'une erreur de saisie",""))
A21: Location de fonds de terre | E21: 125.62 | H21: =IF(G21="","",IF(OR(G21>E21*(1+0.5),G21<E21*(1-0.5)),"La valeur saisie diffère grandement des coûts utilisés dans le modèle. Assurez-vous qu'il ne s'agit pas d'une erreur de saisie",""))
A22: Travaux à forfait | E22: 39.55 | H22: =IF(G22="","",IF(OR(G22>E22*(1+0.5),G22<E22*(1-0.5)),"La valeur saisie diffère grandement des coûts utilisés dans le modèle. Assurez-vous qu'il ne s'agit pas d'une erreur de saisie",""))
A23: Mais-d'oeuvre additionnelle | E23: 74.71 | H23: =IF(G23="","",IF(OR(G23>E23*(1+0.5),G23<E23*(1-0.5)),"La valeur saisie diffère grandement des coûts utilisés dans le modèle. Assurez-vous qu'il ne s'agit pas d'une erreur de saisie",""))
A24: Entretien et réparation machinerie | E24: 92.87 | H24: =IF(G24="","",IF(OR(G24>E24*(1+0.5),G24<E24*(1-0.5)),"La valeur saisie diffère grandement des coûts utilisés dans le modèle. Assurez-vous qu'il ne s'agit pas d'une erreur de saisie",""))
A25: Carburants | E25: 77.68 | H25: =IF(G25="","",IF(OR(G25>E25*(1+0.5),G25<E25*(1-0.5)),"La valeur saisie diffère grandement des coûts utilisés dans le modèle. Assurez-vous qu'il ne s'agit pas d'une erreur de saisie",""))
A26: Gaz propane | D26: =0.2/2.7 -> 0.074074074 | E26: 0.2 | H26: =IF(G26="","",IF(OR(G26>E26*(1+0.5),G26<E26*(1-0.5)),"La valeur saisie diffère grandement des coûts utilisés dans le modèle. Assurez-vous qu'il ne s'agit pas d'une erreur de saisie",""))
A27: Total des frais de machinerie et main-d'oeuvre | E27: =SUM(E20:E26) -> 421.26 | G27: =SUM(G20:G26) -> 0
A28: Électricité | E28: 5.13 | H28: =IF(G28="","",IF(OR(G28>E28*(1+0.5),G28<E28*(1-0.5)),"La valeur saisie diffère grandement des coûts utilisés dans le modèle. Assurez-vous qu'il ne s'agit pas d'une erreur de saisie",""))
A29: Frais de mise en marché | D29: =14.1/2.7 -> 5.2222222 | E29: 14.1 | H29: =IF(G29="","",IF(OR(G29>E29*(1+0.5),G29<E29*(1-0.5)),"La valeur saisie diffère grandement des coûts utilisés dans le modèle. Assurez-vous qu'il ne s'agit pas d'une erreur de saisie",""))
A30: Intérêts sur emprunt à court terme | E30: 6.55 | H30: =IF(G30="","",IF(OR(G30>E30*(1+0.5),G30<E30*(1-0.5)),"La valeur saisie diffère grandement des coûts utilisés dans le modèle. Assurez-vous qu'il ne s'agit pas d'une erreur de saisie",""))
A31: Total des autres frais directs | E31: =SUM(E28:E30) -> 25.78 | G31: =SUM(G28:G30) -> 0
B32: Sous-total | E32: =E19+E27+E31 -> 782.95 | G32: =G31+G27+G19 -> 0
A34: Contribution d'assurance stabilisation | E34: 0 | H34: =IF(G34="","",IF(OR(G34>E34*(1+0.5),G34<E34*(1-0.5)),"La valeur saisie diffère grandement des coûts utilisés dans le modèle. Assurez-vous qu'il ne s'agit pas d'une erreur de saisie",""))
A35: Contribution aux autres programmes | E35: 7.84 | H35: =IF(G35="","",IF(OR(G35>E35*(1+0.5),G35<E35*(1-0.5)),"La valeur saisie diffère grandement des coûts utilisés dans le modèle. Assurez-vous qu'il ne s'agit pas d'une erreur de saisie",""))
A37: MARGE BÉNÉFICIAIRE APRÈS COÛTS VARIABLES | E37: =E11-(E32+SUM(E34:E35)) -> 982.15088 | G37: =G11-(G32+SUM(G34:G35)) -> 1697.544
A39: FRAIS FIXES
A40: Entretien bâtiments et fonds de terre | E40: 17.21 | H40: =IF(G40="","",IF(OR(G40>E40*(1+0.5),G40<E40*(1-0.5)),"La valeur saisie diffère grandement des coûts utilisés dans le modèle. Assurez-vous qu'il ne s'agit pas d'une erreur de saisie",""))
A41: Assurances diverses | E41: 31.83 | H41: =IF(G41="","",IF(OR(G41>E41*(1+0.5),G41<E41*(1-0.5)),"La valeur saisie diffère grandement des coûts utilisés dans le modèle. Assurez-vous qu'il ne s'agit pas d'une erreur de saisie",""))
A42: Taxes foncières | E42: 27.29 | H42: =IF(G42="","",IF(OR(G42>E42*(1+0.5),G42<E42*(1-0.5)),"La valeur saisie diffère grandement des coûts utilisés dans le modèle. Assurez-vous qu'il ne s'agit pas d'une erreur de saisie",""))
A43: Intérêts sur emprunts à moyen et long terme | E43: 75.48 | H43: =IF(G43="","",IF(OR(G43>E43*(1+0.5),G43<E43*(1-0.5)),"La valeur saisie diffère grandement des coûts utilisés dans le modèle. Assurez-vous qu'il ne s'agit pas d'une erreur de saisie",""))
A44: Autres frais | E44: 30.53 | H44: =IF(G44="","",IF(OR(G44>E44*(1+0.5),G44<E44*(1-0.5)),"La valeur saisie diffère grandement des coûts utilisés dans le modèle. Assurez-vous qu'il ne s'agit pas d'une erreur de saisie",""))
B45: Sous-total | E45: =SUM(E40:E44) -> 182.34 | G45: =SUM(G40:G44) -> 0
A47: MARGE BÉNÉFICIAIRE APRÈS FRAIS MONÉTAIRES | E47: =E37-E45 -> 799.81088 | G47: =G37-G45 -> 1697.544
...

Sheet Orge
E1: $/ha | G1: $/ha
E2: Périphérique | G2: Vos Coûts
A3: PRODUITS
A4: Vente | E4: =Saisies!B11*Saisies!B24 -> 907.5 | G4: =IF(Saisies!C11="",Saisies!B11,Saisies!C11)*IF(Saisies!C24="",Saisies!B24,Saisies!C24) -> 907.5 | H4: =IF(G4="","",IF(OR(G4>E4*(1+0.5),G4<E4*(1-0.5)),"La valeur saisie diffère grandement des coûts utilisés dans le modèle. Assurez-vous qu'il ne s'agit pas d'une erreur de saisie",""))
A5: Compensation d'assurance stabilisation | E5: =IF(ASRA_Calculs!$B$5<ASRA_Calculs!$C$5,(ASRA_Calculs!$C$5-ASRA_Calculs!$B$5)*ASRA_Calculs!$D$5,0) -> 0 | G5: =IF(ASRA_Calculs!$B$5<ASRA_Calculs!$C$5,(ASRA_Calculs!$C$5-ASRA_Calculs!$B$5)*ASRA_Calculs!$D$5,0) -> 0 | H5: =IF(G5="","",IF(OR(G5>E5*(1+0.5),G5<E5*(1-0.5)),"La valeur saisie diffère grandement des coûts utilisés dans le modèle. Assurez-vous qu'il ne s'agit pas d'une erreur de saisie",""))
A6: Revenus de pailles | E6: 165.64 | H6: =IF(G6="","",IF(OR(G6>E6*(1+0.5),G6<E6*(1-0.5)),"La valeur saisie diffère grandement des coûts utilisés dans le modèle. Assurez-vous qu'il ne s'agit pas d'une erreur de saisie",""))
A7: Agri-Québec et Agri-Investissement | E7: =(E4+E6-E15)*0.01 -> 9.3592 | G7: =(G4+G6-G15)*0.01 -> 9.075 | H7: =IF(G7="","",IF(OR(G7>E7*(1+0.5),G7<E7*(1-0.5)),"La valeur saisie diffère grandement des coûts utilisés dans le modèle. Assurez-vous qu'il ne s'agit pas d'une erreur de saisie",""))
A8: Autres revenus | E8: 74.01 | H8: =IF(G8="","",IF(OR(G8>E8*(1+0.5),G8<E8*(1-0.5)),"La valeur saisie diffère grandement des coûts utilisés dans le modèle. Assurez-vous qu'il ne s'agit pas d'une erreur de saisie",""))
A9: Autres revenus | E9: =SUM(E7:E8) -> 83.3692 | G9: =SUM(G7:G8) -> 9.075
A11: TOTAL PRODUITS | E11: =SUM(E4:E9) -> 1239.8784 | G11: =SUM(G4:G9) -> 925.65
A14: FRAIS VARIABLES
A15: Semences | E15: 137.22 | H15: =IF(G15="","",IF(OR(G15>E15*(1+0.5),G15<E15*(1-0.5)),"La valeur saisie diffère grandement des coûts utilisés dans le modèle. Assurez-vous qu'il ne s'agit pas d'une erreur de saisie",""))
A16: Fertilisants | E16: 143.56 | H16: =IF(G16="","",IF(OR(G16>E16*(1+0.5),G16<E16*(1-0.5)),"La valeur saisie diffère grandement des coûts utilisés dans le modèle. Assurez-vous qu'il ne s'agit pas d'une erreur de saisie",""))
A17: Chaulage | E17: 4.89 | H17: =IF(G17="","",IF(OR(G17>E17*(1+0.5),G17<E17*(1-0.5)),"La valeur saisie diffère grandement des coûts utilisés dans le modèle. Assurez-vous qu'il ne s'agit pas d'une erreur de saisie",""))
A18: Pesticides | E18: 44.38 | H18: =IF(G18="","",IF(OR(G18>E18*(1+0.5),G18<E18*(1-0.5)),"La valeur saisie diffère grandement des coûts utilisés dans le modèle. Assurez-vous qu'il ne s'agit pas d'une erreur de saisie",""))
A19: Total des intrants | E19: =SUM(E15:E18) -> 330.05 | G19: =SUM(G15:G18) -> 0
A20: Location de machineries, bâtiments | E20: 13.28 | H20: =IF(G20="","",IF(OR(G20>E20*(1+0.5),G20<E20*(1-0.5)),"La valeur saisie diffère grandement des coûts utilisés dans le modèle. Assurez-vous qu'il ne s'agit pas d'une erreur de saisie",""))
A21: Location de fonds de terre | E21: 22.08 | H21: =IF(G21="","",IF(OR(G21>E21*(1+0.5),G21<E21*(1-0.5)),"La valeur saisie diffère grandement des coûts utilisés dans le modèle. Assurez-vous qu'il ne s'agit pas d'une erreur de saisie",""))
A22: Travaux à forfait | E22: 4.98 | H22: =IF(G22="","",IF(OR(G22>E22*(1+0.5),G22<E22*(1-0.5)),"La valeur saisie diffère grandement des coûts utilisés dans le modèle. Assurez-vous qu'il ne s'agit pas d'une erreur de saisie",""))
A23: Main-d'oeuvre additionnelle | E23: 35.67 | H23: =IF(G23="","",IF(OR(G23>E23*(1+0.5),G23<E23*(1-0.5)),"La valeur saisie diffère grandement des coûts utilisés dans le modèle. Assurez-vous qu'il ne s'agit pas d'une erreur de saisie",""))
A24: Entretien et réparation machinerie | E24: 90.77 | H24: =IF(G24="","",IF(OR(G24>E24*(1+0.5),G24<E24*(1-0.5)),"La valeur saisie diffère grandement des coûts utilisés dans le modèle. Assurez-vous qu'il ne s'agit pas d'une erreur de saisie",""))
A25: Carburants | E25: 66.17 | H25: =IF(G25="","",IF(OR(G25>E25*(1+0.5),G25<E25*(1-0.5)),"La valeur saisie diffère grandement des coûts utilisés dans le modèle. Assurez-vous qu'il ne s'agit pas d'une erreur de saisie",""))
A26: Gaz propane | D26: =62.15/3.3 -> 18.833333 | E26: 62.15 | H26: =IF(G26="","",IF(OR(G26>E26*(1+0.5),G26<E26*(1-0.5)),"La valeur saisie diffère grandement des coûts utilisés dans le modèle. Assurez-vous qu'il ne s'agit pas d'une erreur de saisie",""))
A27: Total des frais de machinerie et main-d'oeuvre | E27: =SUM(E20:E26) -> 295.1 | G27: =SUM(G20:G26) -> 0
A28: Électricité | E28: 7.12 | H28: =IF(G28="","",IF(OR(G28>E28*(1+0.5),G28<E28*(1-0.5)),"La valeur saisie diffère grandement des coûts utilisés dans le modèle. Assurez-vous qu'il ne s'agit pas d'une erreur de saisie",""))
A29: Frais de mise en marché | D29: =39.92/3.3 -> 12.09697 | E29: 39.92 | H29: =IF(G29="","",IF(OR(G29>E29*(1+0.5),G29<E29*(1-0.5)),"La valeur saisie diffère grandement des coûts utilisés dans le modèle. Assurez-vous qu'il ne s'agit pas d'une erreur de saisie",""))
A30: Intérêts sur emprunt à court terme | E30: 16.42 | H30: =IF(G30="","",IF(OR(G30>E30*(1+0.5),G30<E30*(1-0.5)),"La valeur saisie diffère grandement des coûts utilisés dans le modèle. Assurez-vous qu'il ne s'agit pas d'une erreur de saisie",""))
A31: Total des autres frais directs | E31: =SUM(E28:E30) -> 63.46 | G31: =SUM(G28:G30) -> 0
B32: Sous-total | E32: =E19+E27+E31 -> 688.61 | G32: =G19+G27+G31 -> 0
A34: Contribution d'assurance stabilisation | E34: 47.09 | H34: =IF(G34="","",IF(OR(G34>E34*(1+0.5),G34<E34*(1-0.5)),"La valeur saisie diffère grandement des coûts utilisés dans le modèle. Assurez-vous qu'il ne s'agit pas d'une erreur de saisie",""))
A35: Contribution aux autres programmes | E35: =1.81+8.74 -> 10.55 | H35: =IF(G35="","",IF(OR(G35>E35*(1+0.5),G35<E35*(1-0.5)),"La valeur saisie diffère grandement des coûts utilisés dans le modèle. Assurez-vous qu'il ne s'agit pas d'une erreur de saisie",""))
A37: MARGE BÉNÉFICIAIRE APRÈS COÛTS VARIABLES | E37: =E11-(E32+SUM(E34:E35)) -> 493.6284 | G37: =G11-(G32+SUM(G34:G35)) -> 925.65
A39: FRAIS FIXES
A40: Entretien bâtiments et fonds de terre | E40: 12.39 | H40: =IF(G40="","",IF(OR(G40>E40*(1+0.5),G40<E40*(1-0.5)),"La valeur saisie diffère grandement des coûts utilisés dans le modèle. Assurez-vous qu'il ne s'agit pas d'une erreur de saisie",""))
A41: Assurances diverses | E41: 25.84 | H41: =IF(G41="","",IF(OR(G41>E41*(1+0.5),G41<E41*(1-0.5)),"La valeur saisie diffère grandement des coûts utilisés dans le modèle. Assurez-vous qu'il ne s'agit pas d'une erreur de saisie",""))
A42: Taxes foncières | E42: 13.22 | H42: =IF(G42="","",IF(OR(G42>E42*(1+0.5),G42<E42*(1-0.5)),"La valeur saisie diffère grandement des coûts utilisés dans le modèle. Assurez-vous qu'il ne s'agit pas d'une erreur de saisie",""))
A43: Intérêts sur emprunts à moyen et long terme | E43: 51.4 | H43: =IF(G43="","",IF(OR(G43>E43*(1+0.5),G43<E43*(1-0.5)),"La valeur saisie diffère grandement des coûts utilisés dans le modèle. Assurez-vous qu'il ne s'agit pas d'une erreur de saisie",""))
A44: Autres frais | E44: 30.8 | H44: =IF(G44="","",IF(OR(G44>E44*(1+0.5),G44<E44*(1-0.5)),"La valeur saisie diffère grandement des coûts utilisés dans le modèle. Assurez-vous qu'il ne s'agit pas d'une erreur de saisie",""))
B45: Sous-total | E45: =SUM(E40:E44) -> 133.65 | G45: =SUM(G40:G44) -> 0
A47: MARGE BÉNÉFICIAIRE APRÈS FRAIS MONÉTAIRES | E47: =E37-E45 -> 359.9784 | G47: =G37-G45 -> 925.65
...

Sheet Avoine
E1: $/ha | G1: $/ha
E2: Périphérique | G2: Vos Coûts
A3: PRODUITS
A4: Vente | E4: =Saisies!B12*Saisies!B25 -> 722.8 | G4: =IF(Saisies!C12="",Saisies!B12,Saisies!C12)*IF(Saisies!C25="",Saisies!B25,Saisies!C25) -> 722.8 | H4: =IF(G4="","",IF(OR(G4>E4*(1+0.5),G4<E4*(1-0.5)),"La valeur saisie diffère grandement des coûts utilisés dans le modèle. Assurez-vous qu'il ne s'agit pas d'une erreur de saisie",""))
A5: Compensation d'assurance stabilisation | E5: =IF(ASRA_Calculs!$B$6<ASRA_Calculs!$C$6,(ASRA_Calculs!$C$6-ASRA_Calculs!$B$6)*ASRA_Calculs!$D$6,0) -> 0 | G5: =IF(ASRA_Calculs!$B$6<ASRA_Calculs!$C$6,(ASRA_Calculs!$C$6-ASRA_Calculs!$B$6)*ASRA_Calculs!$D$6,0) -> 0 | H5: =IF(G5="","",IF(OR(G5>E5*(1+0.5),G5<E5*(1-0.5)),"La valeur saisie diffère grandement des coûts utilisés dans le modèle. Assurez-vous qu'il ne s'agit pas d'une erreur de saisie",""))
A6: Revenus de pailles | E6: 89.45 | H6: =IF(G6="","",IF(OR(G6>E6*(1+0.5),G6<E6*(1-0.5)),"La valeur saisie diffère grandement des coûts utilisés dans le modèle. Assurez-vous qu'il ne s'agit pas d'une erreur de saisie",""))
A7: Agri-Québec et Agri-Investissement | E7: =(E4+E6-E15)*0.01 -> 7.1457 | G7: =(G4+G6-G15)*0.01 -> 7.228 | H7: =IF(G7="","",IF(OR(G7>E7*(1+0.5),G7<E7*(1-0.5)),"La valeur saisie diffère grandement des coûts utilisés dans le modèle. Assurez-vous qu'il ne s'agit pas d'une erreur de saisie",""))
A8: Autres revenus | E8: 43.9 | H8: =IF(G8="","",IF(OR(G8>E8*(1+0.5),G8<E8*(1-0.5)),"La valeur saisie diffère grandement des coûts utilisés dans le modèle. Assurez-vous qu'il ne s'agit pas d'une erreur de saisie",""))
A9: Autres revenus | E9: =SUM(E7:E8) -> 51.0457 | G9: =SUM(G7:G8) -> 7.228
A11: TOTAL PRODUITS | E11: =SUM(E4:E9) -> 914.3414 | G11: =SUM(G4:G9) -> 737.256
A14: FRAIS VARIABLES
A15: Semences | E15: 97.68 | H15: =IF(G15="","",IF(OR(G15>E15*(1+0.5),G15<E15*(1-0.5)),"La valeur saisie diffère grandement des coûts utilisés dans le modèle. Assurez-vous qu'il ne s'agit pas d'une erreur de saisie",""))
A16: Fertilisants | E16: 105.11 | H16: =IF(G16="","",IF(OR(G16>E16*(1+0.5),G16<E16*(1-0.5)),"La valeur saisie diffère grandement des coûts utilisés dans le modèle. Assurez-vous qu'il ne s'agit pas d'une erreur de saisie",""))
A17: Chaulage | E17: 7.21 | H17: =IF(G17="","",IF(OR(G17>E17*(1+0.5),G17<E17*(1-0.5)),"La valeur saisie diffère grandement des coûts utilisés dans le modèle. Assurez-vous qu'il ne s'agit pas d'une erreur de saisie",""))
A18: Pesticides | E18: 25.32 | H18: =IF(G18="","",IF(OR(G18>E18*(1+0.5),G18<E18*(1-0.5)),"La valeur saisie diffère grandement des coûts utilisés dans le modèle. Assurez-vous qu'il ne s'agit pas d'une erreur de saisie",""))
A19: Total des intrants | E19: =SUM(E15:E18) -> 235.32 | G19: =SUM(G15:G18) -> 0
A20: Location de machineries, bâtiments | E20: 18.17 | H20: =IF(G20="","",IF(OR(G20>E20*(1+0.5),G20<E20*(1-0.5)),"La valeur saisie diffère grandement des coûts utilisés dans le modèle. Assurez-vous qu'il ne s'agit pas d'une erreur de saisie",""))
A21: Location de fonds de terre | E21: 22.45 | H21: =IF(G21="","",IF(OR(G21>E21*(1+0.5),G21<E21*(1-0.5)),"La valeur saisie diffère grandement des coûts utilisés dans le modèle. Assurez-vous qu'il ne s'agit pas d'une erreur de saisie",""))
A22: Travaux à forfait | E22: 12.2 | H22: =IF(G22="","",IF(OR(G22>E22*(1+0.5),G22<E22*(1-0.5)),"La valeur saisie diffère grandement des coûts utilisés dans le modèle. Assurez-vous qu'il ne s'agit pas d'une erreur de saisie",""))
A23: Mais-d'oeuvre additionnelle | E23: 41.43 | H23: =IF(G23="","",IF(OR(G23>E23*(1+0.5),G23<E23*(1-0.5)),"La valeur saisie diffère grandement des coûts utilisés dans le modèle. Assurez-vous qu'il ne s'agit pas d'une erreur de saisie",""))
A24: Entretien et réparation machinerie | E24: 63.2 | H24: =IF(G24="","",IF(OR(G24>E24*(1+0.5),G24<E24*(1-0.5)),"La valeur saisie diffère grandement des coûts utilisés dans le modèle. Assurez-vous qu'il ne s'agit pas d'une erreur de saisie",""))
A25: Carburants | E25: 57.4 | H25: =IF(G25="","",IF(OR(G25>E25*(1+0.5),G25<E25*(1-0.5)),"La valeur saisie diffère grandement des coûts utilisés dans le modèle. Assurez-vous qu'il ne s'agit pas d'une erreur de saisie",""))
A26: Gaz propane | D26: =29.68/2.6 -> 11.415385 | E26: 29.68 | H26: =IF(G26="","",IF(OR(G26>E26*(1+0.5),G26<E26*(1-0.5)),"La valeur saisie diffère grandement des coûts utilisés dans le modèle. Assurez-vous qu'il ne s'agit pas d'une erreur de saisie",""))
A27: Total des frais de machinerie et main-d'oeuvre | E27: =SUM(E20:E26) -> 244.53 | G27: =SUM(G20:G26) -> 0
A28: Électricité | E28: 8.45 | H28: =IF(G28="","",IF(OR(G28>E28*(1+0.5),G28<E28*(1-0.5)),"La valeur saisie diffère grandement des coûts utilisés dans le modèle. Assurez-vous qu'il ne s'agit pas d'une erreur de saisie",""))
A29: Frais de mise en marché | D29: =30.5/2.6 -> 11.730769 | E29: 30.5 | H29: =IF(G29="","",IF(OR(G29>E29*(1+0.5),G29<E29*(1-0.5)),"La valeur saisie diffère grandement des coûts utilisés dans le modèle. Assurez-vous qu'il ne s'agit pas d'une erreur de saisie",""))
A30: Intérêts sur emprunt à court terme | E30: 12.31 | H30: =IF(G30="","",IF(OR(G30>E30*(1+0.5),G30<E30*(1-0.5)),"La valeur saisie diffère grandement des coûts utilisés dans le modèle. Assurez-vous qu'il ne s'agit pas d'une erreur de saisie",""))
A31: Total des autres frais directs | E31: =SUM(E28:E30) -> 51.26 | G31: =SUM(G28:G30) -> 0
B32: Sous-total | E32: =E19+E27+E31 -> 531.11 | G32: =G19+G27+G31 -> 0
A34: Contribution d'assurance stabilisation | E34: 69.78 | H34: =IF(G34="","",IF(OR(G34>E34*(1+0.5),G34<E34*(1-0.5)),"La valeur saisie diffère grandement des coûts utilisés dans le modèle. Assurez-vous qu'il ne s'agit pas d'une erreur de saisie",""))
A35: Contribution aux autres programmes | E35: 3.51 | H35: =IF(G35="","",IF(OR(G35>E35*(1+0.5),G35<E35*(1-0.5)),"La valeur saisie diffère grandement des coûts utilisés dans le modèle. Assurez-vous qu'il ne s'agit pas d'une erreur de saisie",""))
A37: MARGE BÉNÉFICIAIRE APRÈS COÛTS VARIABLES | E37: =E11-(E32+SUM(E34:E35)) -> 309.9414 | G37: =G11-(G32+SUM(G34:G35)) -> 737.256
A39: FRAIS FIXES
A40: Entretien bâtiments et fonds de terre | E40: 9.38 | H40: =IF(G40="","",IF(OR(G40>E40*(1+0.5),G40<E40*(1-0.5)),"La valeur saisie diffère grandement des coûts utilisés dans le modèle. Assurez-vous qu'il ne s'agit pas d'une erreur de saisie",""))
A41: Assurances diverses | E41: 20.02 | H41: =IF(G41="","",IF(OR(G41>E41*(1+0.5),G41<E41*(1-0.5)),"La valeur saisie diffère grandement des coûts utilisés dans le modèle. Assurez-vous qu'il ne s'agit pas d'une erreur de saisie",""))
A42: Taxes foncières | E42: 10.89 | H42: =IF(G42="","",IF(OR(G42>E42*(1+0.5),G42<E42*(1-0.5)),"La valeur saisie diffère grandement des coûts utilisés dans le modèle. Assurez-vous qu'il ne s'agit pas d'une erreur de saisie",""))
A43: Intérêts sur emprunts à moyen et long terme | E43: 47.94 | H43: =IF(G43="","",IF(OR(G43>E43*(1+0.5),G43<E43*(1-0.5)),"La valeur saisie diffère grandement des coûts utilisés dans le modèle. Assurez-vous qu'il ne s'agit pas d'une erreur de saisie",""))
A44: Autres frais | E44: 23.52 | H44: =IF(G44="","",IF(OR(G44>E44*(1+0.5),G44<E44*(1-0.5)),"La valeur saisie diffère grandement des coûts utilisés dans le modèle. Assurez-vous qu'il ne s'agit pas d'une erreur de saisie",""))
B45: Sous-total | E45: =SUM(E40:E44) -> 111.75 | G45: =SUM(G40:G44) -> 0
A47: MARGE BÉNÉFICIAIRE APRÈS FRAIS MONÉTAIRES | E47: =E37-E45 -> 198.1914 | G47: =G37-G45 -> 737.256
...

Sheet Blé_d'automne
E1: $/ha | G1: $/ha
E2: Périphérique | G2: Vos Coûts
A3: PRODUITS
A4: Vente | E4: =Saisies!B14*Saisies!B27 -> 1464 | G4: =IF(Saisies!C14="",Saisies!B14,Saisies!C14)*IF(Saisies!C27="",Saisies!B27,Saisies!C27) -> 1464 | H4: =IF(G4="","",IF(OR(G4>E4*(1+0.5),G4<E4*(1-0.5)),"La valeur saisie diffère grandement des coûts utilisés dans le modèle. Assurez-vous qu'il ne s'agit pas d'une erreur de saisie",""))
A5: Compensation d'assurance stabilisation | E5: =IF(ASRA_Calculs!$B$7<ASRA_Calculs!$C$7,(ASRA_Calculs!$C$7-ASRA_Calculs!$B$7)*ASRA_Calculs!$D$7,0) -> 0 | G5: =IF(ASRA_Calculs!$B$7<ASRA_Calculs!$C$7,(ASRA_Calculs!$C$7-ASRA_Calculs!$B$7)*ASRA_Calculs!$D$7,0) -> 0 | H5: =IF(G5="","",IF(OR(G5>E5*(1+0.5),G5<E5*(1-0.5)),"La valeur saisie diffère grandement des coûts utilisés dans le modèle. Assurez-vous qu'il ne s'agit pas d'une erreur de saisie",""))
A6: Revenus de pailles | E6: 148.98 | H6: =IF(G6="","",IF(OR(G6>E6*(1+0.5),G6<E6*(1-0.5)),"La valeur saisie diffère grandement des coûts utilisés dans le modèle. Assurez-vous qu'il ne s'agit pas d'une erreur de saisie",""))
A7: Agri-Québec et Agri-Investissement | E7: =(E4+E6-E15)*0.01 -> 14.4737 | G7: =(G4+G6-G15)*0.01 -> 14.64 | H7: =IF(G7="","",IF(OR(G7>E7*(1+0.5),G7<E7*(1-0.5)),"La valeur saisie diffère grandement des coûts utilisés dans le modèle. Assurez-vous qu'il ne s'agit pas d'une erreur de saisie",""))
A8: Autres revenus | E8: 56.21 | H8: =IF(G8="","",IF(OR(G8>E8*(1+0.5),G8<E8*(1-0.5)),"La valeur saisie diffère grandement des coûts utilisés dans le modèle. Assurez-vous qu'il ne s'agit pas d'une erreur de saisie",""))
A9: Autres revenus | E9: =SUM(E7:E8) -> 70.6837 | G9: =SUM(G7:G8) -> 14.64
A11: TOTAL PRODUITS | E11: =SUM(E4:E9) -> 1754.3474 | G11: =SUM(G4:G9) -> 1493.28
A14: FRAIS VARIABLES
A15: Semences | E15: 165.61 | H15: =IF(G15="","",IF(OR(G15>E15*(1+0.5),G15<E15*(1-0.5)),"La valeur saisie diffère grandement des coûts utilisés dans le modèle. Assurez-vous qu'il ne s'agit pas d'une erreur de saisie",""))
A16: Fertilisants | E16: 193.93 | H16: =IF(G16="","",IF(OR(G16>E16*(1+0.5),G16<E16*(1-0.5)),"La valeur saisie diffère grandement des coûts utilisés dans le modèle. Assurez-vous qu'il ne s'agit pas d'une erreur de saisie",""))
A17: Chaulage | E17: 4.7 | H17: =IF(G17="","",IF(OR(G17>E17*(1+0.5),G17<E17*(1-0.5)),"La valeur saisie diffère grandement des coûts utilisés dans le modèle. Assurez-vous qu'il ne s'agit pas d'une erreur de saisie",""))
A18: Pesticides | E18: 34.13 | H18: =IF(G18="","",IF(OR(G18>E18*(1+0.5),G18<E18*(1-0.5)),"La valeur saisie diffère grandement des coûts utilisés dans le modèle. Assurez-vous qu'il ne s'agit pas d'une erreur de saisie",""))
A19: Total des intrants | E19: =SUM(E15:E18) -> 398.37 | G19: =SUM(G15:G18) -> 0
A20: Location de machineries, bâtiments | E20: 7.55 | H20: =IF(G20="","",IF(OR(G20>E20*(1+0.5),G20<E20*(1-0.5)),"La valeur saisie diffère grandement des coûts utilisés dans le modèle. Assurez-vous qu'il ne s'agit pas d'une erreur de saisie",""))
A21: Location de fonds de terre | E21: 37.01 | H21: =IF(G21="","",IF(OR(G21>E21*(1+0.5),G21<E21*(1-0.5)),"La valeur saisie diffère grandement des coûts utilisés dans le modèle. Assurez-vous qu'il ne s'agit pas d'une erreur de saisie",""))
A22: Travaux à forfait | E22: 1.16 | H22: =IF(G22="","",IF(OR(G22>E22*(1+0.5),G22<E22*(1-0.5)),"La valeur saisie diffère grandement des coûts utilisés dans le modèle. Assurez-vous qu'il ne s'agit pas d'une erreur de saisie",""))
A23: Mais-d'oeuvre additionnelle | E23: 48.46 | H23: =IF(G23="","",IF(OR(G23>E23*(1+0.5),G23<E23*(1-0.5)),"La valeur saisie diffère grandement des coûts utilisés dans le modèle. Assurez-vous qu'il ne s'agit pas d'une erreur de saisie",""))
A24: Entretien et réparation machinerie | E24: 81.79 | H24: =IF(G24="","",IF(OR(G24>E24*(1+0.5),G24<E24*(1-0.5)),"La valeur saisie diffère grandement des coûts utilisés dans le modèle. Assurez-vous qu'il ne s'agit pas d'une erreur de saisie",""))
A25: Carburants | E25: 69.55 | H25: =IF(G25="","",IF(OR(G25>E25*(1+0.5),G25<E25*(1-0.5)),"La valeur saisie diffère grandement des coûts utilisés dans le modèle. Assurez-vous qu'il ne s'agit pas d'une erreur de saisie",""))
A26: Gaz propane | D26: =42.85/4 -> 10.7125 | E26: 53.49 | H26: =IF(G26="","",IF(OR(G26>E26*(1+0.5),G26<E26*(1-0.5)),"La valeur saisie diffère grandement des coûts utilisés dans le modèle. Assurez-vous qu'il ne s'agit pas d'une erreur de saisie",""))
A27: Total des frais de machinerie et main-d'oeuvre | E27: =SUM(E20:E26) -> 299.01 | G27: =SUM(G20:G26) -> 0
A28: Électricité | E28: 8.47 | H28: =IF(G28="","",IF(OR(G28>E28*(1+0.5),G28<E28*(1-0.5)),"La valeur saisie diffère grandement des coûts utilisés dans le modèle. Assurez-vous qu'il ne s'agit pas d'une erreur de saisie",""))
A29: Frais de mise en marché | D29: =51.96/4 -> 12.99 | E29: 21.48 | H29: =IF(G29="","",IF(OR(G29>E29*(1+0.5),G29<E29*(1-0.5)),"La valeur saisie diffère grandement des coûts utilisés dans le modèle. Assurez-vous qu'il ne s'agit pas d'une erreur de saisie",""))
A30: Intérêts sur emprunt à court terme | E30: 19.45 | H30: =IF(G30="","",IF(OR(G30>E30*(1+0.5),G30<E30*(1-0.5)),"La valeur saisie diffère grandement des coûts utilisés dans le modèle. Assurez-vous qu'il ne s'agit pas d'une erreur de saisie",""))
A31: Total des autres frais directs | E31: =SUM(E28:E30) -> 49.4 | G31: =SUM(G28:G30) -> 0
B32: Sous-total | E32: =E31+E27+E19 -> 746.78 | G32: =G19+G27+G31 -> 0
A34: Contribution d'assurance stabilisation | E34: 9.34 | H34: =IF(G34="","",IF(OR(G34>E34*(1+0.5),G34<E34*(1-0.5)),"La valeur saisie diffère grandement des coûts utilisés dans le modèle. Assurez-vous qu'il ne s'agit pas d'une erreur de saisie",""))
A35: Contribution aux autres programmes | E35: =27.06+9.41 -> 36.47 | H35: =IF(G35="","",IF(OR(G35>E35*(1+0.5),G35<E35*(1-0.5)),"La valeur saisie diffère grandement des coûts utilisés dans le modèle. Assurez-vous qu'il ne s'agit pas d'une erreur de saisie",""))
A37: MARGE BÉNÉFICIAIRE APRÈS COÛTS VARIABLES | E37: =E11-(E32+SUM(E34:E35)) -> 961.7574 | G37: =G11-(G32+SUM(G34:G35)) -> 1493.28
A39: FRAIS FIXES
A40: Entretien bâtiments et fonds de terre | E40: 13.01 | H40: =IF(G40="","",IF(OR(G40>E40*(1+0.5),G40<E40*(1-0.5)),"La valeur saisie diffère grandement des coûts utilisés dans le modèle. Assurez-vous qu'il ne s'agit pas d'une erreur de saisie",""))
A41: Assurances diverses | E41: 26.08 | H41: =IF(G41="","",IF(OR(G41>E41*(1+0.5),G41<E41*(1-0.5)),"La valeur saisie diffère grandement des coûts utilisés dans le modèle. Assurez-vous qu'il ne s'agit pas d'une erreur de saisie",""))
A42: Taxes foncières | E42: 11.88 | H42: =IF(G42="","",IF(OR(G42>E42*(1+0.5),G42<E42*(1-0.5)),"La valeur saisie diffère grandement des coûts utilisés dans le modèle. Assurez-vous qu'il ne s'agit pas d'une erreur de saisie",""))
A43: Intérêts sur emprunts à moyen et long terme | E43: 53.09 | H43: =IF(G43="","",IF(OR(G43>E43*(1+0.5),G43<E43*(1-0.5)),"La valeur saisie diffère grandement des coûts utilisés dans le modèle. Assurez-vous qu'il ne s'agit pas d'une erreur de saisie",""))
A44: Autres frais | E44: 36.15 | H44: =IF(G44="","",IF(OR(G44>E44*(1+0.5),G44<E44*(1-0.5)),"La valeur saisie diffère grandement des coûts utilisés dans le modèle. Assurez-vous qu'il ne s'agit pas d'une erreur de saisie",""))
B45: Sous-total | E45: =SUM(E40:E44) -> 140.21 | G45: =SUM(G40:G44) -> 0
A47: MARGE BÉNÉFICIAIRE APRÈS FRAIS MONÉTAIRES | E47: =E37-E45 -> 821.5474 | G47: =G37-G45 -> 1493.28
...

Sheet Blé_printemps
E1: $/ha | G1: $/ha
E2: Périphérique | G2: Vos Coûts
A3: PRODUITS
A4: Vente | E4: =Saisies!B13*Saisies!B26 -> 1171.2 | G4: =IF(Saisies!C13="",Saisies!B13,Saisies!C13)*IF(Saisies!C26="",Saisies!B26,Saisies!C26) -> 1171.2 | H4: =IF(G4="","",IF(OR(G4>E4*(1+0.5),G4<E4*(1-0.5)),"La valeur saisie diffère grandement des coûts utilisés dans le modèle. Assurez-vous qu'il ne s'agit pas d'une erreur de saisie",""))
A5: Compensation d'assurance stabilisation | E5: =IF(ASRA_Calculs!$B$7<ASRA_Calculs!$C$7,(ASRA_Calculs!$C$7-ASRA_Calculs!$B$7)*ASRA_Calculs!$D$7,0) -> 0 | G5: =IF(ASRA_Calculs!$B$7<ASRA_Calculs!$C$7,(ASRA_Calculs!$C$7-ASRA_Calculs!$B$7)*ASRA_Calculs!$D$7,0) -> 0 | H5: =IF(G5="","",IF(OR(G5>E5*(1+0.5),G5<E5*(1-0.5)),"La valeur saisie diffère grandement des coûts utilisés dans le modèle. Assurez-vous qu'il ne s'agit pas d'une erreur de saisie",""))
A6: Revenus de pailles | E6: 148.98 | H6: =IF(G6="","",IF(OR(G6>E6*(1+0.5),G6<E6*(1-0.5)),"La valeur saisie diffère grandement des coûts utilisés dans le modèle. Assurez-vous qu'il ne s'agit pas d'une erreur de saisie",""))
A7: Agri-Québec et Agri-Investissement | E7: =(E4+E6-E15)*0.01 -> 11.4278 | G7: =(G4+G6-G15)*0.01 -> 11.712 | H7: =IF(G7="","",IF(OR(G7>E7*(1+0.5),G7<E7*(1-0.5)),"La valeur saisie diffère grandement des coûts utilisés dans le modèle. Assurez-vous qu'il ne s'agit pas d'une erreur de saisie",""))
A8: Autres revenus | E8: 59.25 | H8: =IF(G8="","",IF(OR(G8>E8*(1+0.5),G8<E8*(1-0.5)),"La valeur saisie diffère grandement des coûts utilisés dans le modèle. Assurez-vous qu'il ne s'agit pas d'une erreur de saisie",""))
A9: Autres revenus | E9: =SUM(E7:E8) -> 70.6778 | G9: =SUM(G7:G8) -> 11.712
A11: TOTAL PRODUITS | E11: =SUM(E4:E9) -> 1461.5356 | G11: =SUM(G4:G9) -> 1194.624
A14: FRAIS VARIABLES
A15: Semences | E15: 177.4 | H15: =IF(G15="","",IF(OR(G15>E15*(1+0.5),G15<E15*(1-0.5)),"La valeur saisie diffère grandement des coûts utilisés dans le modèle. Assurez-vous qu'il ne s'agit pas d'une erreur de saisie",""))
A16: Fertilisants | E16: 193.93 | H16: =IF(G16="","",IF(OR(G16>E16*(1+0.5),G16<E16*(1-0.5)),"La valeur saisie diffère grandement des coûts utilisés dans le modèle. Assurez-vous qu'il ne s'agit pas d'une erreur de saisie",""))
A17: Chaulage | E17: 4.7 | H17: =IF(G17="","",IF(OR(G17>E17*(1+0.5),G17<E17*(1-0.5)),"La valeur saisie diffère grandement des coûts utilisés dans le modèle. Assurez-vous qu'il ne s'agit pas d'une erreur de saisie",""))
A18: Pesticides | E18: 60.95 | H18: =IF(G18="","",IF(OR(G18>E18*(1+0.5),G18<E18*(1-0.5)),"La valeur saisie diffère grandement des coûts utilisés dans le modèle. Assurez-vous qu'il ne s'agit pas d'une erreur de saisie",""))
A19: Total des intrants | E19: =SUM(E15:E18) -> 436.98 | G19: =SUM(G15:G18) -> 0
A20: Location de machineries, bâtiments | E20: 7.55 | H20: =IF(G20="","",IF(OR(G20>E20*(1+0.5),G20<E20*(1-0.5)),"La valeur saisie diffère grandement des coûts utilisés dans le modèle. Assurez-vous qu'il ne s'agit pas d'une erreur de saisie",""))
A21: Location de fonds de terre | E21: 37.01 | H21: =IF(G21="","",IF(OR(G21>E21*(1+0.5),G21<E21*(1-0.5)),"La valeur saisie diffère grandement des coûts utilisés dans le modèle. Assurez-vous qu'il ne s'agit pas d'une erreur de saisie",""))
A22: Travaux à forfait | E22: 1.16 | H22: =IF(G22="","",IF(OR(G22>E22*(1+0.5),G22<E22*(1-0.5)),"La valeur saisie diffère grandement des coûts utilisés dans le modèle. Assurez-vous qu'il ne s'agit pas d'une erreur de saisie",""))
A23: Mais-d'oeuvre additionnelle | E23: 48.46 | H23: =IF(G23="","",IF(OR(G23>E23*(1+0.5),G23<E23*(1-0.5)),"La valeur saisie diffère grandement des coûts utilisés dans le modèle. Assurez-vous qu'il ne s'agit pas d'une erreur de saisie",""))
A24: Entretien et réparation machinerie | E24: 81.79 | H24: =IF(G24="","",IF(OR(G24>E24*(1+0.5),G24<E24*(1-0.5)),"La valeur saisie diffère grandement des coûts utilisés dans le modèle. Assurez-vous qu'il ne s'agit pas d'une erreur de saisie",""))
A25: Carburants | E25: 69.55 | H25: =IF(G25="","",IF(OR(G25>E25*(1+0.5),G25<E25*(1-0.5)),"La valeur saisie diffère grandement des coûts utilisés dans le modèle. Assurez-vous qu'il ne s'agit pas d'une erreur de saisie",""))
A26: Gaz propane | D26: =42.85/3.2 -> 13.390625 | E26: 53.49 | H26: =IF(G26="","",IF(OR(G26>E26*(1+0.5),G26<E26*(1-0.5)),"La valeur saisie diffère grandement des coûts utilisés dans le modèle. Assurez-vous qu'il ne s'agit pas d'une erreur de saisie",""))
A27: Total des frais de machinerie et main-d'oeuvre | E27: =SUM(E20:E26) -> 299.01 | G27: =SUM(G20:G26) -> 0
A28: Électricité | E28: 8.47 | H28: =IF(G28="","",IF(OR(G28>E28*(1+0.5),G28<E28*(1-0.5)),"La valeur saisie diffère grandement des coûts utilisés dans le modèle. Assurez-vous qu'il ne s'agit pas d'une erreur de saisie",""))
