Workbook
Name Prix: Prix_CECPA!$A$2:$B$11
Name Prix_Titre: Prix_CECPA!$A$2:$B$2
Name Rend: Rendements_CECPA!$A$2:$B$10
Name Rend_Titre: Rendements_CECPA!$A$2:$B$2

Sheet GuideUtilisation
A1: OBJECTIFS
A2: Cet outil documente plusieurs types de marges bénéficiaires attendus selon la rotation employée. Cet outil se veut une aide à la décision pour le producteur agricole.
A4: DESCRIPTION DES ONGLETS
A5: Saisie | B5: Cet onglet permet de modifier les données initiales de l'entreprise agricole, notamment quant aux prix et aux rendements des différentes cultures. Le producteur peut donc inscrire ses propres prix et le rendement attendu dans les colonnes "Vos prix" et "Vos rendements". Si votre exploitation ne cultive pas cette production, ne rien inscrire dans la colonne "Vos rendements". L'outil considère des gains agronomiques liés à la diversification de la rotation et à l'ajout d'une culture de couverture. Vous pouvez inscrire les gains agronomiques attendus liés à la diversification de la rotation dans la colonne "Vos gains agronomiques". De plus, nous considérons que la culture de couverture permet de compenser pour la fertilisation azotée. Vous pouvez inscrire la compensation azotée attendue dans vos champs. Enfin, cet outil prend en compte que les gains provenant de la diversification de la rotation et de l'ajout de culture de couverture n'est pas instantanné. Ainsi, l'outil permet d'ajuster la portion des gains agronomiques attendus suite au premier cycle de rotation des cultures.
A6: Chanvre / Sarrasin / Orge / Avoine / Blé de printemps / Blé d'automne / Seigle / Seigle hybride / Prairie | B6: Cet onglet présente les modèles utilisés pour générer les coûts de production des cultures. L'utilisateur peut modifier les coûts pour refléter sa situation. Si un poste de dépenses ou de revenus n'est pas modifié par l'utilisateur, le modèle sélectionnera la donnée inscrite dans la région centrale ou périphérique.
A7: Gains agronomiques | B7: Cet onglet présente les différents gains agronomiques attendus lors de la diversification de la rotation et l'ajout de cultures de couverture. Ces données devront être mises à jour périodiquement.
A8: Cultures de couverture | B8: Cet onglet présente les coûts relatifs à la cultures de couverture.
A9: ASRA_Calculs | B9: Le modèle retient les données de l'ASRA pour calculer le prix minimal attendu par le producteur agricole. Les données de cet onglet devront être mis à jour annuellement.
A10: Rendements_CECPA / Prix_CECPA | B10: Le modèle retient les données initiales du CECPA quant au prix et au rendement des différentes cultures. Ces données pourraient être mises à jour périodiquement.
A11: Intermédiaire_Prod-Résultats | B11: Cet onglet lie les données inscrites par l'usager et les résultats.
A12: Résultats détaillés | B12: Cet onglet présente les résultats des marges bénéficiaires brutes, des marges monétaires et des marges nettes pour différentes rotations. Les résultats sont divisés entre ceux obtenus par le modèle (bleu) et ceux incorporant les modifications effectuées par l'usager (orange).
A13: Résultats sommaires | B13: Cet onglet présente les résultats des marges bénéficiaires brutes, des marges monétaires et des marges nettes selon les différents cycles de rotations. Les résultats sont divisés entre ceux obtenus par le modèle (bleu) et ceux incorporant les modifications effectuées par l'usager (orange). Il s'agit d'une récapitulation des résultats.
A15: LIMITES
A16: Il est à noter que cet outil est un outil d'aide à la décision et il doit être utiliser uniquement en ce sens. Avant de prendre des décisions de production, nous recommandons à ce que le producteur consulte son agronome-conseil pour prendre en compte tous les facteurs spécifiques à son entreprise agricole. Toutes décisions prises par les producteurs à l'aide de cet outil sont la responsabilité du producteur agricole et n'engage en aucun cas le groupe Concertation Grains Québec et les auteurs de l'outil.
A18: CONTACTS
A19: Marlène Thiboutot, Concertation Grains Québec.
A20: marlenethiboutot@concertationgrainsquebec.ca
A22: CONCEPTEURS
A23: Le présent outil est la propriété de Lota D. Tamini et de Philippe Leriche. Les propriétaires autorisent le groupe Concertation Grains Québec à diffuser l'outil, mais n'autorisent pas la commercialisation de celui-ci. Toutes autres diffusions ou commercialisations ne peuvent se faire sans l'autorisation écrites de ses propriétaires.

Sheet Saisies
A1: RÉGION | B1: Périphérique
A2: TYPE DE RÉGIE | B2: Biologique
A4: RENDEMENT
A5: Le modèle utilise les rendements ci-dessous pour la région sélectionnée. Si les rendements présents ne reflètent pas ceux observés sur votre ferme, nous vous invitons à les indiquer dans la colonne inscrite à cet effet. Si votre exploitation ne produit pas cette culture, ne rien inscrire dans la colonne.
B6: Rendements utilisés par le modèle (t/ha)
B7: Rendements associés à la région | C7: Vos rendements
A8: Chanvre | B8: =Rendements_CECPA!B3 -> 0.9
A9: Sarrasin | B9: =Rendements_CECPA!B4 -> 1.6
A10: Orge | B10: =Rendements_CECPA!B5 -> 2.5
A11: Avoine | B11: =Rendements_CECPA!B6 -> 2.2
A12: Blé de printemps | B12: =Rendements_CECPA!B8 -> 2.8
A13: Blé d'automne | B13: =Rendements_CECPA!B7 -> 3.5
A14: Seigle | B14: =Rendements_CECPA!B9 -> 2.1
A15: Seigle hybride | B15: =Rendements_CECPA!B10 -> 4.5
A16: Prairie | B16: =Rendements_CECPA!B11 -> 3
A18: PRIX
A19: Le modèle utilise les prix ci-dessous. Si les prix présents ne reflètent pas ceux observés sur votre ferme, nous vous invitons à les indiquer dans la colonne inscrite à cet effet. Si votre exploitation ne produit pas cette culture, ne rien inscrire dans la colonne.
B20: Prix utilisés par le modèle ($/t)
B21: Prix associés à la région | C21: Vos prix
A22: Chanvre | B22: =Prix_CECPA!B3 -> 2935
A23: Sarrasin | B23: =Prix_CECPA!B4 -> 1017.5
A24: Orge | B24: =Prix_CECPA!B5 -> 565
A25: Avoine | B25: =Prix_CECPA!B6 -> 435
A26: Blé de printemps | B26: =Prix_CECPA!B8 -> 569.8
A27: Blé d'automne | B27: =Prix_CECPA!B7 -> 569.8
A28: Seigle | B28: =Prix_CECPA!B9 -> 462.5
A29: Seigle hybride | B29: =Prix_CECPA!B10 -> 462.5
A30: Prairie | B30: =Prix_CECPA!B11 -> 209.09
A32: GAINS AGRONOMIQUES DE LA ROTATION ET CULTURES DE COUVERTURE
A33: Le modèle utilise les gains agronomiques1 ci-dessous. Si ces gains ne reflètent pas ceux observés sur votre ferme, nous vous invitons à les indiquer dans la colonne inscrite à cet effet. Si votre exploitation ne produit pas cette culture, ne rien inscrire dans la colonne. Si aucunes cultures de couverture ou engrais verts ne sont considérés par votre entreprise, inscrire 0 dans la case de gains azotée prévue à cet effet.
B35: Cultures de couverture
A36: Présence de cultures de couverture | B36: Oui
B39: Gains de rendement
B40: Gains de rendement | C40: Vos gains de rendement
A41: Chanvre | B41: 0
A42: Sarrasin | B42: 0
A43: Orge | B43: 0
A44: Avoine | B44: 0
A45: Blé de printemps | B45: 0
A46: Blé d'automne | B46: 0
...

Sheet Gains agronomiques
A1: Rotation
A2: Année | B2: Lieu | C2: Rotations | D2: Résultats | E2: Sources
A3: 2015 | B3: Guelph, Ontario | C3: A. Monoculture maïs B. Maïs-Maïs-Soya-Soya C. Maïs-Maïs-Luzerne-Luzerne D. Maïs-Maïs-Soya-Blé d'automne E. Maïs-Maïs-Avoine-Orge F. Maïs-Maïs-Soya-Blé d'automne_CC de trèfle rouge dans blé d'automne G. Maïs-Maïs-Avoine_CC de trèfle rouge dans l'avoine-Orge_CC de trèfle rouge dans l'orge | D3: La rotation B n'a aucune différence significative avec la rotation A. La rotation C permet des rendements de maïs 10 % plus élevés. La rotation D n'a aucune différence significative pour le rendement du maïs que la rotation B, mais permet des rendements 14 % plus élevés pour le soya que la rotation B. Les rotations E et F n'ont aucunes différences significatives avec la rotation B. La rotation G permet des rendements de 6 % plus élevés que la rotation B. | E3: Gaudin A.C.M., Tolhurst T.N., Ker A.P., Janovicek K., Tortora C., et al. (2015). Increasing Crop Diversity Mitigates Weather Variations and Improves Yield Stability. Dans Plos One. Vol 10(2). 20 pages.
A4: 2013 | B4: Guelph, Ontario | C4: A. Monoculture maïs B. Maïs-Soya C. Maïs-Soya-Blé d'automne D. Maïs-Soya-Blé d'automne_CC de trèfle rouge dans blé d'automne | D4: La rotation B permet des rendements de maïs entre 5-27 % plus élevée que la monoculture de maïs, et de soya entre 5-17 % plus élevé que la monoculture de soya. La rotation C permet des rendements de maïs de 12 % plus élevé que la rotation B, et des gains de rendements de soya de 10 % plus élevé que la rotation B. L'ajout de trèfle rouge augmente les rendements de 5 %. | E4: Tremblay G. (2016) Bénéfices des rotations en grandes cultures. Drummondville : CÉROM. 42 pages.
A5: 2009 | B5: Pennsylvanie | C5: A. Monoculture maïs B. Maïs-Soya C. 4 X Maïs- 4 X Luzerne D. Maïs-Avoine/Blé- 2 X Trèfle Rouge / Fléole des prés | D5: La rotation C permet des rendement de maïs entre 7 et 12 % plus élevée que la monoculture de maïs.
A6: 2011 | B6: Saint-Hyacinthe et Normandin | C6: A. Monoculture maïs B. Monoculture soya C. Maïs-soya D. Maïs-soya-Blé | D6: La rotation permet des gains de rendements de maïs de 6.8 % lorsqu'il y a labour et de 7.7 % lorsqu'il y a chisel par rapport à la monoculture. La rotation permet des gains de rendement du soya de 6.3 % lorsqu'il y a labour et de 3.5 % lorsqu'il y a chisel par rapport à la monoculture.
A7: 2014 | B7: Beloeil | C7: A. Monoculture de maïs B. Maïs-Soya-Blé C. Maïs-Soya-Blé-3X Prairie D. Prairie | D7: La rotation B permet des gains de rendements du maïs-grain de 14 % par rapport à la monoculture de maïs. La rotation C permet des gains de rendements de maïs-grain de 11 % par rapport à la monoculture de maïs.
A10: Cultures de couverture
A11: Année | B11: Lieu | C11: Cultures de couverture | D11: Résultats | E11: Sources
A12: 2022 | B12: Québec | C12: A. Tous types de cultures de couverture, tout mode d'implantation B. Tous types de cultures de couverture, implantation en dérobé et intercalaire. | D12: Les cultures de couverture en A permettent une augmentation du rendement de maïs de 13 % et des céréales de 22 %. Aucun impact dans le soya. Les cultures de couverture en B permettent une augmentation du rendement de maïs de 11 % et des céréales de 11 %. Aucun impact dans le soya. | E12: Vanasse A., Thibaudeau S. & Weill A. (2022). Guide des cultures de couverture en grandes cultures. Centre de référence en agriculture et agroalimentaire au Québec (CRAAQ). 204 pages.

Sheet Chanvre
E1: $/ha | G1: $/ha
E2: Périphérique | G2: Vos coûts
A4: PRODUITS
A5: Vente | E5: =Saisies!B8*Saisies!B22 -> 2641.5 | G5: =IF(Saisies!C8="",Saisies!B8,Saisies!C8)*IF(Saisies!C22="",Saisies!B22,Saisies!C22) -> 2641.5 | H5: =IF(G5="","",IF(OR(G5>E5*(1+0.5),G5<E5*(1-0.5)),"La valeur saisie diffère grandement des coûts utilisés dans le modèle. Assurez-vous qu'il ne s'agit pas d'une erreur de saisie",""))
A6: Compensation d'assurance stabilisation | E6: =IF(ASRA_Calculs!$B$2<ASRA_Calculs!$C$2,(ASRA_Calculs!$C$2-ASRA_Calculs!$B$2)*ASRA_Calculs!$D$2,0) -> 0 | G6: =IF(ASRA_Calculs!$B$2<ASRA_Calculs!$C$2,(ASRA_Calculs!$C$2-ASRA_Calculs!$B$2)*ASRA_Calculs!$D$2,0) -> 0 | H6: =IF(G6="","",IF(OR(G6>E6*(1+0.5),G6<E6*(1-0.5)),"La valeur saisie diffère grandement des coûts utilisés dans le modèle. Assurez-vous qu'il ne s'agit pas d'une erreur de saisie",""))
A7: Revenus de sous-produits | E7: 0 | H7: =IF(G7="","",IF(OR(G7>E7*(1+0.5),G7<E7*(1-0.5)),"La valeur saisie diffère grandement des coûts utilisés dans le modèle. Assurez-vous qu'il ne s'agit pas d'une erreur de saisie",""))
A8: Agri-Québec et Agri-Investissement | E8: =(E5-E16)*0.042 -> 99.65382 | G8: =(G5-G16)*0.042 -> 110.943
A9: Autres revenus | E9: 100.94 | H9: =IF(G9="","",IF(OR(G9>E9*(1+0.5),G9<E9*(1-0.5)),"La valeur saisie diffère grandement des coûts utilisés dans le modèle. Assurez-vous qu'il ne s'agit pas d'une erreur de saisie",""))
A10: Autres revenus | E10: =SUM(E8:E9) -> 200.59382 | G10: =SUM(G8:G9) -> 110.943
A12: TOTAL PRODUITS | E12: =SUM(E5:E7)+E10 -> 2842.0938 | G12: =SUM(G5:G7)+G10 -> 2752.443
A15: FRAIS MONÉTAIRE
A16: Semences | E16: 268.79
A17: Intrants de cultures | E17: 115.44
A18: Frais de mise en marché | D18: =37.97/0.9 -> 42.188889 | E18: 37.97
A19: Forfait et location | E19: 231.99
A20: Entretien | E20: 140.34
A21: Énergie | D21: =109.13/0.9 -> 121.25556 | E21: 109.13
A22: Taxes et assurances | E22: 68.27
A23: Frais de financement | E23: 113.75
A24: Autres frais | E24: 142.02
B25: Sous-total | E25: =SUM(E16:E24) -> 1227.7 | G25: =SUM(G16:G24) -> 0
A27: MARGE BÉNÉFICIAIRE APRÈS FRAIS MONÉTAIRES (MARGE MONÉTAIRE) | E27: =E12-E25 -> 1614.3938 | G27: =G12-G25 -> 2752.443
A29: FRAIS NON MONÉTAIRE
A30: Amortissements | E30: 398.54
A31: Rénumération du travail de l'exploitant | E31: 395.23 | H31: =IF(G31="","",IF(OR(G31>E31*(1+0.5),G31<E31*(1-0.5)),"La valeur saisie diffère grandement des coûts utilisés dans le modèle. Assurez-vous qu'il ne s'agit pas d'une erreur de saisie",""))
B32: Sous-total | E32: =SUM(E30:E31) -> 793.77 | G32: =SUM(G30:G31) -> 0
A34: MARGE BÉNÉFICIAIRE APRÈS LES AMORTISSEMENTS ET LES RÉNUMÉRATIONS DU TRAVAIL ET DE L'AVOIR (MARGE NETTE) | E34: =E27-E32 -> 820.62382 | G34: =G27-G32 -> 2752.443

Sheet Sarrasin
E1: $/ha | G1: $/ha
E2: Périphérique | G2: Vos coûts
A4: PRODUITS
A5: Vente | E5: =Saisies!B9*Saisies!B23 -> 1628 | G5: =IF(Saisies!C9="",Saisies!B9,Saisies!C9)*IF(Saisies!C23="",Saisies!B23,Saisies!C23) -> 1628 | H5: =IF(G5="","",IF(OR(G5>E5*(1+0.5),G5<E5*(1-0.5)),"La valeur saisie diffère grandement des coûts utilisés dans le modèle. Assurez-vous qu'il ne s'agit pas d'une erreur de saisie",""))
A6: Compensation d'assurance stabilisation | E6: =IF(ASRA_Calculs!$B$3<ASRA_Calculs!$C$3,(ASRA_Calculs!$C$3-ASRA_Calculs!$B$3)*ASRA_Calculs!$D$3,0) -> 0 | G6: =IF(ASRA_Calculs!$B$3<ASRA_Calculs!$C$3,(ASRA_Calculs!$C$3-ASRA_Calculs!$B$3)*ASRA_Calculs!$D$3,0) -> 0 | H6: =IF(G6="","",IF(OR(G6>E6*(1+0.5),G6<E6*(1-0.5)),"La valeur saisie diffère grandement des coûts utilisés dans le modèle. Assurez-vous qu'il ne s'agit pas d'une erreur de saisie",""))
A7: Revenus de sous-produits | E7: 0 | H7: =IF(G7="","",IF(OR(G7>E7*(1+0.5),G7<E7*(1-0.5)),"La valeur saisie diffère grandement des coûts utilisés dans le modèle. Assurez-vous qu'il ne s'agit pas d'une erreur de saisie",""))
A8: Agri-Québec et Agri-Investissement | E8: =(E5-E16)*0.042 -> 63.5187 | G8: =(G5-G16)*0.042 -> 68.376
A9: Autres revenus | E9: 176.08 | H9: =IF(G9="","",IF(OR(G9>E9*(1+0.5),G9<E9*(1-0.5)),"La valeur saisie diffère grandement des coûts utilisés dans le modèle. Assurez-vous qu'il ne s'agit pas d'une erreur de saisie",""))
A10: Autres revenus | E10: =SUM(E8:E9) -> 239.5987 | G10: =SUM(G8:G9) -> 68.376
A12: TOTAL PRODUITS | E12: =SUM(E5:E7)+E10 -> 1867.5987 | G12: =SUM(G5:G7)+G10 -> 1696.376
A15: FRAIS MONÉTAIRE
A16: Semences | E16: 115.65
A17: Intrants de cultures | E17: 48.9
A18: Frais de mise en marché | D18: =44.49/1.6 -> 27.80625 | E18: 44.49
A19: Forfait et location | E19: 145.07
A20: Entretien | E20: 209.65
A21: Énergie | D21: =160.38/1.6 -> 100.2375 | E21: 160.38
A22: Taxes et assurances | E22: 62.77
A23: Frais de financement | E23: 129.24
A24: Autres frais | E24: 77.56
B25: Sous-total | E25: =SUM(E16:E24) -> 993.71 | G25: =SUM(G16:G24) -> 0
A27: MARGE BÉNÉFICIAIRE APRÈS FRAIS MONÉTAIRES (MARGE MONÉTAIRE) | E27: =E12-E25 -> 873.8887 | G27: =G12-G25 -> 1696.376
A29: FRAIS NON MONÉTAIRE
A30: Amortissements | E30: 284.2
A31: Rénumération du travail de l'exploitant | E31: 459.57
B32: Sous-total | E32: =SUM(E30:E31) -> 743.77 | G32: =SUM(G30:G31) -> 0
A34: MARGE BÉNÉFICIAIRE APRÈS LES AMORTISSEMENTS ET LES RÉNUMÉRATIONS DU TRAVAIL ET DE L'AVOIR (MARGE NETTE) | E34: =E27-E32 -> 130.1187 | G34: =G27-G32 -> 1696.376

Sheet Orge
E1: $/ha | G1: $/ha
E2: Périphérique | G2: Vos coûts
A4: PRODUITS
A5: Vente | E5: =Saisies!B10*Saisies!B24 -> 1412.5 | G5: =IF(Saisies!C10="",Saisies!B10,Saisies!C10)*IF(Saisies!C24="",Saisies!B24,Saisies!C24) -> 1412.5 | H5: =IF(G5="","",IF(OR(G5>E5*(1+0.5),G5<E5*(1-0.5)),"La valeur saisie diffère grandement des coûts utilisés dans le modèle. Assurez-vous qu'il ne s'agit pas d'une erreur de saisie",""))
A6: Compensation d'assurance stabilisation | E6: =IF(ASRA_Calculs!$B$4<ASRA_Calculs!$C$4,(ASRA_Calculs!$C$4-ASRA_Calculs!$B$4)*ASRA_Calculs!$D$4,0) -> 0 | G6: =IF(ASRA_Calculs!$B$4<ASRA_Calculs!$C$4,(ASRA_Calculs!$C$4-ASRA_Calculs!$B$4)*ASRA_Calculs!$D$4,0) -> 0 | H6: =IF(G6="","",IF(OR(G6>E6*(1+0.5),G6<E6*(1-0.5)),"La valeur saisie diffère grandement des coûts utilisés dans le modèle. Assurez-vous qu'il ne s'agit pas d'une erreur de saisie",""))
A7: Revenus de sous-produits | E7: 0 | H7: =IF(G7="","",IF(OR(G7>E7*(1+0.5),G7<E7*(1-0.5)),"La valeur saisie diffère grandement des coûts utilisés dans le modèle. Assurez-vous qu'il ne s'agit pas d'une erreur de saisie",""))
A8: Agri-Québec et Agri-Investissement | E8: =(E5+E7-E16)*0.01 -> 11.6701 | G8: =(G5-G16)*0.01 -> 14.125
A9: Autres revenus | E9: 241.96 | H9: =IF(G9="","",IF(OR(G9>E9*(1+0.5),G9<E9*(1-0.5)),"La valeur saisie diffère grandement des coûts utilisés dans le modèle. Assurez-vous qu'il ne s'agit pas d'une erreur de saisie",""))
A10: Autres revenus | E10: =SUM(E8:E9) -> 253.6301 | G10: =SUM(G8:G9) -> 14.125
A12: TOTAL PRODUITS | E12: =SUM(E5:E7)+E10 -> 1666.1301 | G12: =SUM(G5:G7)+G10 -> 1426.625
A15: FRAIS MONÉTAIRE
A16: Semences | E16: 245.49
A17: Intrants de cultures | E17: 64.91
A18: Frais de mise en marché | D18: =14.87/2.5 -> 5.948 | E18: 14.87
A19: Forfait et location | E19: 323.33
A20: Entretien | E20: 204.14
A21: Énergie | D21: =122.32/2.5 -> 48.928 | E21: 122.32
A22: Taxes et assurances | E22: 54.75
A23: Frais de financement | E23: 100.27
A24: Autres frais | E24: 117.74
B25: Sous-total | E25: =SUM(E16:E24) -> 1247.82 | G25: =SUM(G16:G24) -> 0
A27: MARGE BÉNÉFICIAIRE APRÈS FRAIS MONÉTAIRES (MARGE MONÉTAIRE) | E27: =E12-E25 -> 418.3101 | G27: =G12-G25 -> 1426.625
A29: FRAIS NON MONÉTAIRE
A30: Amortissements | E30: 229.13
A31: Rénumération du travail de l'exploitant | E31: 385.78
B32: Sous-total | E32: =SUM(E30:E31) -> 614.91 | G32: =SUM(G30:G31) -> 0
A34: MARGE BÉNÉFICIAIRE APRÈS LES AMORTISSEMENTS ET LES RÉNUMÉRATIONS DU TRAVAIL ET DE L'AVOIR (MARGE NETTE) | E34: =E27-E32 -> -196.5999 | G34: =G27-G32 -> 1426.625

Sheet Avoine
E1: $/ha | G1: $/ha
E2: Périphérique | G2: Vos coûts
A4: PRODUITS
A5: Vente | E5: =Saisies!B11*Saisies!B25 -> 957 | G5: =IF(Saisies!C11="",Saisies!B11,Saisies!C11)*IF(Saisies!C25="",Saisies!B25,Saisies!C25) -> 957 | H5: =IF(G5="","",IF(OR(G5>E5*(1+0.5),G5<E5*(1-0.5)),"La valeur saisie diffère grandement des coûts utilisés dans le modèle. Assurez-vous qu'il ne s'agit pas d'une erreur de saisie",""))
A6: Compensation d'assurance stabilisation | E6: =IF(ASRA_Calculs!$B$5<ASRA_Calculs!$C$5,(ASRA_Calculs!$C$5-ASRA_Calculs!$B$5)*ASRA_Calculs!$D$5,0) -> 0 | G6: =IF(ASRA_Calculs!$B$5<ASRA_Calculs!$C$5,(ASRA_Calculs!$C$5-ASRA_Calculs!$B$5)*ASRA_Calculs!$D$5,0) -> 0 | H6: =IF(G6="","",IF(OR(G6>E6*(1+0.5),G6<E6*(1-0.5)),"La valeur saisie diffère grandement des coûts utilisés dans le modèle. Assurez-vous qu'il ne s'agit pas d'une erreur de saisie",""))
A7: Revenus de sous-produits | E7: 0 | H7: =IF(G7="","",IF(OR(G7>E7*(1+0.5),G7<E7*(1-0.5)),"La valeur saisie diffère grandement des coûts utilisés dans le modèle. Assurez-vous qu'il ne s'agit pas d'une erreur de saisie",""))
A8: Agri-Québec et Agri-Investissement | E8: =(E5+E7-E16)*0.01 -> 8.0924 | G8: =(G5-G16)*0.01 -> 9.57
A9: Autres revenus | E9: 132.27 | H9: =IF(G9="","",IF(OR(G9>E9*(1+0.5),G9<E9*(1-0.5)),"La valeur saisie diffère grandement des coûts utilisés dans le modèle. Assurez-vous qu'il ne s'agit pas d'une erreur de saisie",""))
A10: Autres revenus | E10: =SUM(E8:E9) -> 140.3624 | G10: =SUM(G8:G9) -> 9.57
A12: TOTAL PRODUITS | E12: =SUM(E5:E7)+E10 -> 1097.3624 | G12: =SUM(G5:G7)+G10 -> 966.57
A15: FRAIS MONÉTAIRE
A16: Semences | E16: 147.76 | H16: =IF(G16="","",IF(OR(G16>E16*(1+0.5),G16<E16*(1-0.5)),"La valeur saisie diffère grandement des coûts utilisés dans le modèle. Assurez-vous qu'il ne s'agit pas d'une erreur de saisie",""))
A17: Intrants de cultures | E17: 64.57 | H17: =IF(G17="","",IF(OR(G17>E17*(1+0.5),G17<E17*(1-0.5)),"La valeur saisie diffère grandement des coûts utilisés dans le modèle. Assurez-vous qu'il ne s'agit pas d'une erreur de saisie",""))
A18: Frais de mise en marché | D18: =44.99/2.2 -> 20.45 | E18: 44.99
A19: Forfait et location | E19: 272.22
A20: Entretien | E20: 163.11
A21: Énergie | D21: =119.16/2.2 -> 54.163636 | E21: 119.16 | H21: =IF(G21="","",IF(OR(G21>E21*(1+0.5),G21<E21*(1-0.5)),"La valeur saisie diffère grandement des coûts utilisés dans le modèle. Assurez-vous qu'il ne s'agit pas d'une erreur de saisie",""))
A22: Taxes et assurances | E22: 61.46 | H22: =IF(G22="","",IF(OR(G22>E22*(1+0.5),G22<E22*(1-0.5)),"La valeur saisie diffère grandement des coûts utilisés dans le modèle. Assurez-vous qu'il ne s'agit pas d'une erreur de saisie",""))
A23: Frais de financement | E23: 85.41 | H23: =IF(G23="","",IF(OR(G23>E23*(1+0.5),G23<E23*(1-0.5)),"La valeur saisie diffère grandement des coûts utilisés dans le modèle. Assurez-vous qu'il ne s'agit pas d'une erreur de saisie",""))
A24: Autres frais | E24: 194.85 | H24: =IF(G24="","",IF(OR(G24>E24*(1+0.5),G24<E24*(1-0.5)),"La valeur saisie diffère grandement des coûts utilisés dans le modèle. Assurez-vous qu'il ne s'agit pas d'une erreur de saisie",""))
B25: Sous-total | E25: =SUM(E16:E24) -> 1153.53 | G25: =SUM(G16:G24) -> 0
A27: MARGE BÉNÉFICIAIRE APRÈS FRAIS MONÉTAIRES (MARGE MONÉTAIRE) | E27: =E12-E25 -> -56.1676 | G27: =G12-G25 -> 966.57
A29: FRAIS NON MONÉTAIRE
A30: Amortissements | E30: 170.27 | H30: =IF(G30="","",IF(OR(G30>E30*(1+0.5),G30<E30*(1-0.5)),"La valeur saisie diffère grandement des coûts utilisés dans le modèle. Assurez-vous qu'il ne s'agit pas d'une erreur de saisie",""))
A31: Rénumération du travail de l'exploitant | E31: 346.94 | H31: =IF(G31="","",IF(OR(G31>E31*(1+0.5),G31<E31*(1-0.5)),"La valeur saisie diffère grandement des coûts utilisés dans le modèle. Assurez-vous qu'il ne s'agit pas d'une erreur de saisie",""))
B32: Sous-total | E32: =SUM(E30:E31) -> 517.21 | G32: =SUM(G30:G31) -> 0
A34: MARGE BÉNÉFICIAIRE APRÈS LES AMORTISSEMENTS ET LES RÉNUMÉRATIONS DU TRAVAIL ET DE L'AVOIR (MARGE NETTE) | E34: =E27-E32 -> -573.3776 | G34: =G27-G32 -> 966.57

Sheet Blé_d'automne
E1: $/ha | G1: $/ha
E2: Périphérique | G2: Vos coûts
A4: PRODUITS
A5: Vente | E5: =Saisies!B13*Saisies!B27 -> 1994.3 | G5: =IF(Saisies!C13="",Saisies!B13,Saisies!C13)*IF(Saisies!C27="",Saisies!B27,Saisies!C27) -> 1994.3 | H5: =IF(G5="","",IF(OR(G5>E5*(1+0.5),G5<E5*(1-0.5)),"La valeur saisie diffère grandement des coûts utilisés dans le modèle. Assurez-vous qu'il ne s'agit pas d'une erreur de saisie",""))
A6: Compensation d'assurance stabilisation | E6: =IF(ASRA_Calculs!$B$6<ASRA_Calculs!$C$6,(ASRA_Calculs!$C$6-ASRA_Calculs!$B$6)*ASRA_Calculs!$D$6,0) -> 0 | G6: =IF(ASRA_Calculs!$B$6<ASRA_Calculs!$C$6,(ASRA_Calculs!$C$6-ASRA_Calculs!$B$6)*ASRA_Calculs!$D$6,0) -> 0 | H6: =IF(G6="","",IF(OR(G6>E6*(1+0.5),G6<E6*(1-0.5)),"La valeur saisie diffère grandement des coûts utilisés dans le modèle. Assurez-vous qu'il ne s'agit pas d'une erreur de saisie",""))
A7: Revenus de sous-produits | E7: 0 | H7: =IF(G7="","",IF(OR(G7>E7*(1+0.5),G7<E7*(1-0.5)),"La valeur saisie diffère grandement des coûts utilisés dans le modèle. Assurez-vous qu'il ne s'agit pas d'une erreur de saisie",""))
A8: Agri-Québec et Agri-Investissement | E8: =(E5+E7-E16)*0.01 -> 17.786609 | G8: =(G5-G16)*0.01 -> 19.943
A9: Autres revenus | E9: 85.99 | H9: =IF(G9="","",IF(OR(G9>E9*(1+0.5),G9<E9*(1-0.5)),"La valeur saisie diffère grandement des coûts utilisés dans le modèle. Assurez-vous qu'il ne s'agit pas d'une erreur de saisie",""))
A10: Autres revenus | E10: =SUM(E8:E9) -> 103.77661 | G10: =SUM(G8:G9) -> 19.943
A12: TOTAL PRODUITS | E12: =SUM(E5:E7)+E10 -> 2098.0766 | G12: =SUM(G5:G7)+G10 -> 2014.243
A15: FRAIS MONÉTAIRE
A16: Semences | E16: =231.87*(1-0.07) -> 215.6391 | H16: =IF(G16="","",IF(OR(G16>E16*(1+0.5),G16<E16*(1-0.5)),"La valeur saisie diffère grandement des coûts utilisés dans le modèle. Assurez-vous qu'il ne s'agit pas d'une erreur de saisie",""))
A17: Intrants de cultures | E17: 86.56 | H17: =IF(G17="","",IF(OR(G17>E17*(1+0.5),G17<E17*(1-0.5)),"La valeur saisie diffère grandement des coûts utilisés dans le modèle. Assurez-vous qu'il ne s'agit pas d'une erreur de saisie",""))
A18: Frais de mise en marché | D18: =23.28/3.5 -> 6.6514286 | E18: 23.28
A19: Forfait et location | E19: 103.24
A20: Entretien | E20: 213.57
A21: Énergie | D21: =139.03/3.5 -> 39.722857 | E21: 139.03 | H21: =IF(G21="","",IF(OR(G21>E21*(1+0.5),G21<E21*(1-0.5)),"La valeur saisie diffère grandement des coûts utilisés dans le modèle. Assurez-vous qu'il ne s'agit pas d'une erreur de saisie",""))
A22: Taxes et assurances | E22: 88.19 | H22: =IF(G22="","",IF(OR(G22>E22*(1+0.5),G22<E22*(1-0.5)),"La valeur saisie diffère grandement des coûts utilisés dans le modèle. Assurez-vous qu'il ne s'agit pas d'une erreur de saisie",""))
A23: Frais de financement | E23: 95.61 | H23: =IF(G23="","",IF(OR(G23>E23*(1+0.5),G23<E23*(1-0.5)),"La valeur saisie diffère grandement des coûts utilisés dans le modèle. Assurez-vous qu'il ne s'agit pas d'une erreur de saisie",""))
A24: Autres frais | E24: 141.16 | H24: =IF(G24="","",IF(OR(G24>E24*(1+0.5),G24<E24*(1-0.5)),"La valeur saisie diffère grandement des coûts utilisés dans le modèle. Assurez-vous qu'il ne s'agit pas d'une erreur de saisie",""))
B25: Sous-total | E25: =SUM(E16:E24) -> 1106.2791 | G25: =SUM(G16:G24) -> 0
A27: MARGE BÉNÉFICIAIRE APRÈS FRAIS MONÉTAIRES (MARGE MONÉTAIRE) | E27: =E12-E25 -> 991.79751 | G27: =G12-G25 -> 2014.243
A29: FRAIS NON MONÉTAIRE
A30: Amortissements | E30: 256.24 | H30: =IF(G30="","",IF(OR(G30>E30*(1+0.5),G30<E30*(1-0.5)),"La valeur saisie diffère grandement des coûts utilisés dans le modèle. Assurez-vous qu'il ne s'agit pas d'une erreur de saisie",""))
A31: Rénumération du travail de l'exploitant | E31: 356.22 | H31: =IF(G31="","",IF(OR(G31>E31*(1+0.5),G31<E31*(1-0.5)),"La valeur saisie diffère grandement des coûts utilisés dans le modèle. Assurez-vous qu'il ne s'agit pas d'une erreur de saisie",""))
B32: Sous-total | E32: =SUM(E30:E31) -> 612.46 | G32: =SUM(G30:G31) -> 0
A34: MARGE BÉNÉFICIAIRE APRÈS LES AMORTISSEMENTS ET LES RÉNUMÉRATIONS DU TRAVAIL ET DE L'AVOIR (MARGE NETTE) | E34: =E27-E32 -> 379.33751 | G34: =G27-G32 -> 2014.243

Sheet Blé_printemps
E1: $/ha | G1: $/ha
E2: Périphérique | G2: Vos coûts
A4: PRODUITS
A5: Vente | E5: =Saisies!B12*Saisies!B26 -> 1595.44 | G5: =IF(Saisies!C12="",Saisies!B12,Saisies!C12)*IF(Saisies!C26="",Saisies!B26,Saisies!C26) -> 1595.44 | H5: =IF(G5="","",IF(OR(G5>E5*(1+0.5),G5<E5*(1-0.5)),"La valeur saisie diffère grandement des coûts utilisés dans le modèle. Assurez-vous qu'il ne s'agit pas d'une erreur de saisie",""))
A6: Compensation d'assurance stabilisation | E6: =IF(ASRA_Calculs!$B$6<ASRA_Calculs!$C$6,(ASRA_Calculs!$C$6-ASRA_Calculs!$B$6)*ASRA_Calculs!$D$6,0) -> 0 | G6: =IF(ASRA_Calculs!$B$6<ASRA_Calculs!$C$6,(ASRA_Calculs!$C$6-ASRA_Calculs!$B$6)*ASRA_Calculs!$D$6,0) -> 0 | H6: =IF(G6="","",IF(OR(G6>E6*(1+0.5),G6<E6*(1-0.5)),"La valeur saisie diffère grandement des coûts utilisés dans le modèle. Assurez-vous qu'il ne s'agit pas d'une erreur de saisie",""))
A7: Revenus de sous-produits | E7: 0 | H7: =IF(G7="","",IF(OR(G7>E7*(1+0.5),G7<E7*(1-0.5)),"La valeur saisie diffère grandement des coûts utilisés dans le modèle. Assurez-vous qu'il ne s'agit pas d'une erreur de saisie",""))
A8: Agri-Québec et Agri-Investissement | E8: =(E5+E7-E16)*0.01 -> 13.6357 | G8: =(G5-G16)*0.01 -> 15.9544
A9: Autres revenus | E9: 90.14 | H9: =IF(G9="","",IF(OR(G9>E9*(1+0.5),G9<E9*(1-0.5)),"La valeur saisie diffère grandement des coûts utilisés dans le modèle. Assurez-vous qu'il ne s'agit pas d'une erreur de saisie",""))
A10: Autres revenus | E10: =SUM(E8:E9) -> 103.7757 | G10: =SUM(G8:G9) -> 15.9544
A12: TOTAL PRODUITS | E12: =SUM(E5:E7)+E10 -> 1699.2157 | G12: =SUM(G5:G7)+G10 -> 1611.3944
A15: FRAIS MONÉTAIRE
A16: Semences | E16: =231.87 -> 231.87
A17: Intrants de cultures | E17: 86.56
A18: Frais de mise en marché | D18: =23.28/2.8 -> 8.3142857 | E18: 23.28
A19: Forfait et location | E19: 103.24
A20: Entretien | E20: 213.57
A21: Énergie | D21: =139.03/2.8 -> 49.653571 | E21: 139.03
A22: Taxes et assurances | E22: 88.19
A23: Frais de financement | E23: 95.61
A24: Autres frais | E24: 141.16
B25: Sous-total | E25: =SUM(E16:E24) -> 1122.51 | G25: =SUM(G16:G24) -> 0
A27: MARGE BÉNÉFICIAIRE APRÈS FRAIS MONÉTAIRES (MARGE MONÉTAIRE) | E27: =E12-E25 -> 576.7057 | G27: =G12-G25 -> 1611.3944
A29: FRAIS NON MONÉTAIRE
A30: Amortissements | E30: 256.24
A31: Rénumération du travail de l'exploitant | E31: 356.22 | H31: =IF(G31="","",IF(OR(G31>E31*(1+0.5),G31<E31*(1-0.5)),"La valeur saisie diffère grandement des coûts utilisés dans le modèle. Assurez-vous qu'il ne s'agit pas d'une erreur de saisie",""))
B32: Sous-total | E32: =SUM(E30:E31) -> 612.46 | G32: =SUM(G30:G31) -> 0
A34: MARGE BÉNÉFICIAIRE APRÈS LES AMORTISSEMENTS ET LES RÉNUMÉRATIONS DU TRAVAIL ET DE L'AVOIR (MARGE NETTE) | E34: =E27-E32 -> -35.7543 | G34: =G27-G32 -> 1611.3944

Sheet Seigle
E1: $/ha | G1: $/ha
E2: Périphérique | G2: Vos coûts
A4: PRODUITS
A5: Vente | E5: =Saisies!B14*Saisies!B28 -> 971.25 | G5: =IF(Saisies!C14="",Saisies!B14,Saisies!C14)*IF(Saisies!C28="",Saisies!B28,Saisies!C28) -> 971.25 | H5: =IF(G5="","",IF(OR(G5>E5*(1+0.5),G5<E5*(1-0.5)),"La valeur saisie diffère grandement des coûts utilisés dans le modèle. Assurez-vous qu'il ne s'agit pas d'une erreur de saisie",""))
A6: Compensation d'assurance stabilisation | E6: =IF(ASRA_Calculs!$B$8<ASRA_Calculs!$C$8,(ASRA_Calculs!$C$8-ASRA_Calculs!$B$8)*ASRA_Calculs!$D$8,0) -> 0 | G6: =IF(ASRA_Calculs!$B$8<ASRA_Calculs!$C$8,(ASRA_Calculs!$C$8-ASRA_Calculs!$B$8)*ASRA_Calculs!$D$8,0) -> 0 | H6: =IF(G6="","",IF(OR(G6>E6*(1+0.5),G6<E6*(1-0.5)),"La valeur saisie diffère grandement des coûts utilisés dans le modèle. Assurez-vous qu'il ne s'agit pas d'une erreur de saisie",""))
A7: Revenus de sous-produits | E7: 0 | H7: =IF(G7="","",IF(OR(G7>E7*(1+0.5),G7<E7*(1-0.5)),"La valeur saisie diffère grandement des coûts utilisés dans le modèle. Assurez-vous qu'il ne s'agit pas d'une erreur de saisie",""))
A8: Agri-Québec et Agri-Investissement | E8: =(E5+E7-E16)*0.042 -> 35.19348 | G8: =(G5-G16)*0.042 -> 40.7925
A9: Autres revenus | E9: 276.9 | H9: =IF(G9="","",IF(OR(G9>E9*(1+0.5),G9<E9*(1-0.5)),"La valeur saisie diffère grandement des coûts utilisés dans le modèle. Assurez-vous qu'il ne s'agit pas d'une erreur de saisie",""))
A10: Autres revenus | E10: =SUM(E8:E9) -> 312.09348 | G10: =SUM(G8:G9) -> 40.7925
A12: TOTAL PRODUITS | E12: =SUM(E5:E7)+E10 -> 1283.3435 | G12: =SUM(G5:G7)+G10 -> 1012.0425
A15: FRAIS MONÉTAIRE
A16: Semences | E16: 133.31
A17: Intrants de cultures | E17: 60.05
A18: Frais de mise en marché | D18: =39.03/2.1 -> 18.585714 | E18: 39.03
A19: Forfait et location | E19: 160.85
A20: Entretien | E20: 200.93
A21: Énergie | D21: =106.62/2.1 -> 50.771429 | E21: 106.62
A22: Taxes et assurances | E22: 55.35
A23: Frais de financement | E23: 93.52
A24: Autres frais | E24: 77.24
B25: Sous-total | E25: =SUM(E16:E24) -> 926.9 | G25: =SUM(G16:G24) -> 0
A27: MARGE BÉNÉFICIAIRE APRÈS FRAIS MONÉTAIRES (MARGE MONÉTAIRE) | E27: =E12-E25 -> 356.44348 | G27: =G12-G25 -> 1012.0425
A29: FRAIS NON MONÉTAIRE
A30: Amortissements | E30: 254.5
A31: Rénumération du travail de l'exploitant | E31: 324.72 | H31: =IF(G31="","",IF(OR(G31>E31*(1+0.5),G31<E31*(1-0.5)),"La valeur saisie diffère grandement des coûts utilisés dans le modèle. Assurez-vous qu'il ne s'agit pas d'une erreur de saisie",""))
B32: Sous-total | E32: =SUM(E30:E31) -> 579.22 | G32: =SUM(G30:G31) -> 0
A34: MARGE BÉNÉFICIAIRE APRÈS LES AMORTISSEMENTS ET LES RÉNUMÉRATIONS DU TRAVAIL ET DE L'AVOIR (MARGE NETTE) | E34: =E27-E32 -> -222.77652 | G34: =G27-G32 -> 1012.0425

Sheet Seigle_hybride
E1: $/ha | G1: $/ha
E2: Périphérique | G2: Vos coûts
A4: PRODUITS
A5: Vente | E5: =Saisies!B15*Saisies!B29 -> 2081.25 | G5: =IF(Saisies!C15="",Saisies!B15,Saisies!C15)*IF(Saisies!C29="",Saisies!B29,Saisies!C29) -> 2081.25 | H5: =IF(G5="","",IF(OR(G5>E5*(1+0.5),G5<E5*(1-0.5)),"La valeur saisie diffère grandement des coûts utilisés dans le modèle. Assurez-vous qu'il ne s'agit pas d'une erreur de saisie",""))
A6: Compensation d'assurance stabilisation | E6: =IF(ASRA_Calculs!$B$8<ASRA_Calculs!$C$8,(ASRA_Calculs!$C$8-ASRA_Calculs!$B$8)*ASRA_Calculs!$D$8,0) -> 0 | G6: =IF(ASRA_Calculs!$B$8<ASRA_Calculs!$C$8,(ASRA_Calculs!$C$8-ASRA_Calculs!$B$8)*ASRA_Calculs!$D$8,0) -> 0 | H6: =IF(G6="","",IF(OR(G6>E6*(1+0.5),G6<E6*(1-0.5)),"La valeur saisie diffère grandement des coûts utilisés dans le modèle. Assurez-vous qu'il ne s'agit pas d'une erreur de saisie",""))
A7: Revenus de sous-produits | E7: 0 | H7: =IF(G7="","",IF(OR(G7>E7*(1+0.5),G7<E7*(1-0.5)),"La valeur saisie diffère grandement des coûts utilisés dans le modèle. Assurez-vous qu'il ne s'agit pas d'une erreur de saisie",""))
A8: Agri-Québec et Agri-Investissement | E8: =(E5+E7-E16)*0.042 -> 76.21446 | G8: =(G5-G16)*0.042 -> 87.4125
A9: Autres revenus | E9: 235.88 | H9: =IF(G9="","",IF(OR(G9>E9*(1+0.5),G9<E9*(1-0.5)),"La valeur saisie diffère grandement des coûts utilisés dans le modèle. Assurez-vous qu'il ne s'agit pas d'une erreur de saisie",""))
A10: Autres revenus | E10: =SUM(E8:E9) -> 312.09446 | G10: =SUM(G8:G9) -> 87.4125
A12: TOTAL PRODUITS | E12: =SUM(E5:E7)+E10 -> 2393.3445 | G12: =SUM(G5:G7)+G10 -> 2168.6625
A15: FRAIS MONÉTAIRE
A16: Semences | E16: =133.31*2 -> 266.62 | H16: =IF(G16="","",IF(OR(G16>E16*(1+0.5),G16<E16*(1-0.5)),"La valeur saisie diffère grandement des coûts utilisés dans le modèle. Assurez-vous qu'il ne s'agit pas d'une erreur de saisie",""))
A17: Intrants de cultures | E17: 60.05 | H17: =IF(G17="","",IF(OR(G17>E17*(1+0.5),G17<E17*(1-0.5)),"La valeur saisie diffère grandement des coûts utilisés dans le modèle. Assurez-vous qu'il ne s'agit pas d'une erreur de saisie",""))
A18: Frais de mise en marché | D18: =39.03/4.5 -> 8.6733333 | E18: 39.03
A19: Forfait et location | E19: 160.85
A20: Entretien | E20: 200.93
A21: Énergie | D21: =106.62/4.5 -> 23.693333 | E21: 106.62 | H21: =IF(G21="","",IF(OR(G21>E21*(1+0.5),G21<E21*(1-0.5)),"La valeur saisie diffère grandement des coûts utilisés dans le modèle. Assurez-vous qu'il ne s'agit pas d'une erreur de saisie",""))
A22: Taxes et assurances | E22: 55.35 | H22: =IF(G22="","",IF(OR(G22>E22*(1+0.5),G22<E22*(1-0.5)),"La valeur saisie diffère grandement des coûts utilisés dans le modèle. Assurez-vous qu'il ne s'agit pas d'une erreur de saisie",""))
A23: Frais de financement | E23: 93.52 | H23: =IF(G23="","",IF(OR(G23>E23*(1+0.5),G23<E23*(1-0.5)),"La valeur saisie diffère grandement des coûts utilisés dans le modèle. Assurez-vous qu'il ne s'agit pas d'une erreur de saisie",""))
A24: Autres frais | E24: 77.24 | H24: =IF(G24="","",IF(OR(G24>E24*(1+0.5),G24<E24*(1-0.5)),"La valeur saisie diffère grandement des coûts utilisés dans le modèle. Assurez-vous qu'il ne s'agit pas d'une erreur de saisie",""))
B25: Sous-total | E25: =SUM(E16:E24) -> 1060.21 | G25: =SUM(G16:G24) -> 0
A27: MARGE BÉNÉFICIAIRE APRÈS FRAIS MONÉTAIRES (MARGE MONÉTAIRE) | E27: =E12-E25 -> 1333.1345 | G27: =G12-G25 -> 2168.6625
A29: FRAIS NON MONÉTAIRE
A30: Amortissements | E30: 254.5 | H30: =IF(G30="","",IF(OR(G30>E30*(1+0.5),G30<E30*(1-0.5)),"La valeur saisie diffère grandement des coûts utilisés dans le modèle. Assurez-vous qu'il ne s'agit pas d'une erreur de saisie",""))
A31: Rénumération du travail de l'exploitant | E31: 324.72 | H31: =IF(G31="","",IF(OR(G31>E31*(1+0.5),G31<E31*(1-0.5)),"La valeur saisie diffère grandement des coûts utilisés dans le modèle. Assurez-vous qu'il ne s'agit pas d'une erreur de saisie",""))
B32: Sous-total | E32: =SUM(E30:E31) -> 579.22 | G32: =SUM(G30:G31) -> 0
A34: MARGE BÉNÉFICIAIRE APRÈS LES AMORTISSEMENTS ET LES RÉNUMÉRATIONS DU TRAVAIL ET DE L'AVOIR (MARGE NETTE) | E34: =E27-E32 -> 753.91446 | G34: =G27-G32 -> 2168.6625

Sheet Prairie
E1: $/ha | G1: $/ha
E2: Périphérique | G2: Vos coûts
A4: PRODUITS
A5: Vente | E5: =Saisies!B16*Saisies!B30 -> 627.27 | G5: =IF(Saisies!C16="",Saisies!B16,Saisies!C16)*IF(Saisies!C30="",Saisies!B30,Saisies!C30) -> 627.27 | H5: =IF(G5="","",IF(OR(G5>E5*(1+0.5),G5<E5*(1-0.5)),"La valeur saisie diffère grandement des coûts utilisés dans le modèle. Assurez-vous qu'il ne s'agit pas d'une erreur de saisie",""))
A6: Compensation d'assurance stabilisation | E6: =IF(ASRA_Calculs!$B$9<ASRA_Calculs!$C$9,(ASRA_Calculs!$C$9-ASRA_Calculs!$B$9)*ASRA_Calculs!$D$9,0) -> 0 | G6: =IF(ASRA_Calculs!$B$9<ASRA_Calculs!$C$9,(ASRA_Calculs!$C$9-ASRA_Calculs!$B$9)*ASRA_Calculs!$D$9,0) -> 0 | H6: =IF(G6="","",IF(OR(G6>E6*(1+0.5),G6<E6*(1-0.5)),"La valeur saisie diffère grandement des coûts utilisés dans le modèle. Assurez-vous qu'il ne s'agit pas d'une erreur de saisie",""))
A7: Revenus de sous-produits | E7: 151 | H7: =IF(G7="","",IF(OR(G7>E7*(1+0.5),G7<E7*(1-0.5)),"La valeur saisie diffère grandement des coûts utilisés dans le modèle. Assurez-vous qu'il ne s'agit pas d'une erreur de saisie",""))
A8: Agri-Québec et Agri-Investissement | E8: =(E5+E7-E16)*0.042 -> 31.32654 | G8: =(G5-G16)*0.042 -> 26.34534
A9: Autres revenus | E9: 13 | H9: =IF(G9="","",IF(OR(G9>E9*(1+0.5),G9<E9*(1-0.5)),"La valeur saisie diffère grandement des coûts utilisés dans le modèle. Assurez-vous qu'il ne s'agit pas d'une erreur de saisie",""))
A10: Autres revenus | E10: =SUM(E8:E9) -> 44.32654 | G10: =SUM(G8:G9) -> 26.34534
A12: TOTAL PRODUITS | E12: =SUM(E5:E7)+E10 -> 822.59654 | G12: =SUM(G5:G7)+G10 -> 653.61534
A15: FRAIS MONÉTAIRE
A16: Semences | E16: =27*1.2 -> 32.4
A17: Intrants de cultures | E17: 58
A18: Frais de mise en marché | D18: =0/3.5 -> 0 | E18: 0
A19: Forfait et location | E19: =21+58+126 -> 205
A20: Entretien | E20: 171
A21: Énergie | D21: =122/3 -> 40.666667 | E21: =32+90 -> 122
A22: Taxes et assurances | E22: =52+22 -> 74
A23: Frais de financement | E23: 74
A24: Autres frais | E24: =12+40 -> 52
B25: Sous-total | E25: =SUM(E16:E24) -> 788.4 | G25: =SUM(G16:G24) -> 0
A27: MARGE BÉNÉFICIAIRE APRÈS FRAIS MONÉTAIRES (MARGE MONÉTAIRE) | E27: =E12-E25 -> 34.19654 | G27: =G12-G25 -> 653.61534
A29: FRAIS NON MONÉTAIRE
A30: Amortissements | E30: =171+55 -> 226
A31: Rénumération du travail de l'exploitant | E31: 335 | H31: =IF(G31="","",IF(OR(G31>E31*(1+0.5),G31<E31*(1-0.5)),"La valeur saisie diffère grandement des coûts utilisés dans le modèle. Assurez-vous qu'il ne s'agit pas d'une erreur de saisie",""))
B32: Sous-total | E32: =SUM(E30:E31) -> 561 | G32: =SUM(G30:G31) -> 0
A34: MARGE BÉNÉFICIAIRE APRÈS LES AMORTISSEMENTS ET LES RÉNUMÉRATIONS DU TRAVAIL ET DE L'AVOIR (MARGE NETTE) | E34: =E27-E32 -> -526.80346 | G34: =G27-G32 -> 653.61534

Sheet Cultures de couverture
A1: Mélange avoine-pois précédant un maïs
B2: Quantité (kg/ha) | C2: Prix ($/25kg) | D2: Total ($/ha) | E2: Total ($/ha)
A3: Coûts de semences
A4: Pois fourrager | B4: 90 | C4: 39.5 | D4: =ROUND(B4/25*C4,2) -> 142.2
A5: Avoine | B5: 60 | C5: 37.42 | D5: =ROUND(B5/25*C5,2) -> 89.81
A6: Opérations de semis | E6: =SUM(D4:D5) -> 232.01
A7: Coûts de semis-direct | E7: 54.45
A9: Coût total de la culture de couverture | E9: =E6+E7 -> 286.46
A12: Correspond à un mélange de pois fourrager et avoine. Les doses de semis proviennent du guide des cultures de couverture en grandes cultures provenant du CRAAQ. Le coût des semences provient des références économiques du CRAAQ sur les grains de semences. Le coût du semis-direct provient des références économique du CRAAQ sur la machinerie.

Sheet ASRA_Calculs
A1: 2020-2021 | B1: Revenu stabilisé ajusté | C1: Prix de marché | D1: Rendement du modèle
A2: Chanvre | B2: 0 | C2: 0 | D2: 0
A3: Sarrasin | B3: 0 | C3: 0 | D3: 0
A4: Orge | B4: 240.5 | C4: 240.12 | D4: 3.21
A5: Avoine | B5: 272.29 | C5: 243.64 | D5: 2.8
A6: Blé d'alimentation humaine | B6: 277.09 | C6: 276.01 | D6: 3.73
A7: Blé d'alimentation animale | B7: 257.53 | C7: 283.1 | D7: 3.56
A8: Seigle | B8: 0 | C8: 0 | D8: 0
A9: Prairie | B9: 0 | C9: 0 | D9: 0

Sheet Rendements_CECPA
A1: tm/ha
B2: Périphérique Biologique
A3: Chanvre | B3: 0.9
A4: Sarrasin | B4: 1.6
A5: Orge | B5: 2.5
A6: Avoine | B6: 2.2
A7: Blé d'automne | B7: =ROUND(B8*1.25,1) -> 3.5
A8: Blé de printemps | B8: 2.8
A9: Seigle | B9: 2.1
A10: Seigle hybride d'automne | B10: =B7+1 -> 4.5
A11: Prairie | B11: 3
A13: Région & Régie | B13: =Saisies!B1&" "&Saisies!B2 -> Périphérique Biologique

Sheet Prix_CECPA
A1: $/tm
B2: Périphérique Biologique
A3: Chanvre | B3: 2935
A4: Sarrasin | B4: 1017.5
A5: Orge | B5: 565
A6: Avoine | B6: 435
A7: Blé d'automne | B7: =B8 -> 569.8
A8: Blé de printemps | B8: 569.8
A9: Seigle | B9: 462.5
A10: Seigle hybride | B10: =B9 -> 462.5
A11: Prairie | B11: =ROUND(((50+65)/2)/0.275,2) -> 209.09
A13: Région et Régie | B13: =Saisies!B1&" "&Saisies!B2 -> Périphérique Biologique

Sheet Intermédiaire_Prod-Résultats
D1: Aucun gains agronomiques | AE1: 50 % de gains agronomiques | BF1: 100 % de gains agronomiques
D2: =Saisies!B1 -> Périphérique | E2: Votre ferme | G2: =D2 -> Périphérique | H2: Votre ferme | J2: =G2 -> Périphérique | K2: Votre ferme | M2: =J2 -> Périphérique | N2: Votre ferme | P2: =M2 -> Périphérique | Q2: Votre ferme | S2: =P2 -> Périphérique | T2: Votre ferme | V2: =S2 -> Périphérique | W2: Votre ferme | Y2: =V2 -> Périphérique | Z2: Votre ferme | AB2: =Y2 -> Périphérique | AC2: =Z2 -> Votre ferme | AE2: =D2 -> Périphérique | AF2: Votre ferme | AH2: =AE2 -> Périphérique | AI2: Votre ferme | AK2: =AH2 -> Périphérique | AL2: Votre ferme | AN2: =AK2 -> Périphérique | AO2: Votre ferme | AQ2: =AN2 -> Périphérique | AR2: Votre ferme | AT2: =AQ2 -> Périphérique | AU2: Votre ferme | AW2: =AT2 -> Périphérique | AX2: =AU2 -> Votre ferme | AZ2: =AW2 -> Périphérique | BA2: =AX2 -> Votre ferme | BC2: =AZ2 -> Périphérique | BD2: =BA2 -> Votre ferme | BF2: =AE2 -> Périphérique | BG2: Votre ferme | BI2: =BF2 -> Périphérique | BJ2: Votre ferme | BL2: =BI2 -> Périphérique | BM2: Votre ferme | BO2: =BL2 -> Périphérique | BP2: Votre ferme | BR2: =BO2 -> Périphérique | BS2: Votre ferme | BU2: =BR2 -> Périphérique | BV2: Votre ferme | BX2: =BU2 -> Périphérique | BY2: =BV2 -> Votre ferme | CA2: =BX2 -> Périphérique | CB2: =BY2 -> Votre ferme | CD2: =CA2 -> Périphérique | CE2: =CB2 -> Votre ferme
D3: Chanvre | E3: Chanvre | G3: Sarrasin | H3: Sarrasin | J3: Orge | K3: Orge | M3: Avoine | N3: Avoine | P3: Blé d'automne | Q3: =P3 -> Blé d'automne | S3: Blé de printemps | T3: Blé de printemps | V3: Seigle | W3: Seigle | Y3: Seigle hybride | Z3: Seigle hybride | AB3: Prairie | AC3: Prairie | AE3: Chanvre | AF3: Chanvre | AH3: Sarrasin | AI3: Sarrasin | AK3: Orge | AL3: Orge | AN3: Avoine | AO3: Avoine | AQ3: Blé d'automne | AR3: =AQ3 -> Blé d'automne | AT3: Blé de printemps | AU3: Blé de printemps | AW3: Seigle | AX3: Seigle | AZ3: Seigle hybride | BA3: Seigle hybride | BC3: Prairie | BD3: Prairie | BF3: Chanvre | BG3: Chanvre | BI3: Sarrasin | BJ3: Sarrasin | BL3: Orge | BM3: Orge | BO3: Avoine | BP3: Avoine | BR3: Blé d'automne | BS3: =BR3 -> Blé d'automne | BU3: Blé de printemps | BV3: Blé de printemps | BX3: Seigle | BY3: Seigle | CA3: Seigle hybride | CB3: Seigle hybride | CD3: Prairie | CE3: Prairie
A4: PRODUITS
A5: Vente | D5: =Chanvre!E5*(1+Saisies!B41*Saisies!B62) -> 2641.5 | E5: =IF(Chanvre!G5="",'Intermédiaire_Prod-Résultats'!D5,Chanvre!G5)*(1+IF(Saisies!C41="",Saisies!B41,Saisies!C41)*IF(Saisies!C62="",Saisies!B62,Saisies!C62)) -> 2641.5 | G5: =Sarrasin!E5*(1+Saisies!B42*Saisies!B62) -> 1628 | H5: =IF(Sarrasin!G5="",'Intermédiaire_Prod-Résultats'!G5,Sarrasin!G5)*(1+IF(Saisies!C42="",Saisies!B42,Saisies!C42)*IF(Saisies!C62="",Saisies!B62,Saisies!C62)) -> 1628 | J5: =Orge!E5*(1+Saisies!B43*Saisies!B62) -> 1412.5 | K5: =IF(Orge!G5="",'Intermédiaire_Prod-Résultats'!J5,Orge!G5)*(1+IF(Saisies!C43="",Saisies!B43,Saisies!C43)*IF(Saisies!C62="",Saisies!B62,Saisies!C62)) -> 1412.5 | M5: =Avoine!E5*(1+Saisies!B44*Saisies!B62) -> 957 | N5: =IF(Avoine!G5="",'Intermédiaire_Prod-Résultats'!M5,Avoine!G5)*(1+IF(Saisies!C44="",Saisies!B44,Saisies!C44)*IF(Saisies!C62="",Saisies!B62,Saisies!C62)) -> 957 | P5: ='Blé_d''automne'!E5*(1+Saisies!B46*Saisies!B62) -> 1994.3 | Q5: =IF('Blé_d''automne'!G5="",'Intermédiaire_Prod-Résultats'!P5,'Blé_d''automne'!G5)*(1+IF(Saisies!C46="",Saisies!B46,Saisies!C46)*IF(Saisies!C62="",Saisies!B62,Saisies!C62)) -> 1994.3 | S5: =Blé_printemps!E5*(1+Saisies!B45*Saisies!B62) -> 1595.44 | T5: =IF(Blé_printemps!G5="",'Intermédiaire_Prod-Résultats'!S5,Blé_printemps!G5)*(1+IF(Saisies!C45="",Saisies!B45,Saisies!C45)*IF(Saisies!C62="",Saisies!B62,Saisies!C62)) -> 1595.44 | V5: =Seigle!E5*(1+Saisies!B47*Saisies!B62) -> 971.25 | W5: =IF(Seigle!G5="",'Intermédiaire_Prod-Résultats'!V5,Seigle!G5)*(1+IF(Saisies!C47="",Saisies!B47,Saisies!C47)*IF(Saisies!C62="",Saisies!B62,Saisies!C62)) -> 971.25 | Y5: =Seigle_hybride!E5*(1+Saisies!B48*Saisies!B62) -> 2081.25 | Z5: =IF(Seigle_hybride!G5="",'Intermédiaire_Prod-Résultats'!Y5,Seigle_hybride!G5)*(1+IF(Saisies!C48="",Saisies!B48,Saisies!C48)*IF(Saisies!C62="",Saisies!B62,Saisies!C62)) -> 2081.25 | AB5: =Prairie!E5*(1+Saisies!B49*Saisies!B62) -> 627.27 | AC5: =IF(Prairie!G5="",'Intermédiaire_Prod-Résultats'!AB5,Prairie!G5)*(1+IF(Saisies!C49="",Saisies!B49,Saisies!C49)*IF(Saisies!C62="",Saisies!B62,Saisies!C62)) -> 627.27 | AE5: =Chanvre!E5*(1+Saisies!B41*Saisies!B63) -> 2641.5 | AF5: =IF(Chanvre!G5="",'Intermédiaire_Prod-Résultats'!AE5,Chanvre!G5)*(1+IF(Saisies!C41="",Saisies!B41,Saisies!C41)*IF(Saisies!C63="",Saisies!B63,Saisies!C63)) -> 2641.5 | AH5: =Sarrasin!E5*(1+Saisies!B42*Saisies!B63) -> 1628 | AI5: =IF(Sarrasin!G5="",'Intermédiaire_Prod-Résultats'!AH5,Sarrasin!G5)*(1+IF(Saisies!C42="",Saisies!B42,Saisies!C42)*IF(Saisies!C63="",Saisies!B63,Saisies!C63)) -> 1628 | AK5: =Orge!E5*(1+Saisies!B43*Saisies!B63) -> 1412.5 | AL5: =IF(Orge!G5="",'Intermédiaire_Prod-Résultats'!AK5,Orge!G5)*(1+IF(Saisies!C43="",Saisies!B43,Saisies!C43)*IF(Saisies!C63="",Saisies!B63,Saisies!C63)) -> 1412.5 | AN5: =Avoine!E5*(1+Saisies!B44*Saisies!B63) -> 957 | AO5: =IF(Avoine!G5="",'Intermédiaire_Prod-Résultats'!AN5,Avoine!G5)*(1+IF(Saisies!C44="",Saisies!B44,Saisies!C44)*IF(Saisies!C63="",Saisies!B63,Saisies!C63)) -> 957 | AQ5: ='Blé_d''automne'!E5*(1+Saisies!B46*Saisies!B63) -> 1994.3 | AR5: =IF('Blé_d''automne'!G5="",'Intermédiaire_Prod-Résultats'!AQ5,'Blé_d''automne'!G5)*(1+IF(Saisies!C46="",Saisies!B46,Saisies!C46)*IF(Saisies!C63="",Saisies!B63,Saisies!C63)) -> 1994.3 | AT5: =Blé_printemps!E5*(1+Saisies!B45*Saisies!B63) -> 1595.44 | AU5: =IF(Blé_printemps!G5="",'Intermédiaire_Prod-Résultats'!AT5,Blé_printemps!G5)*(1+IF(Saisies!C45="",Saisies!B45,Saisies!C45)*IF(Saisies!C63="",Saisies!B63,Saisies!C63)) -> 1595.44 | AW5: =Seigle!E5*(1+Saisies!B47*Saisies!B63) -> 971.25 | AX5: =IF(Seigle!G5="",'Intermédiaire_Prod-Résultats'!AW5,Seigle!G5)*(1+IF(Saisies!C47="",Saisies!B47,Saisies!C47)*IF(Saisies!C63="",Saisies!B63,Saisies!C63)) -> 971.25 | AZ5: =Seigle_hybride!E5*(1+Saisies!B48*Saisies!B63) -> 2081.25 | BA5: =IF(Seigle_hybride!G5="",'Intermédiaire_Prod-Résultats'!AZ5,Seigle_hybride!G5)*(1+IF(Saisies!C48="",Saisies!B48,Saisies!C48)*IF(Saisies!C63="",Saisies!B63,Saisies!C63)) -> 2081.25 | BC5: =Prairie!E5*(1+Saisies!B49*Saisies!B63) -> 627.27 | BD5: =IF(Prairie!G5="",'Intermédiaire_Prod-Résultats'!BC5,Prairie!G5)*(1+IF(Saisies!C49="",Saisies!B49,Saisies!C49)*IF(Saisies!C63="",Saisies!B63,Saisies!C63)) -> 627.27 | BF5: =Chanvre!E5*(1+Saisies!B41*Saisies!B64) -> 2641.5 | BG5: =IF(Chanvre!G5="",IF(Saisies!C8="",Saisies!B8,Saisies!C8)*IF(Saisies!C22="",Saisies!B22,Saisies!C22),Chanvre!G5)*(1+IF(Saisies!C41="",Saisies!B41,Saisies!C41)*IF(Saisies!C64="",Saisies!B64,Saisies!C64)) -> 2641.5 | BI5: =Sarrasin!E5*(1+Saisies!B42*Saisies!B64) -> 1628 | BJ5: =IF(Sarrasin!G5="",'Intermédiaire_Prod-Résultats'!BI5,Sarrasin!G5)*(1+IF(Saisies!C42="",Saisies!B42,Saisies!C42)*IF(Saisies!C64="",Saisies!B64,Saisies!C64)) -> 1628 | BL5: =Orge!E5*(1+Saisies!B43*Saisies!B64) -> 1412.5 | BM5: =IF(Orge!G5="",'Intermédiaire_Prod-Résultats'!BL5,Orge!G5)*(1+IF(Saisies!C43="",Saisies!B43,Saisies!C43)*IF(Saisies!C64="",Saisies!B64,Saisies!C64)) -> 1412.5 | BO5: =Avoine!E5*(1+Saisies!B44*Saisies!B64) -> 957 | BP5: =IF(Avoine!G5="",'Intermédiaire_Prod-Résultats'!BO5,Avoine!G5)*(1+IF(Saisies!C44="",Saisies!B44,Saisies!C44)*IF(Saisies!C64="",Saisies!B64,Saisies!C64)) -> 957 | BR5: ='Blé_d''automne'!E5*(1+Saisies!B46*Saisies!B64) -> 1994.3 | BS5: =IF('Blé_d''automne'!G5="",'Intermédiaire_Prod-Résultats'!BR5,'Blé_d''automne'!G5)*(1+IF(Saisies!C46="",Saisies!B46,Saisies!C46)*IF(Saisies!C64="",Saisies!B64,Saisies!C64)) -> 1994.3 | BU5: =Blé_printemps!E5*(1+Saisies!B45*Saisies!B64) -> 1595.44 | BV5: =IF(Blé_printemps!G5="",'Intermédiaire_Prod-Résultats'!BU5,Blé_printemps!G5)*(1+IF(Saisies!C45="",Saisies!B45,Saisies!C45)*IF(Saisies!C64="",Saisies!B64,Saisies!C64)) -> 1595.44 | BX5: =Seigle!E5*(1+Saisies!B47*Saisies!B64) -> 971.25 | BY5: =IF(Seigle!G5="",'Intermédiaire_Prod-Résultats'!BX5,Seigle!G5)*(1+IF(Saisies!C47="",Saisies!B47,Saisies!C47)*IF(Saisies!C64="",Saisies!B64,Saisies!C64)) -> 971.25 | CA5: =Seigle_hybride!E5*(1+Saisies!B48*Saisies!B64) -> 2081.25 | CB5: =IF(Seigle_hybride!G5="",'Intermédiaire_Prod-Résultats'!CA5,Seigle_hybride!G5)*(1+IF(Saisies!C48="",Saisies!B48,Saisies!C48)*IF(Saisies!C64="",Saisies!B64,Saisies!C64)) -> 2081.25 | CD5: =Prairie!E5*(1+Saisies!B49*Saisies!B64) -> 627.27 | CE5: =IF(Prairie!G5="",'Intermédiaire_Prod-Résultats'!CD5,Prairie!G5)*(1+IF(Saisies!C49="",Saisies!B49,Saisies!C49)*IF(Saisies!C64="",Saisies!B64,Saisies!C64)) -> 627.27
A6: Compensation d'assurance stabilisation | D6: =Chanvre!E6 -> 0 | E6: =IF(Chanvre!G6="",'Intermédiaire_Prod-Résultats'!D6,Chanvre!G6) -> 0 | G6: =Sarrasin!E6 -> 0 | H6: =IF(Sarrasin!G6="",'Intermédiaire_Prod-Résultats'!G6,Sarrasin!G6) -> 0 | J6: =Orge!E6 -> 0 | K6: =IF(Orge!G6="",'Intermédiaire_Prod-Résultats'!J6,Orge!G6) -> 0 | M6: =Avoine!E6 -> 0 | N6: =IF(Avoine!G6="",'Intermédiaire_Prod-Résultats'!M6,Avoine!G6) -> 0 | P6: ='Blé_d''automne'!E6 -> 0 | Q6: =IF('Blé_d''automne'!G6="",'Intermédiaire_Prod-Résultats'!P6,'Blé_d''automne'!G6) -> 0 | S6: =Blé_printemps!E6 -> 0 | T6: =IF(Blé_printemps!G6="",'Intermédiaire_Prod-Résultats'!S6,Blé_printemps!G6) -> 0 | V6: =Seigle!E6 -> 0 | W6: =IF(Seigle!G6="",'Intermédiaire_Prod-Résultats'!V6,Seigle!G6) -> 0 | Y6: =Seigle_hybride!E6 -> 0 | Z6: =IF(Seigle_hybride!G6="",'Intermédiaire_Prod-Résultats'!Y6,Seigle_hybride!G6) -> 0 | AB6: =Prairie!E6 -> 0 | AC6: =IF(Prairie!G6="",'Intermédiaire_Prod-Résultats'!AB6,Prairie!G6) -> 0 | AE6: =Chanvre!E6 -> 0 | AF6: =IF(Chanvre!G6="",'Intermédiaire_Prod-Résultats'!AE6,Chanvre!G6) -> 0 | AH6: =Sarrasin!E6 -> 0 | AI6: =IF(Sarrasin!G6="",'Intermédiaire_Prod-Résultats'!AH6,Sarrasin!G6) -> 0 | AK6: =Orge!E6 -> 0 | AL6: =IF(Orge!G6="",'Intermédiaire_Prod-Résultats'!AK6,Orge!G6) -> 0 | AN6: =Avoine!E6 -> 0 | AO6: =IF(Avoine!G6="",'Intermédiaire_Prod-Résultats'!AN6,Avoine!G6) -> 0 | AQ6: ='Blé_d''automne'!E6 -> 0 | AR6: =IF('Blé_d''automne'!G6="",'Intermédiaire_Prod-Résultats'!AQ6,'Blé_d''automne'!G6) -> 0 | AT6: =Blé_printemps!E6 -> 0 | AU6: =IF(Blé_printemps!G6="",'Intermédiaire_Prod-Résultats'!AT6,Blé_printemps!G6) -> 0 | AW6: =Seigle!E6 -> 0 | AX6: =IF(Seigle_hybride!G6="",'Intermédiaire_Prod-Résultats'!AW6,Seigle_hybride!G6) -> 0 | AZ6: =Seigle_hybride!E6 -> 0 | BA6: =IF(Seigle_hybride!G6="",'Intermédiaire_Prod-Résultats'!AZ6,Seigle_hybride!G6) -> 0 | BC6: =Prairie!E6 -> 0 | BD6: =IF(Prairie!G6="",'Intermédiaire_Prod-Résultats'!BC6,Prairie!G6) -> 0 | BF6: =Chanvre!E6 -> 0 | BG6: =IF(Chanvre!G6="",'Intermédiaire_Prod-Résultats'!BF6,Chanvre!G6) -> 0 | BI6: =Sarrasin!E6 -> 0 | BJ6: =IF(Sarrasin!G6="",'Intermédiaire_Prod-Résultats'!BI6,Sarrasin!G6) -> 0 | BL6: =Orge!E6 -> 0 | BM6: =IF(Orge!G6="",'Intermédiaire_Prod-Résultats'!BL6,Orge!G6) -> 0 | BO6: =Avoine!E6 -> 0 | BP6: =IF(Avoine!G6="",'Intermédiaire_Prod-Résultats'!BO6,Avoine!G6) -> 0 | BR6: ='Blé_d''automne'!E6 -> 0 | BS6: =IF('Blé_d''automne'!G6="",'Intermédiaire_Prod-Résultats'!BR6,'Blé_d''automne'!G6) -> 0 | BU6: =Blé_printemps!E6 -> 0 | BV6: =IF(Blé_printemps!G6="",'Intermédiaire_Prod-Résultats'!BU6,Blé_printemps!G6) -> 0 | BX6: =Seigle!E6 -> 0 | BY6: =IF(Seigle!G6="",'Intermédiaire_Prod-Résultats'!BX6,Seigle!G6) -> 0 | CA6: =Seigle_hybride!E6 -> 0 | CB6: =IF(Seigle_hybride!G6="",'Intermédiaire_Prod-Résultats'!CA6,Seigle_hybride!G6) -> 0 | CD6: =Prairie!E6 -> 0 | CE6: =IF(Prairie!G6="",'Intermédiaire_Prod-Résultats'!CD6,Prairie!G6) -> 0
A7: Revenus de sous-produits | D7: =Chanvre!E7 -> 0 | E7: =IF(Chanvre!G7="",'Intermédiaire_Prod-Résultats'!D7,Chanvre!G7) -> 0 | G7: =Sarrasin!E7 -> 0 | H7: =IF(Sarrasin!G7="",'Intermédiaire_Prod-Résultats'!G7,Sarrasin!G7) -> 0 | J7: =Orge!E7 -> 0 | K7: =IF(Orge!G7="",'Intermédiaire_Prod-Résultats'!J7,Orge!G7) -> 0 | M7: =Avoine!E7 -> 0 | N7: =IF(Avoine!G7="",'Intermédiaire_Prod-Résultats'!M7,Avoine!G7) -> 0 | P7: ='Blé_d''automne'!E7 -> 0 | Q7: =IF('Blé_d''automne'!G7="",'Intermédiaire_Prod-Résultats'!P7,'Blé_d''automne'!G7) -> 0 | S7: =Blé_printemps!E7 -> 0 | T7: =IF(Blé_printemps!G7="",'Intermédiaire_Prod-Résultats'!S7,Blé_printemps!G7) -> 0 | V7: =Seigle!E7 -> 0 | W7: =IF(Seigle!G7="",'Intermédiaire_Prod-Résultats'!V7,Seigle!G7) -> 0 | Y7: =Seigle_hybride!E7 -> 0 | Z7: =IF(Seigle_hybride!G7="",'Intermédiaire_Prod-Résultats'!Y7,Seigle_hybride!G7) -> 0 | AB7: =Prairie!E7 -> 151 | AC7: =IF(Prairie!G7="",'Intermédiaire_Prod-Résultats'!AB7,Prairie!G7) -> 151 | AE7: =Chanvre!E7 -> 0 | AF7: =IF(Chanvre!G7="",'Intermédiaire_Prod-Résultats'!AE7,Chanvre!G7) -> 0 | AH7: =Sarrasin!E7 -> 0 | AI7: =IF(Sarrasin!G7="",'Intermédiaire_Prod-Résultats'!AH7,Sarrasin!G7) -> 0 | AK7: =Orge!E7 -> 0 | AL7: =IF(Orge!G7="",'Intermédiaire_Prod-Résultats'!AK7,Orge!G7) -> 0 | AN7: =Avoine!E7 -> 0 | AO7: =IF(Avoine!G7="",'Intermédiaire_Prod-Résultats'!AN7,Avoine!G7) -> 0 | AQ7: ='Blé_d''automne'!E7 -> 0 | AR7: =IF('Blé_d''automne'!G7="",'Intermédiaire_Prod-Résultats'!AQ7,'Blé_d''automne'!G7) -> 0 | AT7: =Blé_printemps!E7 -> 0 | AU7: =IF(Blé_printemps!G7="",'Intermédiaire_Prod-Résultats'!AT7,Blé_printemps!G7) -> 0 | AW7: =Seigle!E7 -> 0 | AX7: =IF(Seigle_hybride!G7="",'Intermédiaire_Prod-Résultats'!AW7,Seigle_hybride!G7) -> 0 | AZ7: =Seigle_hybride!E7 -> 0 | BA7: =IF(Seigle_hybride!G7="",'Intermédiaire_Prod-Résultats'!AZ7,Seigle_hybride!G7) -> 0 | BC7: =Prairie!E7 -> 151 | BD7: =IF(Prairie!G7="",'Intermédiaire_Prod-Résultats'!BC7,Prairie!G7) -> 151 | BF7: =Chanvre!E7 -> 0 | BG7: =IF(Chanvre!G7="",'Intermédiaire_Prod-Résultats'!BF7,Chanvre!G7) -> 0 | BI7: =Sarrasin!E7 -> 0 | BJ7: =IF(Sarrasin!G7="",'Intermédiaire_Prod-Résultats'!BI7,Sarrasin!G7) -> 0 | BL7: =Orge!E7 -> 0 | BM7: =IF(Orge!G7="",'Intermédiaire_Prod-Résultats'!BL7,Orge!G7) -> 0 | BO7: =Avoine!E7 -> 0 | BP7: =IF(Avoine!G7="",'Intermédiaire_Prod-Résultats'!BO7,Avoine!G7) -> 0 | BR7: ='Blé_d''automne'!E7 -> 0 | BS7: =IF('Blé_d''automne'!G7="",'Intermédiaire_Prod-Résultats'!BR7,'Blé_d''automne'!G7) -> 0 | BU7: =Blé_printemps!E7 -> 0 | BV7: =IF(Blé_printemps!G7="",'Intermédiaire_Prod-Résultats'!BU7,Blé_printemps!G7) -> 0 | BX7: =Seigle!E7 -> 0 | BY7: =IF(Seigle!G7="",'Intermédiaire_Prod-Résultats'!BX7,Seigle!G7) -> 0 | CA7: =Seigle_hybride!E7 -> 0 | CB7: =IF(Seigle_hybride!G7="",'Intermédiaire_Prod-Résultats'!CA7,Seigle_hybride!G7) -> 0 | CD7: =Prairie!E7 -> 151 | CE7: =IF(Prairie!G7="",'Intermédiaire_Prod-Résultats'!CD7,Prairie!G7) -> 151
A8: Agri-Québec et Agri-Investissement | D8: =(D5-D15)*0.042 -> 99.65382 | E8: =(E5-E15)*0.042 -> 99.65382 | G8: =(G5-G15)*0.042 -> 63.5187 | H8: =(H5-H15)*0.042 -> 63.5187 | J8: =(J5-J15)*0.01 -> 11.6701 | K8: =(K5-K15)*0.01 -> 11.6701 | M8: =(M5-M15)*0.01 -> 8.0924 | N8: =(N5-N15)*0.01 -> 8.0924 | P8: =(P5-P15)*0.01 -> 17.786609 | Q8: =(Q5-Q15)*0.01 -> 17.786609 | S8: =(S5-S15)*0.01 -> 13.6357 | T8: =(T5-T15)*0.01 -> 13.6357 | V8: =(V5-V15)*0.01 -> 8.3794 | W8: =(W5-W15)*0.01 -> 8.3794 | Y8: =(Y5-Y15)*0.01 -> 18.1463 | Z8: =(Z5-Z15)*0.01 -> 18.1463 | AB8: =(AB5-AB15)*0.01 -> 5.9487 | AC8: =(AC5-AC15)*0.01 -> 5.9487 | AE8: =(AE5-AE15)*0.042 -> 99.65382 | AF8: =(AF5-AF15)*0.042 -> 99.65382 | AH8: =(AH5-AH15)*0.042 -> 63.5187 | AI8: =(AI5-AI15)*0.042 -> 63.5187 | AK8: =(AK5-AK15)*0.01 -> 11.6701 | AL8: =(AL5-AL15)*0.01 -> 11.6701 | AN8: =(AN5-AN15)*0.01 -> 8.0924 | AO8: =(AO5-AO15)*0.01 -> 8.0924 | AQ8: =(AQ5-AQ15)*0.01 -> 17.786609 | AR8: =(AR5-AR15)*0.01 -> 17.786609 | AT8: =(AT5-AT15)*0.01 -> 13.6357 | AU8: =(AU5-AU15)*0.01 -> 13.6357 | AW8: =(AW5-AW15)*0.01 -> 8.3794 | AX8: =(AX5-AX15)*0.01 -> 8.3794 | AZ8: =(AZ5-AZ15)*0.01 -> 18.1463 | BA8: =(BA5-BA15)*0.01 -> 18.1463 | BC8: =(BC5-BC15)*0.01 -> 5.9487 | BD8: =(BD5-BD15)*0.01 -> 5.9487 | BF8: =(BF5-BF15)*0.042 -> 99.65382 | BG8: =(BG5-BG15)*0.042 -> 99.65382 | BI8: =(BI5-BI15)*0.042 -> 63.5187 | BJ8: =(BJ5-BJ15)*0.042 -> 63.5187 | BL8: =(BL5-BL15)*0.01 -> 11.6701 | BM8: =(BM5-BM15)*0.01 -> 11.6701 | BO8: =(BO5-BO15)*0.01 -> 8.0924 | BP8: =(BP5-BP15)*0.01 -> 8.0924 | BR8: =(BR5-BR15)*0.01 -> 17.786609 | BS8: =(BS5-BS15)*0.01 -> 17.786609 | BU8: =(BU5-BU15)*0.01 -> 13.6357 | BV8: =(BV5-BV15)*0.01 -> 13.6357 | BX8: =(BX5-BX15)*0.01 -> 8.3794 | BY8: =(BY5-BY15)*0.01 -> 8.3794 | CA8: =(CA5-CA15)*0.01 -> 18.1463 | CB8: =(CB5-CB15)*0.01 -> 18.1463 | CD8: =(CD5-CD15)*0.01 -> 5.9487 | CE8: =(CE5-CE15)*0.01 -> 5.9487
