Workbook
Name Prix: Prix_CECPA!$A$2:$B$10
Name Prix_Titre: Prix_CECPA!$A$2:$B$2
Name Rend: Rendements_CECPA!$A$2:$B$10
Name Rend_Titre: Rendements_CECPA!$A$2:$B$2

Sheet GuideUtilisation
A1: OBJECTIFS
A2: Cet outil documente plusieurs types de marges bénéficiaires attendus selon la rotation employée. Cet outil se veut une aide à la décision pour le producteur agricole.
A4: DESCRIPTION DES ONGLETS
A5: Saisie | B5: Cet onglet permet de modifier les données initiales de l'entreprise agricole, notamment quant aux prix et aux rendements des différentes cultures. Le producteur peut donc inscrire ses propres prix et le rendement attendu dans les colonnes "Vos prix" et "Vos rendements". Si votre exploitation ne cultive pas cette production, ne rien inscrire dans la colonne "Vos rendements". L'outil considère des gains agronomiques liés à la diversification de la rotation et à l'ajout d'une culture de couverture. Vous pouvez inscrire les gains agronomiques attendus liés à la diversification de la rotation dans la colonne "Vos gains agronomiques". De plus, nous considérons que la culture de couverture permet de compenser pour la fertilisation azotée. Vous pouvez inscrire la compensation azotée attendue dans vos champs. Enfin, cet outil prend en compte que les gains provenant de la diversification de la rotation et de l'ajout de culture de couverture n'est pas instantanné. Ainsi, l'outil permet d'ajuster la portion des gains agronomiques attendus suite au premier cycle de rotation des cultures.
A6: Maïs-grain / Soya / Orge / Avoine / Blé d'automne / Blé de printemps / Seigle / Seigle hybride | B6: Cet onglet présente les modèles utilisés pour générer les coûts de production des cultures. L'utilisateur peut modifier les coûts pour refléter sa situation. Si un poste de dépenses ou de revenus n'est pas modifié par l'utilisateur, le modèle sélectionnera la donnée inscrite dans la région centrale ou périphérique.
A7: Gains agronomiques | B7: Cet onglet présente les différents gains agronomiques attendus lors de la diversification de la rotation et l'ajout de cultures de couverture. Ces données devront être mises à jour périodiquement.
A8: Cultures de couverture | B8: Cet onglet présente les coûts relatifs à la cultures de couverture.
A9: ASRA_Calculs | B9: Le modèle retient les données de l'ASRA pour calculer le prix minimal attendu par le producteur agricole. Les données de cet onglet devront être mis à jour annuellement.
A10: Rendements_CECPA / Prix_CECPA | B10: Le modèle retient les données initiales du CECPA quant au prix et au rendement des différentes cultures. Ces données pourraient être mises à jour périodiquement.
A11: Intermédiaire_Prod-Résultats | B11: Cet onglet lie les données inscrites par l'usager et les résultats.
A12: Résultats détaillés | B12: Cet onglet présente les résultats des marges bénéficiaires brutes, des marges monétaires et des marges nettes pour différentes rotations. Les résultats sont divisés entre ceux obtenus par le modèle (bleu) et ceux incorporant les modifications effectuées par l'usager (orange).
A13: Résultats sommaires | B13: Cet onglet présente les résultats des marges bénéficiaires brutes, des marges monétaires et des marges nettes selon les différents cycles de rotations. Les résultats sont divisés entre ceux obtenus par le modèle (bleu) et ceux incorporant les modifications effectuées par l'usager (orange). Il s'agit d'une récapitulation des résultats.
A15: LIMITES
A16: Il est à noter que cet outil est un outil d'aide à la décision et il doit être utiliser uniquement en ce sens. Avant de prendre des décisions de production, nous recommandons à ce que le producteur consulte son agronome-conseil pour prendre en compte tous les facteurs spécifiques à son entreprise agricole. Toutes décisions prises par les producteurs à l'aide de cet outil sont la responsabilité du producteur agricole et n'engage en aucun cas le groupe Concertation Grains Québec et les auteurs de l'outil.
A18: CONTACTS
A19: Marlène Thiboutot, Concertation Grains Québec.
A20: marlenethiboutot@concertationgrainsquebec.ca
A22: CONCEPTEURS
A23: Le présent outil est la propriété de Lota D. Tamini et de Philippe Leriche. Les propriétaires autorisent le groupe Concertation Grains Québec à diffuser l'outil, mais n'autorisent pas la commercialisation de celui-ci. Toutes autres diffusions ou commercialisations ne peuvent se faire sans l'autorisation écrites de ses propriétaires.

Sheet Saisies
A1: RÉGION | B1: Centrale
A2: TYPE DE RÉGIE | B2: Biologique
A4: RENDEMENT
A5: Le modèle utilise les rendements ci-dessous pour la région sélectionnée. Si les rendements présents ne reflètent pas ceux observés sur votre ferme, nous vous invitons à les indiquer dans la colonne inscrite à cet effet. Si votre exploitation ne produit pas cette culture, ne rien inscrire dans la colonne.
B6: Rendements utilisés par le modèle (t/ha)
B7: Rendements associés à la région | C7: Vos rendements
A8: Maïs-grain | B8: =Rendements_CECPA!B3 -> 8.5
A9: Soya | B9: =Rendements_CECPA!B4 -> 2.6
A10: Orge | B10: =Rendements_CECPA!B5 -> 2.9
A11: Avoine | B11: =Rendements_CECPA!B6 -> 2.2
A12: Blé de printemps panifiable | B12: =Rendements_CECPA!B8 -> 2.4
A13: Blé d'automne panifiable | B13: =Rendements_CECPA!B7 -> 3.2
A14: Seigle | B14: =Rendements_CECPA!B9 -> 2.1
A15: Seigle hybride d'automne | B15: =Rendements_CECPA!B10 -> 4.2
A17: PRIX
A18: Le modèle utilise les prix ci-dessous. Si les prix présents ne reflètent pas ceux observés sur votre ferme, nous vous invitons à les indiquer dans la colonne inscrite à cet effet. Si votre exploitation ne produit pas cette culture, ne rien inscrire dans la colonne.
B19: Prix utilisés par le modèle ($/t)
B20: Prix associés à la région | C20: Vos prix
A21: Maïs-grain | B21: =Prix_CECPA!B3 -> 431.7
A22: Soya | B22: =Prix_CECPA!B4 -> 1018
A23: Orge | B23: =Prix_CECPA!B5 -> 565
A24: Avoine | B24: =Prix_CECPA!B6 -> 435
A25: Blé de printemps panifiable | B25: =Prix_CECPA!B8 -> 569.8
A26: Blé d'automne panifiable | B26: =Prix_CECPA!B7 -> 569.8
A27: Seigle | B27: =Prix_CECPA!B9 -> 462.5
A28: Seigle hybride d'automne | B28: =Prix_CECPA!B10 -> 462.5
A30: GAINS AGRONOMIQUES DE LA ROTATION ET CULTURES DE COUVERTURE
A31: Le modèle utilise les gains agronomiques1 ci-dessous. Si ces gains ne reflètent pas ceux observés sur votre ferme, nous vous invitons à les indiquer dans la colonne inscrite à cet effet. Si votre exploitation ne produit pas cette culture, ne rien inscrire dans la colonne. Si aucunes cultures de couverture ou engrais verts ne sont considérés par votre entreprise, inscrire 0 dans la case de gains azotée prévue à cet effet.
B33: Cultures de couverture
A34: Présence de cultures de couverture | B34: Oui
B37: Gains de rendement
B38: Gains de rendement | C38: Vos gains de rendement
A39: Maïs-grain | B39: 0
A40: Soya | B40: 0
A41: Orge | B41: 0
A42: Avoine | B42: 0
A43: Blé de printemps | B43: 0
A44: Blé d'automne | B44: 0
A45: Seigle | B45: 0
A46: Seigle hybride | B46: 0
...

Sheet Gains agronomiques
A1: Rotation
A2: Année | B2: Lieu | C2: Rotations | D2: Résultats | E2: Sources
A3: 2015 | B3: Guelph, Ontario | C3: A. Monoculture maïs B. Maïs-Maïs-Soya-Soya C. Maïs-Maïs-Luzerne-Luzerne D. Maïs-Maïs-Soya-Blé d'automne E. Maïs-Maïs-Avoine-Orge F. Maïs-Maïs-Soya-Blé d'automne_CC de trèfle rouge dans blé d'automne G. Maïs-Maïs-Avoine_CC de trèfle rouge dans l'avoine-Orge_CC de trèfle rouge dans l'orge | D3: La rotation B n'a aucune différence significative avec la rotation A. La rotation C permet des rendements de maïs 10 % plus élevés. La rotation D n'a aucune différence significative pour le rendement du maïs que la rotation B, mais permet des rendements 14 % plus élevés pour le soya que la rotation B. Les rotations E et F n'ont aucunes différences significatives avec la rotation B. La rotation G permet des rendements de 6 % plus élevés que la rotation B. | E3: Gaudin A.C.M., Tolhurst T.N., Ker A.P., Janovicek K., Tortora C., et al. (2015). Increasing Crop Diversity Mitigates Weather Variations and Improves Yield Stability. Dans Plos One. Vol 10(2). 20 pages.
A4: 2013 | B4: Guelph, Ontario | C4: A. Monoculture maïs B. Maïs-Soya C. Maïs-Soya-Blé d'automne D. Maïs-Soya-Blé d'automne_CC de trèfle rouge dans blé d'automne | D4: La rotation B permet des rendements de maïs entre 5-27 % plus élevée que la monoculture de maïs, et de soya entre 5-17 % plus élevé que la monoculture de soya. La rotation C permet des rendements de maïs de 12 % plus élevé que la rotation B, et des gains de rendements de soya de 10 % plus élevé que la rotation B. L'ajout de trèfle rouge augmente les rendements de 5 %. | E4: Tremblay G. (2016) Bénéfices des rotations en grandes cultures. Drummondville : CÉROM. 42 pages.
A5: 2009 | B5: Pennsylvanie | C5: A. Monoculture maïs B. Maïs-Soya C. 4 X Maïs- 4 X Luzerne D. Maïs-Avoine/Blé- 2 X Trèfle Rouge / Fléole des prés | D5: La rotation C permet des rendement de maïs entre 7 et 12 % plus élevée que la monoculture de maïs.
A6: 2011 | B6: Saint-Hyacinthe et Normandin | C6: A. Monoculture maïs B. Monoculture soya C. Maïs-soya D. Maïs-soya-Blé | D6: La rotation permet des gains de rendements de maïs de 6.8 % lorsqu'il y a labour et de 7.7 % lorsqu'il y a chisel par rapport à la monoculture. La rotation permet des gains de rendement du soya de 6.3 % lorsqu'il y a labour et de 3.5 % lorsqu'il y a chisel par rapport à la monoculture.
A7: 2014 | B7: Beloeil | C7: A. Monoculture de maïs B. Maïs-Soya-Blé C. Maïs-Soya-Blé-3X Prairie D. Prairie | D7: La rotation B permet des gains de rendements du maïs-grain de 14 % par rapport à la monoculture de maïs. La rotation C permet des gains de rendements de maïs-grain de 11 % par rapport à la monoculture de maïs.
A10: Cultures de couverture
A11: Année | B11: Lieu | C11: Cultures de couverture | D11: Résultats | E11: Sources
A12: 2022 | B12: Québec | C12: A. Tous types de cultures de couverture, tout mode d'implantation B. Tous types de cultures de couverture, implantation en dérobé et intercalaire. | D12: Les cultures de couverture en A permettent une augmentation du rendement de maïs de 13 % et des céréales de 22 %. Aucun impact dans le soya. Les cultures de couverture en B permettent une augmentation du rendement de maïs de 11 % et des céréales de 11 %. Aucun impact dans le soya. | E12: Vanasse A., Thibaudeau S. & Weill A. (2022). Guide des cultures de couverture en grandes cultures. Centre de référence en agriculture et agroalimentaire au Québec (CRAAQ). 204 pages.

Sheet Maïs-grain
E1: $/ha | G1: $/ha
E2: Centrale | G2: Vos coûts
A4: PRODUITS
A5: Vente | E5: =Saisies!B8*Saisies!B21 -> 3669.45 | G5: =IF(Saisies!C8="",Saisies!B8,Saisies!C8)*IF(Saisies!C21="",Saisies!B21,Saisies!C21) -> 3669.45 | H5: =IF(G5="","",IF(OR(G5>E5*(1+0.5),G5<E5*(1-0.5)),"La valeur saisie diffère grandement des coûts utilisés dans le modèle. Assurez-vous qu'il ne s'agit pas d'une erreur de saisie",""))
A6: Compensation d'assurance stabilisation | E6: =IF(ASRA_Calculs!$B$2<ASRA_Calculs!$C$2,(ASRA_Calculs!$C$2-ASRA_Calculs!$B$2)*ASRA_Calculs!$D$2,0) -> 0 | G6: =IF(ASRA_Calculs!$B$2<ASRA_Calculs!$C$2,(ASRA_Calculs!$C$2-ASRA_Calculs!$B$2)*ASRA_Calculs!$D$2,0) -> 0 | H6: =IF(G6="","",IF(OR(G6>E6*(1+0.5),G6<E6*(1-0.5)),"La valeur saisie diffère grandement des coûts utilisés dans le modèle. Assurez-vous qu'il ne s'agit pas d'une erreur de saisie",""))
A7: Revenus de sous-produits | E7: 0 | H7: =IF(G7="","",IF(OR(G7>E7*(1+0.5),G7<E7*(1-0.5)),"La valeur saisie diffère grandement des coûts utilisés dans le modèle. Assurez-vous qu'il ne s'agit pas d'une erreur de saisie",""))
A8: Agri-Québec et Agri-Investissement | E8: =(E5-E16)*0.042 -> 144.01086 | G8: =(G5-G16)*0.042 -> 154.1169
A9: Autres revenus | E9: =E10-E8 -> 74.69914 | H9: =IF(G9="","",IF(OR(G9>E9*(1+0.5),G9<E9*(1-0.5)),"La valeur saisie diffère grandement des coûts utilisés dans le modèle. Assurez-vous qu'il ne s'agit pas d'une erreur de saisie",""))
A10: Autres revenus | E10: 218.71 | G10: =SUM(G8:G9) -> 154.1169
A12: TOTAL PRODUITS | E12: =SUM(E5:E7)+E10 -> 3888.16 | G12: =SUM(G5:G7)+G10 -> 3823.5669
A15: FRAIS MONÉTAIRE
A16: Semences | E16: 240.62 | H16: =IF(G16="","",IF(OR(G16>E16*(1+0.5),G16<E16*(1-0.5)),"La valeur saisie diffère grandement des coûts utilisés dans le modèle. Assurez-vous qu'il ne s'agit pas d'une erreur de saisie",""))
A17: Intrants de cultures | E17: 183.37 | H17: =IF(G17="","",IF(OR(G17>E17*(1+0.5),G17<E17*(1-0.5)),"La valeur saisie diffère grandement des coûts utilisés dans le modèle. Assurez-vous qu'il ne s'agit pas d'une erreur de saisie",""))
A18: Frais de mise en marché | D18: =32.39/8.5 -> 3.8105882 | E18: 32.39
A19: Forfait et location | E19: 413.65
A20: Entretien | E20: 258.98
A21: Énergie | D21: =195.6/8.5 -> 23.011765 | E21: 195.6 | H21: =IF(G21="","",IF(OR(G21>E21*(1+0.5),G21<E21*(1-0.5)),"La valeur saisie diffère grandement des coûts utilisés dans le modèle. Assurez-vous qu'il ne s'agit pas d'une erreur de saisie",""))
A22: Taxes et assurances | E22: 95.15 | H22: =IF(G22="","",IF(OR(G22>E22*(1+0.5),G22<E22*(1-0.5)),"La valeur saisie diffère grandement des coûts utilisés dans le modèle. Assurez-vous qu'il ne s'agit pas d'une erreur de saisie",""))
A23: Frais de financement | E23: 117.13 | H23: =IF(G23="","",IF(OR(G23>E23*(1+0.5),G23<E23*(1-0.5)),"La valeur saisie diffère grandement des coûts utilisés dans le modèle. Assurez-vous qu'il ne s'agit pas d'une erreur de saisie",""))
A24: Autres frais | E24: 71.98 | H24: =IF(G24="","",IF(OR(G24>E24*(1+0.5),G24<E24*(1-0.5)),"La valeur saisie diffère grandement des coûts utilisés dans le modèle. Assurez-vous qu'il ne s'agit pas d'une erreur de saisie",""))
B25: Sous-total | E25: =SUM(E16:E24) -> 1608.87 | G25: =SUM(G16:G24) -> 0
A27: MARGE BÉNÉFICIAIRE APRÈS FRAIS MONÉTAIRES (MARGE MONÉTAIRE) | E27: =E12-E25 -> 2279.29 | G27: =G12-G25 -> 3823.5669
A29: FRAIS NON MONÉTAIRE
A30: Amortissements | E30: 363.27 | H30: =IF(G30="","",IF(OR(G30>E30*(1+0.5),G30<E30*(1-0.5)),"La valeur saisie diffère grandement des coûts utilisés dans le modèle. Assurez-vous qu'il ne s'agit pas d'une erreur de saisie",""))
A31: Rénumération du travail de l'exploitant | E31: 506.44 | H31: =IF(G31="","",IF(OR(G31>E31*(1+0.5),G31<E31*(1-0.5)),"La valeur saisie diffère grandement des coûts utilisés dans le modèle. Assurez-vous qu'il ne s'agit pas d'une erreur de saisie",""))
B32: Sous-total | E32: =SUM(E30:E31) -> 869.71 | G32: =SUM(G30:G31) -> 0
A34: MARGE BÉNÉFICIAIRE APRÈS LES AMORTISSEMENTS ET LES RÉNUMÉRATIONS DU TRAVAIL ET DE L'AVOIR (MARGE NETTE) | E34: =E27-E32 -> 1409.58 | G34: =G27-G32 -> 3823.5669

Sheet Soya
E1: $/ha | G1: $/ha
E2: Centrale | G2: Vos coûts
A4: PRODUITS
A5: Vente | E5: =Saisies!B9*Saisies!B22 -> 2646.8 | G5: =IF(Saisies!C9="",Saisies!B9,Saisies!C9)*IF(Saisies!C22="",Saisies!B22,Saisies!C22) -> 2646.8 | H5: =IF(G5="","",IF(OR(G5>E5*(1+0.5),G5<E5*(1-0.5)),"La valeur saisie diffère grandement des coûts utilisés dans le modèle. Assurez-vous qu'il ne s'agit pas d'une erreur de saisie",""))
A6: Compensation d'assurance stabilisation | E6: =IF(ASRA_Calculs!$B$3<ASRA_Calculs!$C$3,(ASRA_Calculs!$C$3-ASRA_Calculs!$B$3)*ASRA_Calculs!$D$3,0) -> 0 | G6: =IF(ASRA_Calculs!$B$3<ASRA_Calculs!$C$3,(ASRA_Calculs!$C$3-ASRA_Calculs!$B$3)*ASRA_Calculs!$D$3,0) -> 0 | H6: =IF(G6="","",IF(OR(G6>E6*(1+0.5),G6<E6*(1-0.5)),"La valeur saisie diffère grandement des coûts utilisés dans le modèle. Assurez-vous qu'il ne s'agit pas d'une erreur de saisie",""))
A7: Revenus de sous-produits | E7: 0 | H7: =IF(G7="","",IF(OR(G7>E7*(1+0.5),G7<E7*(1-0.5)),"La valeur saisie diffère grandement des coûts utilisés dans le modèle. Assurez-vous qu'il ne s'agit pas d'une erreur de saisie",""))
A8: Agri-Québec et Agri-Investissement | E8: =(E5-E16)*0.042 -> 102.17256 | G8: =(G5-G16)*0.042 -> 111.1656
A9: Autres revenus | E9: =E10-E8 -> 61.04744 | H9: =IF(G9="","",IF(OR(G9>E9*(1+0.5),G9<E9*(1-0.5)),"La valeur saisie diffère grandement des coûts utilisés dans le modèle. Assurez-vous qu'il ne s'agit pas d'une erreur de saisie",""))
A10: Autres revenus | E10: 163.22 | G10: =SUM(G8:G9) -> 111.1656
A12: TOTAL PRODUITS | E12: =SUM(E5:E7)+E10 -> 2810.02 | G12: =SUM(G5:G7)+G10 -> 2757.9656
A15: FRAIS MONÉTAIRE
A16: Semences | E16: 214.12 | H16: =IF(G16="","",IF(OR(G16>E16*(1+0.5),G16<E16*(1-0.5)),"La valeur saisie diffère grandement des coûts utilisés dans le modèle. Assurez-vous qu'il ne s'agit pas d'une erreur de saisie",""))
A17: Intrants de cultures | E17: 13.04 | H17: =IF(G17="","",IF(OR(G17>E17*(1+0.5),G17<E17*(1-0.5)),"La valeur saisie diffère grandement des coûts utilisés dans le modèle. Assurez-vous qu'il ne s'agit pas d'une erreur de saisie",""))
A18: Frais de mise en marché | D18: =25.54/2.6 -> 9.8230769 | E18: 25.54
A19: Forfait et location | E19: 245.99
A20: Entretien | E20: 213.35
A21: Énergie | D21: =87.81/2.6 -> 33.773077 | E21: 87.81 | H21: =IF(G21="","",IF(OR(G21>E21*(1+0.5),G21<E21*(1-0.5)),"La valeur saisie diffère grandement des coûts utilisés dans le modèle. Assurez-vous qu'il ne s'agit pas d'une erreur de saisie",""))
A22: Taxes et assurances | E22: 80.7 | H22: =IF(G22="","",IF(OR(G22>E22*(1+0.5),G22<E22*(1-0.5)),"La valeur saisie diffère grandement des coûts utilisés dans le modèle. Assurez-vous qu'il ne s'agit pas d'une erreur de saisie",""))
A23: Frais de financement | E23: 124.44 | H23: =IF(G23="","",IF(OR(G23>E23*(1+0.5),G23<E23*(1-0.5)),"La valeur saisie diffère grandement des coûts utilisés dans le modèle. Assurez-vous qu'il ne s'agit pas d'une erreur de saisie",""))
A24: Autres frais | E24: 49.43 | H24: =IF(G24="","",IF(OR(G24>E24*(1+0.5),G24<E24*(1-0.5)),"La valeur saisie diffère grandement des coûts utilisés dans le modèle. Assurez-vous qu'il ne s'agit pas d'une erreur de saisie",""))
B25: Sous-total | E25: =SUM(E16:E24) -> 1054.42 | G25: =SUM(G16:G24) -> 0
A27: MARGE BÉNÉFICIAIRE APRÈS FRAIS MONÉTAIRES (MARGE MONÉTAIRE) | E27: =E12-E25 -> 1755.6 | G27: =G12-G25 -> 2757.9656
A29: FRAIS NON MONÉTAIRE
A30: Amortissements | E30: 283.18 | H30: =IF(G30="","",IF(OR(G30>E30*(1+0.5),G30<E30*(1-0.5)),"La valeur saisie diffère grandement des coûts utilisés dans le modèle. Assurez-vous qu'il ne s'agit pas d'une erreur de saisie",""))
A31: Rénumération du travail de l'exploitant | E31: 413.24 | H31: =IF(G31="","",IF(OR(G31>E31*(1+0.5),G31<E31*(1-0.5)),"La valeur saisie diffère grandement des coûts utilisés dans le modèle. Assurez-vous qu'il ne s'agit pas d'une erreur de saisie",""))
B32: Sous-total | E32: =SUM(E30:E31) -> 696.42 | G32: =SUM(G30:G31) -> 0
A34: MARGE BÉNÉFICIAIRE APRÈS LES AMORTISSEMENTS ET LES RÉNUMÉRATIONS DU TRAVAIL ET DE L'AVOIR (MARGE NETTE) | E34: =E27-E32 -> 1059.18 | G34: =G27-G32 -> 2757.9656

Sheet Orge
E1: $/ha | G1: $/ha
E2: Centrale | G2: Vos coûts
A4: PRODUITS
A5: Vente | E5: =Saisies!B10*Saisies!B23 -> 1638.5 | G5: =IF(Saisies!C10="",Saisies!B10,Saisies!C10)*IF(Saisies!C23="",Saisies!B23,Saisies!C23) -> 1638.5 | H5: =IF(G5="","",IF(OR(G5>E5*(1+0.5),G5<E5*(1-0.5)),"La valeur saisie diffère grandement des coûts utilisés dans le modèle. Assurez-vous qu'il ne s'agit pas d'une erreur de saisie",""))
A6: Compensation d'assurance stabilisation | E6: =IF(ASRA_Calculs!$B$4<ASRA_Calculs!$C$4,(ASRA_Calculs!$C$4-ASRA_Calculs!$B$4)*ASRA_Calculs!$D$4,0) -> 0 | G6: =IF(ASRA_Calculs!$B$4<ASRA_Calculs!$C$4,(ASRA_Calculs!$C$4-ASRA_Calculs!$B$4)*ASRA_Calculs!$D$4,0) -> 0 | H6: =IF(G6="","",IF(OR(G6>E6*(1+0.5),G6<E6*(1-0.5)),"La valeur saisie diffère grandement des coûts utilisés dans le modèle. Assurez-vous qu'il ne s'agit pas d'une erreur de saisie",""))
A7: Revenus de sous-produits | E7: 0 | H7: =IF(G7="","",IF(OR(G7>E7*(1+0.5),G7<E7*(1-0.5)),"La valeur saisie diffère grandement des coûts utilisés dans le modèle. Assurez-vous qu'il ne s'agit pas d'une erreur de saisie",""))
A8: Agri-Québec et Agri-Investissement | E8: =(E5+E7-E16)*0.01 -> 13.9301 | G8: =(G5-G16)*0.01 -> 16.385
A9: Autres revenus | E9: =E10-E8 -> 239.6999 | H9: =IF(G9="","",IF(OR(G9>E9*(1+0.5),G9<E9*(1-0.5)),"La valeur saisie diffère grandement des coûts utilisés dans le modèle. Assurez-vous qu'il ne s'agit pas d'une erreur de saisie",""))
A10: Autres revenus | E10: 253.63 | G10: =SUM(G8:G9) -> 16.385
A12: TOTAL PRODUITS | E12: =SUM(E5:E7)+E10 -> 1892.13 | G12: =SUM(G5:G7)+G10 -> 1654.885
A15: FRAIS MONÉTAIRE
A16: Semences | E16: 245.49 | H16: =IF(G16="","",IF(OR(G16>E16*(1+0.5),G16<E16*(1-0.5)),"La valeur saisie diffère grandement des coûts utilisés dans le modèle. Assurez-vous qu'il ne s'agit pas d'une erreur de saisie",""))
A17: Intrants de cultures | E17: 64.91 | H17: =IF(G17="","",IF(OR(G17>E17*(1+0.5),G17<E17*(1-0.5)),"La valeur saisie diffère grandement des coûts utilisés dans le modèle. Assurez-vous qu'il ne s'agit pas d'une erreur de saisie",""))
A18: Frais de mise en marché | D18: =14.87/2.9 -> 5.1275862 | E18: 14.87
A19: Forfait et location | E19: 323.33
A20: Entretien | E20: 204.14
A21: Énergie | D21: =122.32/2.9 -> 42.17931 | E21: 122.32 | H21: =IF(G21="","",IF(OR(G21>E21*(1+0.5),G21<E21*(1-0.5)),"La valeur saisie diffère grandement des coûts utilisés dans le modèle. Assurez-vous qu'il ne s'agit pas d'une erreur de saisie",""))
A22: Taxes et assurances | E22: 54.75 | H22: =IF(G22="","",IF(OR(G22>E22*(1+0.5),G22<E22*(1-0.5)),"La valeur saisie diffère grandement des coûts utilisés dans le modèle. Assurez-vous qu'il ne s'agit pas d'une erreur de saisie",""))
A23: Frais de financement | E23: 100.27 | H23: =IF(G23="","",IF(OR(G23>E23*(1+0.5),G23<E23*(1-0.5)),"La valeur saisie diffère grandement des coûts utilisés dans le modèle. Assurez-vous qu'il ne s'agit pas d'une erreur de saisie",""))
A24: Autres frais | E24: 117.74 | H24: =IF(G24="","",IF(OR(G24>E24*(1+0.5),G24<E24*(1-0.5)),"La valeur saisie diffère grandement des coûts utilisés dans le modèle. Assurez-vous qu'il ne s'agit pas d'une erreur de saisie",""))
B25: Sous-total | E25: =SUM(E16:E24) -> 1247.82 | G25: =SUM(G16:G24) -> 0
A27: MARGE BÉNÉFICIAIRE APRÈS FRAIS MONÉTAIRES (MARGE MONÉTAIRE) | E27: =E12-E25 -> 644.31 | G27: =G12-G25 -> 1654.885
A29: FRAIS NON MONÉTAIRE
A30: Amortissements | E30: 229.13 | H30: =IF(G30="","",IF(OR(G30>E30*(1+0.5),G30<E30*(1-0.5)),"La valeur saisie diffère grandement des coûts utilisés dans le modèle. Assurez-vous qu'il ne s'agit pas d'une erreur de saisie",""))
A31: Rénumération du travail de l'exploitant | E31: 385.78 | H31: =IF(G31="","",IF(OR(G31>E31*(1+0.5),G31<E31*(1-0.5)),"La valeur saisie diffère grandement des coûts utilisés dans le modèle. Assurez-vous qu'il ne s'agit pas d'une erreur de saisie",""))
B32: Sous-total | E32: =SUM(E30:E31) -> 614.91 | G32: =SUM(G30:G31) -> 0
A34: MARGE BÉNÉFICIAIRE APRÈS LES AMORTISSEMENTS ET LES RÉNUMÉRATIONS DU TRAVAIL ET DE L'AVOIR (MARGE NETTE) | E34: =E27-E32 -> 29.4 | G34: =G27-G32 -> 1654.885

Sheet Avoine
E1: $/ha | G1: $/ha
E2: Centrale | G2: Vos coûts
A4: PRODUITS
A5: Vente | E5: =Saisies!B11*Saisies!B24 -> 957 | G5: =IF(Saisies!C11="",Saisies!B11,Saisies!C11)*IF(Saisies!C24="",Saisies!B24,Saisies!C24) -> 957 | H5: =IF(G5="","",IF(OR(G5>E5*(1+0.5),G5<E5*(1-0.5)),"La valeur saisie diffère grandement des coûts utilisés dans le modèle. Assurez-vous qu'il ne s'agit pas d'une erreur de saisie",""))
A6: Compensation d'assurance stabilisation | E6: =IF(ASRA_Calculs!$B$5<ASRA_Calculs!$C$5,(ASRA_Calculs!$C$5-ASRA_Calculs!$B$5)*ASRA_Calculs!$D$5,0) -> 0 | G6: =IF(ASRA_Calculs!$B$5<ASRA_Calculs!$C$5,(ASRA_Calculs!$C$5-ASRA_Calculs!$B$5)*ASRA_Calculs!$D$5,0) -> 0 | H6: =IF(G6="","",IF(OR(G6>E6*(1+0.5),G6<E6*(1-0.5)),"La valeur saisie diffère grandement des coûts utilisés dans le modèle. Assurez-vous qu'il ne s'agit pas d'une erreur de saisie",""))
A7: Revenus de sous-produits | E7: 0 | H7: =IF(G7="","",IF(OR(G7>E7*(1+0.5),G7<E7*(1-0.5)),"La valeur saisie diffère grandement des coûts utilisés dans le modèle. Assurez-vous qu'il ne s'agit pas d'une erreur de saisie",""))
A8: Agri-Québec et Agri-Investissement | E8: =(E5+E7-E16)*0.01 -> 8.0924 | G8: =(G5-G16)*0.01 -> 9.57
A9: Autres revenus | E9: =E10-E8 -> 132.2676 | H9: =IF(G9="","",IF(OR(G9>E9*(1+0.5),G9<E9*(1-0.5)),"La valeur saisie diffère grandement des coûts utilisés dans le modèle. Assurez-vous qu'il ne s'agit pas d'une erreur de saisie",""))
A10: Autres revenus | E10: 140.36 | G10: =SUM(G8:G9) -> 9.57
A12: TOTAL PRODUITS | E12: =SUM(E5:E7)+E10 -> 1097.36 | G12: =SUM(G5:G7)+G10 -> 966.57
A15: FRAIS MONÉTAIRE
A16: Semences | E16: 147.76 | H16: =IF(G16="","",IF(OR(G16>E16*(1+0.5),G16<E16*(1-0.5)),"La valeur saisie diffère grandement des coûts utilisés dans le modèle. Assurez-vous qu'il ne s'agit pas d'une erreur de saisie",""))
A17: Intrants de cultures | E17: 64.57 | H17: =IF(G17="","",IF(OR(G17>E17*(1+0.5),G17<E17*(1-0.5)),"La valeur saisie diffère grandement des coûts utilisés dans le modèle. Assurez-vous qu'il ne s'agit pas d'une erreur de saisie",""))
A18: Frais de mise en marché | D18: =44.99/2.2 -> 20.45 | E18: 44.99
A19: Forfait et location | E19: 272.22
A20: Entretien | E20: 163.11
A21: Énergie | D21: =119.16/2.2 -> 54.163636 | E21: 119.16 | H21: =IF(G21="","",IF(OR(G21>E21*(1+0.5),G21<E21*(1-0.5)),"La valeur saisie diffère grandement des coûts utilisés dans le modèle. Assurez-vous qu'il ne s'agit pas d'une erreur de saisie",""))
A22: Taxes et assurances | E22: 61.46 | H22: =IF(G22="","",IF(OR(G22>E22*(1+0.5),G22<E22*(1-0.5)),"La valeur saisie diffère grandement des coûts utilisés dans le modèle. Assurez-vous qu'il ne s'agit pas d'une erreur de saisie",""))
A23: Frais de financement | E23: 85.41 | H23: =IF(G23="","",IF(OR(G23>E23*(1+0.5),G23<E23*(1-0.5)),"La valeur saisie diffère grandement des coûts utilisés dans le modèle. Assurez-vous qu'il ne s'agit pas d'une erreur de saisie",""))
A24: Autres frais | E24: 194.85 | H24: =IF(G24="","",IF(OR(G24>E24*(1+0.5),G24<E24*(1-0.5)),"La valeur saisie diffère grandement des coûts utilisés dans le modèle. Assurez-vous qu'il ne s'agit pas d'une erreur de saisie",""))
B25: Sous-total | E25: =SUM(E16:E24) -> 1153.53 | G25: =SUM(G16:G24) -> 0
A27: MARGE BÉNÉFICIAIRE APRÈS FRAIS MONÉTAIRES (MARGE MONÉTAIRE) | E27: =E12-E25 -> -56.17 | G27: =G12-G25 -> 966.57
A29: FRAIS NON MONÉTAIRE
A30: Amortissements | E30: 170.27 | H30: =IF(G30="","",IF(OR(G30>E30*(1+0.5),G30<E30*(1-0.5)),"La valeur saisie diffère grandement des coûts utilisés dans le modèle. Assurez-vous qu'il ne s'agit pas d'une erreur de saisie",""))
A31: Rénumération du travail de l'exploitant | E31: 346.94 | H31: =IF(G31="","",IF(OR(G31>E31*(1+0.5),G31<E31*(1-0.5)),"La valeur saisie diffère grandement des coûts utilisés dans le modèle. Assurez-vous qu'il ne s'agit pas d'une erreur de saisie",""))
B32: Sous-total | E32: =SUM(E30:E31) -> 517.21 | G32: =SUM(G30:G31) -> 0
A34: MARGE BÉNÉFICIAIRE APRÈS LES AMORTISSEMENTS ET LES RÉNUMÉRATIONS DU TRAVAIL ET DE L'AVOIR (MARGE NETTE) | E34: =E27-E32 -> -573.38 | G34: =G27-G32 -> 966.57

Sheet Blé_d'automne
E1: $/ha | G1: $/ha
E2: Centrale | G2: Vos coûts
A4: PRODUITS
A5: Vente | E5: =Saisies!B13*Saisies!B26 -> 1823.36 | G5: =IF(Saisies!C13="",Saisies!B13,Saisies!C13)*IF(Saisies!C26="",Saisies!B26,Saisies!C26) -> 1823.36 | H5: =IF(G5="","",IF(OR(G5>E5*(1+0.5),G5<E5*(1-0.5)),"La valeur saisie diffère grandement des coûts utilisés dans le modèle. Assurez-vous qu'il ne s'agit pas d'une erreur de saisie",""))
A6: Compensation d'assurance stabilisation | E6: =IF(ASRA_Calculs!$B$6<ASRA_Calculs!$C$6,(ASRA_Calculs!$C$6-ASRA_Calculs!$B$6)*ASRA_Calculs!$D$6,0) -> 0 | G6: =IF(ASRA_Calculs!$B$6<ASRA_Calculs!$C$6,(ASRA_Calculs!$C$6-ASRA_Calculs!$B$6)*ASRA_Calculs!$D$6,0) -> 0 | H6: =IF(G6="","",IF(OR(G6>E6*(1+0.5),G6<E6*(1-0.5)),"La valeur saisie diffère grandement des coûts utilisés dans le modèle. Assurez-vous qu'il ne s'agit pas d'une erreur de saisie",""))
A7: Revenus de sous-produits | E7: 0 | H7: =IF(G7="","",IF(OR(G7>E7*(1+0.5),G7<E7*(1-0.5)),"La valeur saisie diffère grandement des coûts utilisés dans le modèle. Assurez-vous qu'il ne s'agit pas d'une erreur de saisie",""))
A8: Agri-Québec et Agri-Investissement | E8: =(E5+E7-E16)*0.01 -> 16.077209 | G8: =(G5-G16)*0.01 -> 18.2336
A9: Autres revenus | E9: =E10-E8 -> 87.702791 | H9: =IF(G9="","",IF(OR(G9>E9*(1+0.5),G9<E9*(1-0.5)),"La valeur saisie diffère grandement des coûts utilisés dans le modèle. Assurez-vous qu'il ne s'agit pas d'une erreur de saisie",""))
A10: Autres revenus | E10: 103.78 | G10: =SUM(G8:G9) -> 18.2336
A12: TOTAL PRODUITS | E12: =SUM(E5:E7)+E10 -> 1927.14 | G12: =SUM(G5:G7)+G10 -> 1841.5936
A15: FRAIS MONÉTAIRE
A16: Semences | E16: =231.87*(1-0.07) -> 215.6391 | H16: =IF(G16="","",IF(OR(G16>E16*(1+0.5),G16<E16*(1-0.5)),"La valeur saisie diffère grandement des coûts utilisés dans le modèle. Assurez-vous qu'il ne s'agit pas d'une erreur de saisie",""))
A17: Intrants de cultures | E17: 86.56 | H17: =IF(G17="","",IF(OR(G17>E17*(1+0.5),G17<E17*(1-0.5)),"La valeur saisie diffère grandement des coûts utilisés dans le modèle. Assurez-vous qu'il ne s'agit pas d'une erreur de saisie",""))
A18: Frais de mise en marché | D18: =23.28/3.2 -> 7.275 | E18: 23.28
A19: Forfait et location | E19: 103.24
A20: Entretien | E20: 213.57
A21: Énergie | D21: =139.03/3.2 -> 43.446875 | E21: 139.03 | H21: =IF(G21="","",IF(OR(G21>E21*(1+0.5),G21<E21*(1-0.5)),"La valeur saisie diffère grandement des coûts utilisés dans le modèle. Assurez-vous qu'il ne s'agit pas d'une erreur de saisie",""))
A22: Taxes et assurances | E22: 88.19 | H22: =IF(G22="","",IF(OR(G22>E22*(1+0.5),G22<E22*(1-0.5)),"La valeur saisie diffère grandement des coûts utilisés dans le modèle. Assurez-vous qu'il ne s'agit pas d'une erreur de saisie",""))
A23: Frais de financement | E23: 95.61 | H23: =IF(G23="","",IF(OR(G23>E23*(1+0.5),G23<E23*(1-0.5)),"La valeur saisie diffère grandement des coûts utilisés dans le modèle. Assurez-vous qu'il ne s'agit pas d'une erreur de saisie",""))
A24: Autres frais | E24: 141.16 | H24: =IF(G24="","",IF(OR(G24>E24*(1+0.5),G24<E24*(1-0.5)),"La valeur saisie diffère grandement des coûts utilisés dans le modèle. Assurez-vous qu'il ne s'agit pas d'une erreur de saisie",""))
B25: Sous-total | E25: =SUM(E16:E24) -> 1106.2791 | G25: =SUM(G16:G24) -> 0
A27: MARGE BÉNÉFICIAIRE APRÈS FRAIS MONÉTAIRES (MARGE MONÉTAIRE) | E27: =E12-E25 -> 820.8609 | G27: =G12-G25 -> 1841.5936
A29: FRAIS NON MONÉTAIRE
A30: Amortissements | E30: 256.24 | H30: =IF(G30="","",IF(OR(G30>E30*(1+0.5),G30<E30*(1-0.5)),"La valeur saisie diffère grandement des coûts utilisés dans le modèle. Assurez-vous qu'il ne s'agit pas d'une erreur de saisie",""))
A31: Rénumération du travail de l'exploitant | E31: 356.22 | H31: =IF(G31="","",IF(OR(G31>E31*(1+0.5),G31<E31*(1-0.5)),"La valeur saisie diffère grandement des coûts utilisés dans le modèle. Assurez-vous qu'il ne s'agit pas d'une erreur de saisie",""))
B32: Sous-total | E32: =SUM(E30:E31) -> 612.46 | G32: =SUM(G30:G31) -> 0
A34: MARGE BÉNÉFICIAIRE APRÈS LES AMORTISSEMENTS ET LES RÉNUMÉRATIONS DU TRAVAIL ET DE L'AVOIR (MARGE NETTE) | E34: =E27-E32 -> 208.4009 | G34: =G27-G32 -> 1841.5936

Sheet Blé_printemps
E1: $/ha | G1: $/ha
E2: Centrale | G2: Vos coûts
A4: PRODUITS
A5: Vente | E5: =Saisies!B12*Saisies!B25 -> 1367.52 | G5: =IF(Saisies!C12="",Saisies!B12,Saisies!C12)*IF(Saisies!C25="",Saisies!B25,Saisies!C25) -> 1367.52 | H5: =IF(G5="","",IF(OR(G5>E5*(1+0.5),G5<E5*(1-0.5)),"La valeur saisie diffère grandement des coûts utilisés dans le modèle. Assurez-vous qu'il ne s'agit pas d'une erreur de saisie",""))
A6: Compensation d'assurance stabilisation | E6: =IF(ASRA_Calculs!$B$6<ASRA_Calculs!$C$6,(ASRA_Calculs!$C$6-ASRA_Calculs!$B$6)*ASRA_Calculs!$D$6,0) -> 0 | G6: =IF(ASRA_Calculs!$B$6<ASRA_Calculs!$C$6,(ASRA_Calculs!$C$6-ASRA_Calculs!$B$6)*ASRA_Calculs!$D$6,0) -> 0 | H6: =IF(G6="","",IF(OR(G6>E6*(1+0.5),G6<E6*(1-0.5)),"La valeur saisie diffère grandement des coûts utilisés dans le modèle. Assurez-vous qu'il ne s'agit pas d'une erreur de saisie",""))
A7: Revenus de sous-produits | E7: 0 | H7: =IF(G7="","",IF(OR(G7>E7*(1+0.5),G7<E7*(1-0.5)),"La valeur saisie diffère grandement des coûts utilisés dans le modèle. Assurez-vous qu'il ne s'agit pas d'une erreur de saisie",""))
A8: Agri-Québec et Agri-Investissement | E8: =(E5+E7-E16)*0.01 -> 11.3565 | G8: =(G5-G16)*0.01 -> 13.6752
A9: Autres revenus | E9: =E10-E8 -> 92.4235 | H9: =IF(G9="","",IF(OR(G9>E9*(1+0.5),G9<E9*(1-0.5)),"La valeur saisie diffère grandement des coûts utilisés dans le modèle. Assurez-vous qu'il ne s'agit pas d'une erreur de saisie",""))
A10: Autres revenus | E10: 103.78 | G10: =SUM(G8:G9) -> 13.6752
A12: TOTAL PRODUITS | E12: =SUM(E5:E7)+E10 -> 1471.3 | G12: =SUM(G5:G7)+G10 -> 1381.1952
A15: FRAIS MONÉTAIRE
A16: Semences | E16: =231.87 -> 231.87 | H16: =IF(G16="","",IF(OR(G16>E16*(1+0.5),G16<E16*(1-0.5)),"La valeur saisie diffère grandement des coûts utilisés dans le modèle. Assurez-vous qu'il ne s'agit pas d'une erreur de saisie",""))
A17: Intrants de cultures | E17: 86.56 | H17: =IF(G17="","",IF(OR(G17>E17*(1+0.5),G17<E17*(1-0.5)),"La valeur saisie diffère grandement des coûts utilisés dans le modèle. Assurez-vous qu'il ne s'agit pas d'une erreur de saisie",""))
A18: Frais de mise en marché | D18: =23.28/2.4 -> 9.7 | E18: 23.28
A19: Forfait et location | E19: 103.24
A20: Entretien | E20: 213.57
A21: Énergie | D21: =139.03/2.4 -> 57.929167 | E21: 139.03 | H21: =IF(G21="","",IF(OR(G21>E21*(1+0.5),G21<E21*(1-0.5)),"La valeur saisie diffère grandement des coûts utilisés dans le modèle. Assurez-vous qu'il ne s'agit pas d'une erreur de saisie",""))
A22: Taxes et assurances | E22: 88.19 | H22: =IF(G22="","",IF(OR(G22>E22*(1+0.5),G22<E22*(1-0.5)),"La valeur saisie diffère grandement des coûts utilisés dans le modèle. Assurez-vous qu'il ne s'agit pas d'une erreur de saisie",""))
A23: Frais de financement | E23: 95.61 | H23: =IF(G23="","",IF(OR(G23>E23*(1+0.5),G23<E23*(1-0.5)),"La valeur saisie diffère grandement des coûts utilisés dans le modèle. Assurez-vous qu'il ne s'agit pas d'une erreur de saisie",""))
A24: Autres frais | E24: 141.16 | H24: =IF(G24="","",IF(OR(G24>E24*(1+0.5),G24<E24*(1-0.5)),"La valeur saisie diffère grandement des coûts utilisés dans le modèle. Assurez-vous qu'il ne s'agit pas d'une erreur de saisie",""))
B25: Sous-total | E25: =SUM(E16:E24) -> 1122.51 | G25: =SUM(G16:G24) -> 0
A27: MARGE BÉNÉFICIAIRE APRÈS FRAIS MONÉTAIRES (MARGE MONÉTAIRE) | E27: =E12-E25 -> 348.79 | G27: =G12-G25 -> 1381.1952
A29: FRAIS NON MONÉTAIRE
A30: Amortissements | E30: 256.24 | H30: =IF(G30="","",IF(OR(G30>E30*(1+0.5),G30<E30*(1-0.5)),"La valeur saisie diffère grandement des coûts utilisés dans le modèle. Assurez-vous qu'il ne s'agit pas d'une erreur de saisie",""))
A31: Rénumération du travail de l'exploitant | E31: 356.22 | H31: =IF(G31="","",IF(OR(G31>E31*(1+0.5),G31<E31*(1-0.5)),"La valeur saisie diffère grandement des coûts utilisés dans le modèle. Assurez-vous qu'il ne s'agit pas d'une erreur de saisie",""))
B32: Sous-total | E32: =SUM(E30:E31) -> 612.46 | G32: =SUM(G30:G31) -> 0
A34: MARGE BÉNÉFICIAIRE APRÈS LES AMORTISSEMENTS ET LES RÉNUMÉRATIONS DU TRAVAIL ET DE L'AVOIR (MARGE NETTE) | E34: =E27-E32 -> -263.67 | G34: =G27-G32 -> 1381.1952

Sheet Seigle
E1: $/ha | G1: $/ha
E2: Centrale | G2: Vos coûts
A4: PRODUITS
A5: Vente | E5: =Saisies!B14*Saisies!B27 -> 971.25 | G5: =IF(Saisies!C14="",Saisies!B14,Saisies!C14)*IF(Saisies!C27="",Saisies!B27,Saisies!C27) -> 971.25 | H5: =IF(G5="","",IF(OR(G5>E5*(1+0.5),G5<E5*(1-0.5)),"La valeur saisie diffère grandement des coûts utilisés dans le modèle. Assurez-vous qu'il ne s'agit pas d'une erreur de saisie",""))
A6: Compensation d'assurance stabilisation | E6: =IF(ASRA_Calculs!$B$8<ASRA_Calculs!$C$8,(ASRA_Calculs!$C$8-ASRA_Calculs!$B$8)*ASRA_Calculs!$D$8,0) -> 0 | G6: =IF(ASRA_Calculs!$B$8<ASRA_Calculs!$C$8,(ASRA_Calculs!$C$8-ASRA_Calculs!$B$8)*ASRA_Calculs!$D$8,0) -> 0 | H6: =IF(G6="","",IF(OR(G6>E6*(1+0.5),G6<E6*(1-0.5)),"La valeur saisie diffère grandement des coûts utilisés dans le modèle. Assurez-vous qu'il ne s'agit pas d'une erreur de saisie",""))
A7: Revenus de sous-produits | E7: 0 | H7: =IF(G7="","",IF(OR(G7>E7*(1+0.5),G7<E7*(1-0.5)),"La valeur saisie diffère grandement des coûts utilisés dans le modèle. Assurez-vous qu'il ne s'agit pas d'une erreur de saisie",""))
A8: Agri-Québec et Agri-Investissement | E8: =(E5+E7-E16)*0.042 -> 35.19348 | G8: =(G5-G16)*0.042 -> 40.7925
A9: Autres revenus | E9: =E10-E8 -> 276.89652 | H9: =IF(G9="","",IF(OR(G9>E9*(1+0.5),G9<E9*(1-0.5)),"La valeur saisie diffère grandement des coûts utilisés dans le modèle. Assurez-vous qu'il ne s'agit pas d'une erreur de saisie",""))
A10: Autres revenus | E10: 312.09 | G10: =SUM(G8:G9) -> 40.7925
A12: TOTAL PRODUITS | E12: =SUM(E5:E7)+E10 -> 1283.34 | G12: =SUM(G5:G7)+G10 -> 1012.0425
A15: FRAIS MONÉTAIRE
A16: Semences | E16: 133.31 | H16: =IF(G16="","",IF(OR(G16>E16*(1+0.5),G16<E16*(1-0.5)),"La valeur saisie diffère grandement des coûts utilisés dans le modèle. Assurez-vous qu'il ne s'agit pas d'une erreur de saisie",""))
A17: Intrants de cultures | E17: 60.05 | H17: =IF(G17="","",IF(OR(G17>E17*(1+0.5),G17<E17*(1-0.5)),"La valeur saisie diffère grandement des coûts utilisés dans le modèle. Assurez-vous qu'il ne s'agit pas d'une erreur de saisie",""))
A18: Frais de mise en marché | D18: =39.03/2.1 -> 18.585714 | E18: 39.03
A19: Forfait et location | E19: 160.85
A20: Entretien | E20: 200.93
A21: Énergie | D21: =106.62/2.1 -> 50.771429 | E21: 106.62 | H21: =IF(G21="","",IF(OR(G21>E21*(1+0.5),G21<E21*(1-0.5)),"La valeur saisie diffère grandement des coûts utilisés dans le modèle. Assurez-vous qu'il ne s'agit pas d'une erreur de saisie",""))
A22: Taxes et assurances | E22: 55.35 | H22: =IF(G22="","",IF(OR(G22>E22*(1+0.5),G22<E22*(1-0.5)),"La valeur saisie diffère grandement des coûts utilisés dans le modèle. Assurez-vous qu'il ne s'agit pas d'une erreur de saisie",""))
A23: Frais de financement | E23: 93.52 | H23: =IF(G23="","",IF(OR(G23>E23*(1+0.5),G23<E23*(1-0.5)),"La valeur saisie diffère grandement des coûts utilisés dans le modèle. Assurez-vous qu'il ne s'agit pas d'une erreur de saisie",""))
A24: Autres frais | E24: 77.24 | H24: =IF(G24="","",IF(OR(G24>E24*(1+0.5),G24<E24*(1-0.5)),"La valeur saisie diffère grandement des coûts utilisés dans le modèle. Assurez-vous qu'il ne s'agit pas d'une erreur de saisie",""))
B25: Sous-total | E25: =SUM(E16:E24) -> 926.9 | G25: =SUM(G16:G24) -> 0
A27: MARGE BÉNÉFICIAIRE APRÈS FRAIS MONÉTAIRES (MARGE MONÉTAIRE) | E27: =E12-E25 -> 356.44 | G27: =G12-G25 -> 1012.0425
A29: FRAIS NON MONÉTAIRE
A30: Amortissements | E30: 254.5 | H30: =IF(G30="","",IF(OR(G30>E30*(1+0.5),G30<E30*(1-0.5)),"La valeur saisie diffère grandement des coûts utilisés dans le modèle. Assurez-vous qu'il ne s'agit pas d'une erreur de saisie",""))
A31: Rénumération du travail de l'exploitant | E31: 324.72 | H31: =IF(G31="","",IF(OR(G31>E31*(1+0.5),G31<E31*(1-0.5)),"La valeur saisie diffère grandement des coûts utilisés dans le modèle. Assurez-vous qu'il ne s'agit pas d'une erreur de saisie",""))
B32: Sous-total | E32: =SUM(E30:E31) -> 579.22 | G32: =SUM(G30:G31) -> 0
A34: MARGE BÉNÉFICIAIRE APRÈS LES AMORTISSEMENTS ET LES RÉNUMÉRATIONS DU TRAVAIL ET DE L'AVOIR (MARGE NETTE) | E34: =E27-E32 -> -222.78 | G34: =G27-G32 -> 1012.0425

Sheet Seigle_hybride
E1: $/ha | G1: $/ha
E2: Centrale | G2: Vos coûts
A4: PRODUITS
A5: Vente | E5: =Saisies!B15*Saisies!B28 -> 1942.5 | G5: =IF(Saisies!C15="",Saisies!B15,Saisies!C15)*IF(Saisies!C28="",Saisies!B28,Saisies!C28) -> 1942.5 | H5: =IF(G5="","",IF(OR(G5>E5*(1+0.5),G5<E5*(1-0.5)),"La valeur saisie diffère grandement des coûts utilisés dans le modèle. Assurez-vous qu'il ne s'agit pas d'une erreur de saisie",""))
A6: Compensation d'assurance stabilisation | E6: =IF(ASRA_Calculs!$B$8<ASRA_Calculs!$C$8,(ASRA_Calculs!$C$8-ASRA_Calculs!$B$8)*ASRA_Calculs!$D$8,0) -> 0 | G6: =IF(ASRA_Calculs!$B$8<ASRA_Calculs!$C$8,(ASRA_Calculs!$C$8-ASRA_Calculs!$B$8)*ASRA_Calculs!$D$8,0) -> 0 | H6: =IF(G6="","",IF(OR(G6>E6*(1+0.5),G6<E6*(1-0.5)),"La valeur saisie diffère grandement des coûts utilisés dans le modèle. Assurez-vous qu'il ne s'agit pas d'une erreur de saisie",""))
A7: Revenus de sous-produits | E7: 0 | H7: =IF(G7="","",IF(OR(G7>E7*(1+0.5),G7<E7*(1-0.5)),"La valeur saisie diffère grandement des coûts utilisés dans le modèle. Assurez-vous qu'il ne s'agit pas d'une erreur de saisie",""))
A8: Agri-Québec et Agri-Investissement | E8: =(E5+E7-E16)*0.042 -> 70.38696 | G8: =(G5-G16)*0.042 -> 81.585
A9: Autres revenus | E9: =E10-E8 -> 241.70304 | H9: =IF(G9="","",IF(OR(G9>E9*(1+0.5),G9<E9*(1-0.5)),"La valeur saisie diffère grandement des coûts utilisés dans le modèle. Assurez-vous qu'il ne s'agit pas d'une erreur de saisie",""))
A10: Autres revenus | E10: 312.09 | G10: =SUM(G8:G9) -> 81.585
A12: TOTAL PRODUITS | E12: =SUM(E5:E7)+E10 -> 2254.59 | G12: =SUM(G5:G7)+G10 -> 2024.085
A15: FRAIS MONÉTAIRE
A16: Semences | E16: =133.31*2 -> 266.62 | H16: =IF(G16="","",IF(OR(G16>E16*(1+0.5),G16<E16*(1-0.5)),"La valeur saisie diffère grandement des coûts utilisés dans le modèle. Assurez-vous qu'il ne s'agit pas d'une erreur de saisie",""))
A17: Intrants de cultures | E17: 60.05 | H17: =IF(G17="","",IF(OR(G17>E17*(1+0.5),G17<E17*(1-0.5)),"La valeur saisie diffère grandement des coûts utilisés dans le modèle. Assurez-vous qu'il ne s'agit pas d'une erreur de saisie",""))
A18: Frais de mise en marché | D18: =39.03/4.2 -> 9.2928571 | E18: 39.03
A19: Forfait et location | E19: 160.85
A20: Entretien | E20: 200.93
A21: Énergie | D21: =106.62/4.2 -> 25.385714 | E21: 106.62 | H21: =IF(G21="","",IF(OR(G21>E21*(1+0.5),G21<E21*(1-0.5)),"La valeur saisie diffère grandement des coûts utilisés dans le modèle. Assurez-vous qu'il ne s'agit pas d'une erreur de saisie",""))
A22: Taxes et assurances | E22: 55.35 | H22: =IF(G22="","",IF(OR(G22>E22*(1+0.5),G22<E22*(1-0.5)),"La valeur saisie diffère grandement des coûts utilisés dans le modèle. Assurez-vous qu'il ne s'agit pas d'une erreur de saisie",""))
A23: Frais de financement | E23: 93.52 | H23: =IF(G23="","",IF(OR(G23>E23*(1+0.5),G23<E23*(1-0.5)),"La valeur saisie diffère grandement des coûts utilisés dans le modèle. Assurez-vous qu'il ne s'agit pas d'une erreur de saisie",""))
A24: Autres frais | E24: 77.24 | H24: =IF(G24="","",IF(OR(G24>E24*(1+0.5),G24<E24*(1-0.5)),"La valeur saisie diffère grandement des coûts utilisés dans le modèle. Assurez-vous qu'il ne s'agit pas d'une erreur de saisie",""))
B25: Sous-total | E25: =SUM(E16:E24) -> 1060.21 | G25: =SUM(G16:G24) -> 0
A27: MARGE BÉNÉFICIAIRE APRÈS FRAIS MONÉTAIRES (MARGE MONÉTAIRE) | E27: =E12-E25 -> 1194.38 | G27: =G12-G25 -> 2024.085
A29: FRAIS NON MONÉTAIRE
A30: Amortissements | E30: 254.5 | H30: =IF(G30="","",IF(OR(G30>E30*(1+0.5),G30<E30*(1-0.5)),"La valeur saisie diffère grandement des coûts utilisés dans le modèle. Assurez-vous qu'il ne s'agit pas d'une erreur de saisie",""))
A31: Rénumération du travail de l'exploitant | E31: 324.72 | H31: =IF(G31="","",IF(OR(G31>E31*(1+0.5),G31<E31*(1-0.5)),"La valeur saisie diffère grandement des coûts utilisés dans le modèle. Assurez-vous qu'il ne s'agit pas d'une erreur de saisie",""))
B32: Sous-total | E32: =SUM(E30:E31) -> 579.22 | G32: =SUM(G30:G31) -> 0
A34: MARGE BÉNÉFICIAIRE APRÈS LES AMORTISSEMENTS ET LES RÉNUMÉRATIONS DU TRAVAIL ET DE L'AVOIR (MARGE NETTE) | E34: =E27-E32 -> 615.16 | G34: =G27-G32 -> 2024.085

Sheet Cultures de couverture
A1: Trèfle rouge semis pur précédant un maïs
B2: Quantité (kg/ha) | C2: Prix ($/25kg) | D2: Total ($/ha) | E2: Total ($/ha)
A3: Coûts de semences
A4: Trèfle rouge | B4: =(4+15)/2 -> 9.5 | C4: 190.46 | D4: =ROUND(B4/25*C4,2) -> 72.37
A5: Opérations de semis | E5: =SUM(D4:D4) -> 72.37
A6: Coûts de semis-direct | E6: 54.45
A8: Coût total de la culture de couverture | E8: =E5+E6 -> 126.82
A11: Correspond à un semis pure de trèfle rouge. Les doses de semis proviennent du guide des cultures de couverture en grandes cultures provenant du CRAAQ. Le coût des semences provient des références économiques du CRAAQ sur les grains de semences. Le coût du semis-direct provient des références économique du CRAAQ sur la machinerie.

Sheet ASRA_Calculs
A1: 2020-2021 | B1: Revenu stabilisé ajusté | C1: Prix de marché | D1: Rendement du modèle
A2: Maïs-grain | B2: 0 | C2: 0 | D2: 0
A3: Soya | B3: 0 | C3: 0 | D3: 0
A4: Orge | B4: 240.5 | C4: 240.12 | D4: 3.21
A5: Avoine | B5: 272.29 | C5: 243.64 | D5: 2.8
A6: Blé d'alimentation humaine | B6: 277.09 | C6: 276.01 | D6: 3.73
A7: Blé d'alimentation animale | B7: 257.53 | C7: 283.1 | D7: 3.56
A8: Seigle | B8: 0 | C8: 0 | D8: 0

Sheet Rendements_CECPA
A1: tm/ha
B2: Centrale Biologique
A3: Maïs-grain | B3: 8.5
A4: Soya | B4: 2.6
A5: Orge | B5: 2.9
A6: Avoine | B6: 2.2
A7: Blé d'automne | B7: =ROUND(B8*1.35,1) -> 3.2
A8: Blé de printemps | B8: 2.4
A9: Seigle | B9: 2.1
A10: Seigle hybride | B10: =B7+1 -> 4.2
A12: Région & Régie | B12: =Saisies!B1&" "&Saisies!B2 -> Centrale Biologique

Sheet Prix_CECPA
A1: $/tm
B2: Centrale Biologique
A3: Maïs-grain | B3: 431.7
A4: Soya | B4: 1018
A5: Orge | B5: 565
A6: Avoine | B6: 435
A7: Blé d'automne | B7: =B8 -> 569.8
A8: Blé de printemps | B8: 569.8
A9: Seigle | B9: 462.5
A10: Seigle hybride | B10: 462.5
A12: Région et Régie | B12: =Saisies!B1&" "&Saisies!B2 -> Centrale Biologique

Sheet Intermédiaire_Prod-Résultats
D1: Aucun gains agronomiques | AB1: 50 % de gains agronomiques | AZ1: 100 % de gains agronomiques
D2: =Saisies!B1 -> Centrale | E2: Votre ferme | G2: =D2 -> Centrale | H2: Votre ferme | J2: =G2 -> Centrale | K2: Votre ferme | M2: =J2 -> Centrale | N2: Votre ferme | P2: =M2 -> Centrale | Q2: Votre ferme | S2: =P2 -> Centrale | T2: Votre ferme | V2: Centrale | W2: Votre ferme | Y2: Centrale | Z2: Votre ferme | AB2: =D2 -> Centrale | AC2: Votre ferme | AE2: =AB2 -> Centrale | AF2: Votre ferme | AH2: =AE2 -> Centrale | AI2: Votre ferme | AK2: =AH2 -> Centrale | AL2: Votre ferme | AN2: =AK2 -> Centrale | AO2: Votre ferme | AQ2: =AN2 -> Centrale | AR2: Votre ferme | AT2: =AQ2 -> Centrale | AU2: =AR2 -> Votre ferme | AW2: =AT2 -> Centrale | AX2: =AU2 -> Votre ferme | AZ2: =AB2 -> Centrale | BA2: Votre ferme | BC2: =AZ2 -> Centrale | BD2: Votre ferme | BF2: =BC2 -> Centrale | BG2: Votre ferme | BI2: =BF2 -> Centrale | BJ2: Votre ferme | BL2: =BI2 -> Centrale | BM2: Votre ferme | BO2: =BL2 -> Centrale | BP2: Votre ferme | BR2: =BO2 -> Centrale | BS2: =BP2 -> Votre ferme | BU2: =BR2 -> Centrale | BV2: =BS2 -> Votre ferme
D3: Maïs-grain | E3: Maïs-grain | G3: Soya | H3: Soya | J3: Orge | K3: Orge | M3: Avoine | N3: Avoine | P3: Blé d'automne | Q3: =P3 -> Blé d'automne | S3: Blé de printemps | T3: Blé de printemps | V3: Seigle | W3: Seigle | Y3: Seigle hybride | Z3: Seigle hybride | AB3: Maïs-grain | AC3: Maïs-grain | AE3: Soya | AF3: Soya | AH3: Orge | AI3: Orge | AK3: Avoine | AL3: Avoine | AN3: Blé d'automne | AO3: =AN3 -> Blé d'automne | AQ3: Blé de printemps | AR3: Blé de printemps | AT3: Seigle | AU3: Seigle | AW3: Seigle hybride | AX3: Seigle hybride | AZ3: Maïs-grain | BA3: Maïs-grain | BC3: Soya | BD3: Soya | BF3: Orge | BG3: Orge | BI3: Avoine | BJ3: Avoine | BL3: Blé d'automne | BM3: =BL3 -> Blé d'automne | BO3: Blé de printemps | BP3: Blé de printemps | BR3: Seigle | BS3: Seigle | BU3: Seigle hybride | BV3: Seigle hybride
A4: PRODUITS
A5: Vente | D5: ='Maïs-grain'!E5*(1+Saisies!B39*Saisies!B59) -> 3669.45 | E5: =IF('Maïs-grain'!G5="",'Intermédiaire_Prod-Résultats'!D5,'Maïs-grain'!G5)*(1+IF(Saisies!C39="",Saisies!B39,Saisies!C39)*IF(Saisies!C59="",Saisies!B59,Saisies!C59)) -> 3669.45 | G5: =Soya!E5*(1+Saisies!B40*Saisies!B59) -> 2646.8 | H5: =IF(Soya!G5="",'Intermédiaire_Prod-Résultats'!G5,Soya!G5)*(1+IF(Saisies!C40="",Saisies!B40,Saisies!C40)*IF(Saisies!C59="",Saisies!B59,Saisies!C59)) -> 2646.8 | J5: =Orge!E5*(1+Saisies!B41*Saisies!B59) -> 1638.5 | K5: =IF(Orge!G5="",'Intermédiaire_Prod-Résultats'!J5,Orge!G5)*(1+IF(Saisies!C41="",Saisies!B41,Saisies!C41)*IF(Saisies!C59="",Saisies!B59,Saisies!C59)) -> 1638.5 | M5: =Avoine!E5*(1+Saisies!B42*Saisies!B59) -> 957 | N5: =IF(Avoine!G5="",'Intermédiaire_Prod-Résultats'!M5,Avoine!G5)*(1+IF(Saisies!C42="",Saisies!B42,Saisies!C42)*IF(Saisies!C59="",Saisies!B59,Saisies!C59)) -> 957 | P5: ='Blé_d''automne'!E5*(1+Saisies!B44*Saisies!B59) -> 1823.36 | Q5: =IF('Blé_d''automne'!G5="",'Intermédiaire_Prod-Résultats'!P5,'Blé_d''automne'!G5)*(1+IF(Saisies!C44="",Saisies!B44,Saisies!C44)*IF(Saisies!C59="",Saisies!B59,Saisies!C59)) -> 1823.36 | S5: =Blé_printemps!E5*(1+Saisies!B43*Saisies!B59) -> 1367.52 | T5: =IF(Blé_printemps!G5="",'Intermédiaire_Prod-Résultats'!S5,Blé_printemps!G5)*(1+IF(Saisies!C43="",Saisies!B43,Saisies!C43)*IF(Saisies!C59="",Saisies!B59,Saisies!C59)) -> 1367.52 | V5: =Seigle!E5*(1+Saisies!B45*Saisies!B59) -> 971.25 | W5: =IF(Seigle!G5="",'Intermédiaire_Prod-Résultats'!V5,Seigle!G5)*(1+IF(Saisies!C45="",Saisies!B45,Saisies!C45)*IF(Saisies!C59="",Saisies!B59,Saisies!C59)) -> 971.25 | Y5: =Seigle_hybride!E5*(1+Saisies!B46*Saisies!B59) -> 1942.5 | Z5: =IF(Seigle_hybride!G5="",'Intermédiaire_Prod-Résultats'!Y5,Seigle_hybride!G5)*(1+IF(Saisies!C46="",Saisies!B46,Saisies!C46)*IF(Saisies!C59="",Saisies!B59,Saisies!C59)) -> 1942.5 | AB5: ='Maïs-grain'!E5*(1+Saisies!B39*Saisies!B60) -> 3669.45 | AC5: =IF('Maïs-grain'!G5="",'Intermédiaire_Prod-Résultats'!AB5,'Maïs-grain'!G5)*(1+IF(Saisies!C39="",Saisies!B39,Saisies!C39)*IF(Saisies!C60="",Saisies!B60,Saisies!C60)) -> 3669.45 | AE5: =Soya!E5*(1+Saisies!B40*Saisies!B60) -> 2646.8 | AF5: =IF(Soya!G5="",'Intermédiaire_Prod-Résultats'!AE5,Soya!G5)*(1+IF(Saisies!C40="",Saisies!B40,Saisies!C40)*IF(Saisies!C60="",Saisies!B60,Saisies!C60)) -> 2646.8 | AH5: =Orge!E5*(1+Saisies!B41*Saisies!B60) -> 1638.5 | AI5: =IF(Orge!G5="",'Intermédiaire_Prod-Résultats'!AH5,Orge!G5)*(1+IF(Saisies!C41="",Saisies!B41,Saisies!C41)*IF(Saisies!C60="",Saisies!B60,Saisies!C60)) -> 1638.5 | AK5: =Avoine!E5*(1+Saisies!B42*Saisies!B60) -> 957 | AL5: =IF(Avoine!G5="",'Intermédiaire_Prod-Résultats'!AK5,Avoine!G5)*(1+IF(Saisies!C42="",Saisies!B42,Saisies!C42)*IF(Saisies!C60="",Saisies!B60,Saisies!C60)) -> 957 | AN5: ='Blé_d''automne'!E5*(1+Saisies!B44*Saisies!B60) -> 1823.36 | AO5: =IF('Blé_d''automne'!G5="",'Intermédiaire_Prod-Résultats'!AN5,'Blé_d''automne'!G5)*(1+IF(Saisies!C44="",Saisies!B44,Saisies!C44)*IF(Saisies!C60="",Saisies!B60,Saisies!C60)) -> 1823.36 | AQ5: =Blé_printemps!E5*(1+Saisies!B43*Saisies!B60) -> 1367.52 | AR5: =IF(Blé_printemps!G5="",'Intermédiaire_Prod-Résultats'!AQ5,Blé_printemps!G5)*(1+IF(Saisies!C43="",Saisies!B43,Saisies!C43)*IF(Saisies!C60="",Saisies!B60,Saisies!C60)) -> 1367.52 | AT5: =Seigle!E5*(1+Saisies!B45*Saisies!B60) -> 971.25 | AU5: =IF(Seigle!G5="",'Intermédiaire_Prod-Résultats'!AT5,Seigle!G5)*(1+IF(Saisies!C45="",Saisies!B45,Saisies!C45)*IF(Saisies!C60="",Saisies!B60,Saisies!C60)) -> 971.25 | AW5: =Seigle_hybride!E5*(1+Saisies!B46*Saisies!B60) -> 1942.5 | AX5: =IF(Seigle_hybride!G5="",'Intermédiaire_Prod-Résultats'!AW5,Seigle_hybride!G5)*(1+IF(Saisies!C46="",Saisies!B46,Saisies!C46)*IF(Saisies!C60="",Saisies!B60,Saisies!C60)) -> 1942.5 | AZ5: ='Maïs-grain'!E5*(1+Saisies!B39*Saisies!B61) -> 3669.45 | BA5: =IF('Maïs-grain'!G5="",IF(Saisies!C8="",Saisies!B8,Saisies!C8)*IF(Saisies!C21="",Saisies!B21,Saisies!C21),'Maïs-grain'!G5)*(1+IF(Saisies!C39="",Saisies!B39,Saisies!C39)*IF(Saisies!C61="",Saisies!B61,Saisies!C61)) -> 3669.45 | BC5: =Soya!E5*(1+Saisies!B40*Saisies!B61) -> 2646.8 | BD5: =IF(Soya!G5="",'Intermédiaire_Prod-Résultats'!BC5,Soya!G5)*(1+IF(Saisies!C40="",Saisies!B40,Saisies!C40)*IF(Saisies!C61="",Saisies!B61,Saisies!C61)) -> 2646.8 | BF5: =Orge!E5*(1+Saisies!B41*Saisies!B61) -> 1638.5 | BG5: =IF(Orge!G5="",'Intermédiaire_Prod-Résultats'!BF5,Orge!G5)*(1+IF(Saisies!C41="",Saisies!B41,Saisies!C41)*IF(Saisies!C61="",Saisies!B61,Saisies!C61)) -> 1638.5 | BI5: =Avoine!E5*(1+Saisies!B42*Saisies!B61) -> 957 | BJ5: =IF(Avoine!G5="",'Intermédiaire_Prod-Résultats'!BI5,Avoine!G5)*(1+IF(Saisies!C42="",Saisies!B42,Saisies!C42)*IF(Saisies!C61="",Saisies!B61,Saisies!C61)) -> 957 | BL5: ='Blé_d''automne'!E5*(1+Saisies!B44*Saisies!B61) -> 1823.36 | BM5: =IF('Blé_d''automne'!G5="",'Intermédiaire_Prod-Résultats'!BL5,'Blé_d''automne'!G5)*(1+IF(Saisies!C44="",Saisies!B44,Saisies!C44)*IF(Saisies!C61="",Saisies!B61,Saisies!C61)) -> 1823.36 | BO5: =Blé_printemps!E5*(1+Saisies!B43*Saisies!B61) -> 1367.52 | BP5: =IF(Blé_printemps!G5="",'Intermédiaire_Prod-Résultats'!BO5,Blé_printemps!G5)*(1+IF(Saisies!C43="",Saisies!B43,Saisies!C43)*IF(Saisies!C61="",Saisies!B61,Saisies!C61)) -> 1367.52 | BR5: =Seigle!E5*(1+Saisies!B45*Saisies!B61) -> 971.25 | BS5: =IF(Seigle!G5="",'Intermédiaire_Prod-Résultats'!BR5,Seigle!G5)*(1+IF(Saisies!C45="",Saisies!B45,Saisies!C45)*IF(Saisies!C61="",Saisies!B61,Saisies!C61)) -> 971.25 | BU5: =Seigle_hybride!E5*(1+Saisies!B46*Saisies!B61) -> 1942.5 | BV5: =IF(Seigle_hybride!G5="",'Intermédiaire_Prod-Résultats'!BU5,Seigle_hybride!G5)*(1+IF(Saisies!C46="",Saisies!B46,Saisies!C46)*IF(Saisies!C61="",Saisies!B61,Saisies!C61)) -> 1942.5
A6: Compensation d'assurance stabilisation | D6: ='Maïs-grain'!E6 -> 0 | E6: =IF('Maïs-grain'!G6="",'Intermédiaire_Prod-Résultats'!D6,'Maïs-grain'!G6) -> 0 | G6: =Soya!E6 -> 0 | H6: =IF(Soya!G6="",'Intermédiaire_Prod-Résultats'!G6,Soya!G6) -> 0 | J6: =Orge!E6 -> 0 | K6: =IF(Orge!G6="",'Intermédiaire_Prod-Résultats'!J6,Orge!G6) -> 0 | M6: =Avoine!E6 -> 0 | N6: =IF(Avoine!G6="",'Intermédiaire_Prod-Résultats'!M6,Avoine!G6) -> 0 | P6: ='Blé_d''automne'!E6 -> 0 | Q6: =IF('Blé_d''automne'!G6="",'Intermédiaire_Prod-Résultats'!P6,'Blé_d''automne'!G6) -> 0 | S6: =Blé_printemps!E6 -> 0 | T6: =IF(Blé_printemps!G6="",'Intermédiaire_Prod-Résultats'!S6,Blé_printemps!G6) -> 0 | V6: =Seigle!E6 -> 0 | W6: =IF(Seigle!G6="",'Intermédiaire_Prod-Résultats'!V6,Seigle!G6) -> 0 | Y6: =Seigle_hybride!E6 -> 0 | Z6: =IF(Seigle_hybride!G6="",'Intermédiaire_Prod-Résultats'!Y6,Seigle_hybride!G6) -> 0 | AB6: ='Maïs-grain'!E6 -> 0 | AC6: =IF('Maïs-grain'!G6="",'Intermédiaire_Prod-Résultats'!AB6,'Maïs-grain'!G6) -> 0 | AE6: =Soya!E6 -> 0 | AF6: =IF(Soya!G6="",'Intermédiaire_Prod-Résultats'!AE6,Soya!G6) -> 0 | AH6: =Orge!E6 -> 0 | AI6: =IF(Orge!G6="",'Intermédiaire_Prod-Résultats'!AH6,Orge!G6) -> 0 | AK6: =Avoine!E6 -> 0 | AL6: =IF(Avoine!G6="",'Intermédiaire_Prod-Résultats'!AK6,Avoine!G6) -> 0 | AN6: ='Blé_d''automne'!E6 -> 0 | AO6: =IF('Blé_d''automne'!G6="",'Intermédiaire_Prod-Résultats'!AN6,'Blé_d''automne'!G6) -> 0 | AQ6: =Blé_printemps!E6 -> 0 | AR6: =IF(Blé_printemps!G6="",'Intermédiaire_Prod-Résultats'!AQ6,Blé_printemps!G6) -> 0 | AT6: =Seigle!E6 -> 0 | AU6: =IF(Seigle_hybride!G6="",'Intermédiaire_Prod-Résultats'!AT6,Seigle_hybride!G6) -> 0 | AW6: =Seigle_hybride!E6 -> 0 | AX6: =IF(Seigle_hybride!G6="",'Intermédiaire_Prod-Résultats'!AW6,Seigle_hybride!G6) -> 0 | AZ6: ='Maïs-grain'!E6 -> 0 | BA6: =IF('Maïs-grain'!G6="",'Intermédiaire_Prod-Résultats'!AZ6,'Maïs-grain'!G6) -> 0 | BC6: =Soya!E6 -> 0 | BD6: =IF(Soya!G6="",'Intermédiaire_Prod-Résultats'!BC6,Soya!G6) -> 0 | BF6: =Orge!E6 -> 0 | BG6: =IF(Orge!G6="",'Intermédiaire_Prod-Résultats'!BF6,Orge!G6) -> 0 | BI6: =Avoine!E6 -> 0 | BJ6: =IF(Avoine!G6="",'Intermédiaire_Prod-Résultats'!BI6,Avoine!G6) -> 0 | BL6: ='Blé_d''automne'!E6 -> 0 | BM6: =IF('Blé_d''automne'!G6="",'Intermédiaire_Prod-Résultats'!BL6,'Blé_d''automne'!G6) -> 0 | BO6: =Blé_printemps!E6 -> 0 | BP6: =IF(Blé_printemps!G6="",'Intermédiaire_Prod-Résultats'!BO6,Blé_printemps!G6) -> 0 | BR6: =Seigle!E6 -> 0 | BS6: =IF(Seigle!G6="",'Intermédiaire_Prod-Résultats'!BR6,Seigle!G6) -> 0 | BU6: =Seigle_hybride!E6 -> 0 | BV6: =IF(Seigle_hybride!G6="",'Intermédiaire_Prod-Résultats'!BU6,Seigle_hybride!G6) -> 0
A7: Revenus de sous-produits | D7: ='Maïs-grain'!E7 -> 0 | E7: =IF('Maïs-grain'!G7="",'Intermédiaire_Prod-Résultats'!D7,'Maïs-grain'!G7) -> 0 | G7: =Soya!E7 -> 0 | H7: =IF(Soya!G7="",'Intermédiaire_Prod-Résultats'!G7,Soya!G7) -> 0 | J7: =Orge!E7 -> 0 | K7: =IF(Orge!G7="",'Intermédiaire_Prod-Résultats'!J7,Orge!G7) -> 0 | M7: =Avoine!E7 -> 0 | N7: =IF(Avoine!G7="",'Intermédiaire_Prod-Résultats'!M7,Avoine!G7) -> 0 | P7: ='Blé_d''automne'!E7 -> 0 | Q7: =IF('Blé_d''automne'!G7="",'Intermédiaire_Prod-Résultats'!P7,'Blé_d''automne'!G7) -> 0 | S7: =Blé_printemps!E7 -> 0 | T7: =IF(Blé_printemps!G7="",'Intermédiaire_Prod-Résultats'!S7,Blé_printemps!G7) -> 0 | V7: =Seigle!E7 -> 0 | W7: =IF(Seigle!G7="",'Intermédiaire_Prod-Résultats'!V7,Seigle!G7) -> 0 | Y7: =Seigle_hybride!E7 -> 0 | Z7: =IF(Seigle_hybride!G7="",'Intermédiaire_Prod-Résultats'!Y7,Seigle_hybride!G7) -> 0 | AB7: ='Maïs-grain'!E7 -> 0 | AC7: =IF('Maïs-grain'!G7="",'Intermédiaire_Prod-Résultats'!AB7,'Maïs-grain'!G7) -> 0 | AE7: =Soya!E7 -> 0 | AF7: =IF(Soya!G7="",'Intermédiaire_Prod-Résultats'!AE7,Soya!G7) -> 0 | AH7: =Orge!E7 -> 0 | AI7: =IF(Orge!G7="",'Intermédiaire_Prod-Résultats'!AH7,Orge!G7) -> 0 | AK7: =Avoine!E7 -> 0 | AL7: =IF(Avoine!G7="",'Intermédiaire_Prod-Résultats'!AK7,Avoine!G7) -> 0 | AN7: ='Blé_d''automne'!E7 -> 0 | AO7: =IF('Blé_d''automne'!G7="",'Intermédiaire_Prod-Résultats'!AN7,'Blé_d''automne'!G7) -> 0 | AQ7: =Blé_printemps!E7 -> 0 | AR7: =IF(Blé_printemps!G7="",'Intermédiaire_Prod-Résultats'!AQ7,Blé_printemps!G7) -> 0 | AT7: =Seigle!E7 -> 0 | AU7: =IF(Seigle_hybride!G7="",'Intermédiaire_Prod-Résultats'!AT7,Seigle_hybride!G7) -> 0 | AW7: =Seigle_hybride!E7 -> 0 | AX7: =IF(Seigle_hybride!G7="",'Intermédiaire_Prod-Résultats'!AW7,Seigle_hybride!G7) -> 0 | AZ7: ='Maïs-grain'!E7 -> 0 | BA7: =IF('Maïs-grain'!G7="",'Intermédiaire_Prod-Résultats'!AZ7,'Maïs-grain'!G7) -> 0 | BC7: =Soya!E7 -> 0 | BD7: =IF(Soya!G7="",'Intermédiaire_Prod-Résultats'!BC7,Soya!G7) -> 0 | BF7: =Orge!E7 -> 0 | BG7: =IF(Orge!G7="",'Intermédiaire_Prod-Résultats'!BF7,Orge!G7) -> 0 | BI7: =Avoine!E7 -> 0 | BJ7: =IF(Avoine!G7="",'Intermédiaire_Prod-Résultats'!BI7,Avoine!G7) -> 0 | BL7: ='Blé_d''automne'!E7 -> 0 | BM7: =IF('Blé_d''automne'!G7="",'Intermédiaire_Prod-Résultats'!BL7,'Blé_d''automne'!G7) -> 0 | BO7: =Blé_printemps!E7 -> 0 | BP7: =IF(Blé_printemps!G7="",'Intermédiaire_Prod-Résultats'!BO7,Blé_printemps!G7) -> 0 | BR7: =Seigle!E7 -> 0 | BS7: =IF(Seigle!G7="",'Intermédiaire_Prod-Résultats'!BR7,Seigle!G7) -> 0 | BU7: =Seigle_hybride!E7 -> 0 | BV7: =IF(Seigle_hybride!G7="",'Intermédiaire_Prod-Résultats'!BU7,Seigle_hybride!G7) -> 0
A8: Agri-Québec et Agri-Investissement | D8: =(D5-D15)*0.042 -> 138.68442 | E8: =(E5-E15)*0.042 -> 138.68442 | G8: =(G5-G15)*0.042 -> 102.17256 | H8: =(H5-H15)*0.042 -> 102.17256 | J8: =(J5-J15)*0.01 -> 13.9301 | K8: =(K5-K15)*0.01 -> 13.9301 | M8: =(M5-M15)*0.01 -> 8.0924 | N8: =(N5-N15)*0.01 -> 8.0924 | P8: =(P5-P15)*0.01 -> 16.077209 | Q8: =(Q5-Q15)*0.01 -> 16.077209 | S8: =(S5-S15)*0.01 -> 11.3565 | T8: =(T5-T15)*0.01 -> 11.3565 | V8: =(V5-V15)*0.01 -> 8.3794 | W8: =(W5-W15)*0.01 -> 8.3794 | Y8: =(Y5-Y15)*0.01 -> 16.7588 | Z8: =(Z5-Z15)*0.01 -> 16.7588 | AB8: =(AB5-AB15)*0.042 -> 138.68442 | AC8: =(AC5-AC15)*0.042 -> 138.68442 | AE8: =(AE5-AE15)*0.042 -> 102.17256 | AF8: =(AF5-AF15)*0.042 -> 102.17256 | AH8: =(AH5-AH15)*0.01 -> 13.9301 | AI8: =(AI5-AI15)*0.01 -> 13.9301 | AK8: =(AK5-AK15)*0.01 -> 8.0924 | AL8: =(AL5-AL15)*0.01 -> 8.0924 | AN8: =(AN5-AN15)*0.01 -> 16.077209 | AO8: =(AO5-AO15)*0.01 -> 16.077209 | AQ8: =(AQ5-AQ15)*0.01 -> 11.3565 | AR8: =(AR5-AR15)*0.01 -> 11.3565 | AT8: =(AT5-AT15)*0.01 -> 8.3794 | AU8: =(AU5-AU15)*0.01 -> 8.3794 | AW8: =(AW5-AW15)*0.01 -> 16.7588 | AX8: =(AX5-AX15)*0.01 -> 16.7588 | AZ8: =(AZ5-AZ15)*0.042 -> 138.68442 | BA8: =(BA5-BA15)*0.042 -> 138.68442 | BC8: =(BC5-BC15)*0.042 -> 102.17256 | BD8: =(BD5-BD15)*0.042 -> 102.17256 | BF8: =(BF5-BF15)*0.01 -> 13.9301 | BG8: =(BG5-BG15)*0.01 -> 13.9301 | BI8: =(BI5-BI15)*0.01 -> 8.0924 | BJ8: =(BJ5-BJ15)*0.01 -> 8.0924 | BL8: =(BL5-BL15)*0.01 -> 16.077209 | BM8: =(BM5-BM15)*0.01 -> 16.077209 | BO8: =(BO5-BO15)*0.01 -> 11.3565 | BP8: =(BP5-BP15)*0.01 -> 11.3565 | BR8: =(BR5-BR15)*0.01 -> 8.3794 | BS8: =(BS5-BS15)*0.01 -> 8.3794 | BU8: =(BU5-BU15)*0.01 -> 16.7588 | BV8: =(BV5-BV15)*0.01 -> 16.7588
